BEGIN:VCALENDAR
VERSION:2.0
PRODID:-//www.kulturniradce.cz - ECPv6.15.20//NONSGML v1.0//EN
CALSCALE:GREGORIAN
METHOD:PUBLISH
X-WR-CALNAME:www.kulturniradce.cz
X-ORIGINAL-URL:https://kulturniradce.cz
X-WR-CALDESC:Akce na www.kulturniradce.cz
REFRESH-INTERVAL;VALUE=DURATION:PT1H
X-Robots-Tag:noindex
X-PUBLISHED-TTL:PT1H
BEGIN:VTIMEZONE
TZID:Europe/Prague
BEGIN:DAYLIGHT
TZOFFSETFROM:+0100
TZOFFSETTO:+0200
TZNAME:CEST
DTSTART:20250330T010000
END:DAYLIGHT
BEGIN:STANDARD
TZOFFSETFROM:+0200
TZOFFSETTO:+0100
TZNAME:CET
DTSTART:20251026T010000
END:STANDARD
BEGIN:DAYLIGHT
TZOFFSETFROM:+0100
TZOFFSETTO:+0200
TZNAME:CEST
DTSTART:20260329T010000
END:DAYLIGHT
BEGIN:STANDARD
TZOFFSETFROM:+0200
TZOFFSETTO:+0100
TZNAME:CET
DTSTART:20261025T010000
END:STANDARD
BEGIN:DAYLIGHT
TZOFFSETFROM:+0100
TZOFFSETTO:+0200
TZNAME:CEST
DTSTART:20270328T010000
END:DAYLIGHT
BEGIN:STANDARD
TZOFFSETFROM:+0200
TZOFFSETTO:+0100
TZNAME:CET
DTSTART:20271031T010000
END:STANDARD
END:VTIMEZONE
BEGIN:VEVENT
DTSTART;TZID=Europe/Prague:20260419T100000
DTEND;TZID=Europe/Prague:20260419T130000
DTSTAMP:20260419T142828
CREATED:20251114T184809Z
LAST-MODIFIED:20251114T184810Z
UID:6337-1776592800-1776603600@kulturniradce.cz
SUMMARY:Muzikál Tlapkové patroly | JIHLAVA
DESCRIPTION:Muzikál Tlapkové patroly | JIHLAVA se uskuteční dne 2026-04-19 v 10:00 v Jihlava\, DKO. \n🎟️ Koupit vstupenku \n\nOblíbení hrdinové z Tlapkové patroly se chystají na své jediné rodinné muzikálové turné v České republice\, které se už nikdy nebude opakovat!Populární psí záchranáři přinášejí show\, která nadchne malé i velké diváky.🐶 \nČeká vás nezapomenutelný rodinný muzikál plný hudby\, tance a dobrodružství!Děti se mohou těšit na Chase\, Marshalla\, Skye i další statečné pejsky\, kteří předvedou napínavý příběh v doprovodu pohádkové atmosféry 🌈 \nMuzikál Tlapkové patroly vykouzlí úsměv na tváři každému dítěti a nabídne jedinečnou možnost zažít jejich dobrodružství naživo! 🎭 \n🚨 POZOR! 🚨👉 JEDINÉ turné v ČR\, které se už nikdy nebude opakovat! \n🕤 Otevření sálu: od 9:30🎬 Představení: 10:00 – 11:00⏰ Konec programu: přibližně v 11:30 \nNepropásněte tuto jedinečnou příležitost a zajistěte si své vstupenky včas! 🎟️🌟 \n\nTento tip na kulturní akci v Jihlava najdete v přehledu na KulturníRádce.cz spolu s dalšími koncerty\, festivaly a divadelními představeními.
URL:https://kulturniradce.cz/event/muzikal-tlapkove-patroly-jihlava/
LOCATION:DKO\, Jihlava\, DKO\, Jihlava\, Česká republika
CATEGORIES:Zábava
ATTACH;FMTTYPE=image/jpeg:https://kulturniradce.cz/wp-content/uploads/2025/11/320-219b203f43474fb6930b020a0fd101eb.jpg
END:VEVENT
BEGIN:VEVENT
DTSTART;TZID=Europe/Prague:20260419T180000
DTEND;TZID=Europe/Prague:20260419T210000
DTSTAMP:20260419T142828
CREATED:20260317T083132Z
LAST-MODIFIED:20260317T083133Z
UID:13203-1776621600-1776632400@kulturniradce.cz
SUMMARY:Two Voices - Koncert klasiky netradičně
DESCRIPTION:Two Voices – Koncert klasiky netradičně se uskuteční dne 2026-04-19 v 18:00 v Staré Ždánice\, Zámeček Staré Ždánice. \n🎟️ Koupit vstupenku \n\nTwo Voices – koncert klasiky netradičně \nZažijte nevšední koncert dvou výjimečných zpěvaček v doprovodu kytary\, který propojuje slavné melodie klasické hudby s originálními\, vtipnými a překvapivě současnými texty. Koncert\, který potěší\, pobaví a mile překvapí. \nJana Rychterová – zpěv\, texty\, kytara \nPísničkářka a rozhlasová moderátorka Jana Rychterová je autorkou všech textů projektu Two Voices. Do známých klasických melodií vnáší s lehkostí a nadhledem témata každodenního života – od jídla přes sklerózu a navigaci až po beton. Právě tato hravost a inteligentní humor dává koncertu jeho jedinečný charakter.Jana Rychterová působí také jako moderátorka Českého rozhlasu\, kde ji můžete slyšet na Rádiu Junior a v pořadu Noční Mikrofórum na stanici Dvojka. \nDája Šimíčková – zpěv \nÚspěšná jazzová zpěvačka Dája Šimíčková se k „bláznivé klasice“ Two Voices připojila v roce 2011 – a naštěstí už zůstala. Její zvonivý soprán je ozdobou jemných i humorných písní a vytváří dokonalý kontrast k hravým textům.Vedle projektu Two Voices se věnuje také své velké lásce – „starému jazzu“\, který interpretuje se svou kapelou Shadde Yadda Quartet. \nKoncert se uskuteční v komorním a domácím prostředí hudebního salónu ždánického zámečku a je určen pro exkluzivní počet 40 hostů\, což zaručí blízký kontakt s interprety i výjimečný zážitek. \nBěhem přestávky i po skončení koncertu\, doplněného o vynikající domácí občerstvení\, bude prostor pro osobní setkání s umělkyněmi\, rozhovor či společnou fotografii. \nVečerem vás provede majitel zámečku Nathaniel Filip de Aras. \nDress code: Smart Casual – ležérní elegance (Prosíme dámy\, aby nenosily lodičky s ostrým podpatkem\, které nesvědčí dřevěné podlaze) \nParkování aut je doporučeno v okolí Staroždánické hospůdky (parkoviště je vedle hospody i v ulici ke kostelu) \nProgram potrvá přibližně 120 minut \n\nTento tip na kulturní akci v Staré Ždánice najdete v přehledu na KulturníRádce.cz spolu s dalšími koncerty\, festivaly a divadelními představeními.
URL:https://kulturniradce.cz/event/two-voices-koncert-klasiky-netradicne/
LOCATION:Zámeček Staré Ždánice\, Staré Ždánice\, Zámeček Staré Ždánice\, Staré Ždánice\, Česká republika
CATEGORIES:Koncert
ATTACH;FMTTYPE=image/jpeg:https://kulturniradce.cz/wp-content/uploads/2026/03/320-7b1a2eaf6f24475cb8a2e85e0f415319.jpg
END:VEVENT
BEGIN:VEVENT
DTSTART;TZID=Europe/Prague:20260419T183000
DTEND;TZID=Europe/Prague:20260419T213000
DTSTAMP:20260419T142828
CREATED:20251215T111216Z
LAST-MODIFIED:20251215T111216Z
UID:8488-1776623400-1776634200@kulturniradce.cz
SUMMARY:Světová hudba pro 4 saxofony a zpěv
DESCRIPTION:Světová hudba pro 4 saxofony a zpěv se uskuteční dne 2026-04-19 v 18:30 v Pardubice\, Evangelický kostel . \n🎟️ Koupit vstupenku \n\nPojďte si užít zbrusu nový program pro 4 saxofony a zpěv v dramaturgicky pestrém koncertu od klasiky\, přes swing a jazz až k moderní hudbě\, včetně aranží písniček Beatles do Evangelického kostela v Pardubicích\, který může být temperován ohřevem z lavic. \n  \nSaxofonové kvarteto FOUR + ONEPetr RANDÍK – soprán saxofon\, Zdeněk ZADRAŽIL – alt saxofon\,Tomáš PUDIVÍTR – tenor saxofon\, Vít DĚDIČ – baryton saxofona Andrea KAŇKOVÁ – zpěv \nPROGRAM:A. VIVALDI – Jaro ze Čtyř ročních období (v úpravě pro saxofony)A. DVOŘÁK – Largo z NovosvětskéE. MORRICONE – Tenkrát na západěJ. KANDER – New York\, New YorkL. COHEN – HallelujahJ. JEŽEK – Bugatti StepG. GERSHWIN – I got rhytmBEATLES – Eleanor RigbyBEATLES – IMAGINEBEATLES – Can´t buy me loveQUEEN – Crazy Little Think Called LoveB. STREISAND – MEMORYW. HOUSTON – I will always love youB. STREISAND – Tell HimB. LISTON – BrazilB. Mc FERRIN – Don´t Worry Be HappyF. SINATRA – My Wayzměna programu a účinkujících vyhrazena\, délka cca 65 minut \n\nTento tip na kulturní akci v Pardubice najdete v přehledu na KulturníRádce.cz spolu s dalšími koncerty\, festivaly a divadelními představeními.
URL:https://kulturniradce.cz/event/svetova-hudba-pro-4-saxofony-a-zpev-3/
LOCATION:Evangelický kostel \, Pardubice\, Evangelický kostel \, Pardubice\, Česká republika
CATEGORIES:Koncert
ATTACH;FMTTYPE=image/jpeg:https://kulturniradce.cz/wp-content/uploads/2025/12/320-fbbbbcb1f76a4e2dbf2098dcee9ba603.jpg
END:VEVENT
BEGIN:VEVENT
DTSTART;TZID=Europe/Prague:20260419T190000
DTEND;TZID=Europe/Prague:20260419T220000
DTSTAMP:20260419T142828
CREATED:20251120T165837Z
LAST-MODIFIED:20251120T165838Z
UID:6527-1776625200-1776636000@kulturniradce.cz
SUMMARY:Martin Hranáč - CRAZY SHOW - Zlín
DESCRIPTION:Martin Hranáč – CRAZY SHOW – Zlín se uskuteční dne 2026-04-19 v 19:00 v Zlín\, Kongresové centrum. \n🎟️ Koupit vstupenku \n\nChcete vstoupit do světa humoru a improvizace? Tak je CRAZY SHOW právě pro VÁS! Připravte se na nezapomenutelný večer plný smíchu s Martinem Hranáčem – komikem\, hercem\, číšníkem a optimistou\, který svým jedinečným smyslem pro humor baví lidi na sociálních sítích. Martinův příběh číšníka a jeho každodenní zážitky z gastronomie se stávají zábavným vyprávěním\, které osloví naprosto všechny. \nKaždé vystoupení je unikátní a plné improvizace\, protože Martin miluje improvizaci a scénáře mění v průběhu večera\, což občas vykolejí jeho sestru Štěpánku Šmídovou\, která mu dělá skvělou společnost během celé show. Všechny scénky a historky vychází z Martinových zkušeností a zážitků\, jak profesního\, tak soukromého života. Jeho humor je nekorektní\, sebeironický a nebojí se jít na hranu – právě to dělá jeho show nezapomenutelnou! \nNenechte si ujít tento jedinečný zážitek! Vstupenky v prodeji! \nPořad není vhodný mladším 15 let! \n\nTento tip na kulturní akci v Zlín najdete v přehledu na KulturníRádce.cz spolu s dalšími koncerty\, festivaly a divadelními představeními.
URL:https://kulturniradce.cz/event/martin-hranac-crazy-show-zlin/
LOCATION:Kongresové centrum\, Zlín\, Kongresové centrum\, Zlín\, Česká republika
CATEGORIES:Zábava
ATTACH;FMTTYPE=image/jpeg:https://kulturniradce.cz/wp-content/uploads/2025/11/320-39a2590e1d2a45359d49def4ef26fdb1.jpg
END:VEVENT
BEGIN:VEVENT
DTSTART;TZID=Europe/Prague:20260419T190000
DTEND;TZID=Europe/Prague:20260419T220000
DTSTAMP:20260419T142828
CREATED:20251214T071504Z
LAST-MODIFIED:20251214T071504Z
UID:8031-1776625200-1776636000@kulturniradce.cz
SUMMARY:Polib tetičku aneb Nikdo není bez chyby
DESCRIPTION:Polib tetičku aneb Nikdo není bez chyby se uskuteční dne 2026-04-19 v 19:00 v Olomouc\, Reduta. \n🎟️ Koupit vstupenku \n\nJan  ČENSKÝ v květovaných šatech a šedivé paruce řádí na jevišti v bláznivé anglické komedii s nespoutaným dějem plným převleků\, svérázného humoru i nezbytného milostného motivu. \nHrají:  Jan ČENSKÝ\,  Miroslava PLEŠTILOVÁ\,  Luděk NEŠLEHA\, Eliška JANSOVÁ / Anna Marie MAROUŠKOVÁ.                                              \n\nTento tip na kulturní akci v Olomouc najdete v přehledu na KulturníRádce.cz spolu s dalšími koncerty\, festivaly a divadelními představeními.
URL:https://kulturniradce.cz/event/polib-teticku-aneb-nikdo-neni-bez-chyby-2/
LOCATION:Reduta\, Olomouc\, Reduta\, Olomouc\, Česká republika
CATEGORIES:Divadlo
ATTACH;FMTTYPE=image/jpeg:https://kulturniradce.cz/wp-content/uploads/2025/12/320-814e781465744323b169d4c82b8b0ecf.jpg
END:VEVENT
BEGIN:VEVENT
DTSTART;TZID=Europe/Prague:20260419T190000
DTEND;TZID=Europe/Prague:20260419T220000
DTSTAMP:20260419T142828
CREATED:20260308T190621Z
LAST-MODIFIED:20260308T190622Z
UID:12307-1776625200-1776636000@kulturniradce.cz
SUMMARY:Ludovico Einaudi Music | Jihlava
DESCRIPTION:Ludovico Einaudi Music | Jihlava se uskuteční dne 2026-04-19 v 19:00 v Jihlava\, DKO. \n🎟️ Koupit vstupenku \n\nNenechte si ujít nezapomenutelný večer krásné hudby\, kde zazní melodie jednoho z nejlepších pianistů a skladatelů na světe\, Ludovica Einaudiho v podání předního českého klavíristy Františka Panáčka. \nEinaudi je známý svými jednoduchými\, ale strašidelně krásnými minimalistickými díly pro klavír a ohromující filmovou hudbou. Za téměř třicet let své činnosti vydal řadu alb\, která se dostala na přední příčky poslechovosti\, vyprodává nejprestižnější koncertní sály po celém světě a jeho hudba zazněla v mnoha slavných filmech (Nedotknutelní\, Doktor Živago\, To je Anglie\, Nomadland a další). \nTento jedinečný koncert nabídne více než jen hudbu. Symfonie třpytivých svíček rozsvítí celý prostor a přidá na mystičnu a kouzlu večera. Každá svíčka přispěje k vytvoření kouzelného prostředí\, které dokonale doplní hudební zážitek. \nV rámci Evropské tour alternují také: Lucie Kubátová a Alexandr Starý.  \nAkce je přístupná od 12 let. Každý účastník musí předložit platnou vstupenku  zakoupenou výhradně v síti smsticket. \n\nTento tip na kulturní akci v Jihlava najdete v přehledu na KulturníRádce.cz spolu s dalšími koncerty\, festivaly a divadelními představeními.
URL:https://kulturniradce.cz/event/ludovico-einaudi-music-jihlava/
LOCATION:DKO\, Jihlava\, DKO\, Jihlava\, Česká republika
CATEGORIES:Koncert
ATTACH;FMTTYPE=image/jpeg:https://kulturniradce.cz/wp-content/uploads/2026/03/320-59f17f9ca6054c1a811b36eaa4de404d.jpg
END:VEVENT
BEGIN:VEVENT
DTSTART;TZID=Europe/Prague:20260419T203000
DTEND;TZID=Europe/Prague:20260419T233000
DTSTAMP:20260419T142828
CREATED:20260211T092206Z
LAST-MODIFIED:20260211T092208Z
UID:10921-1776630600-1776641400@kulturniradce.cz
SUMMARY:Images of Love - black light theatre (schwarzlichttheater)
DESCRIPTION:Images of Love – black light theatre (schwarzlichttheater) se uskuteční dne 2026-04-19 v 20:30 v Praha\, HILT black light theatre Prague – Art Space. \n🎟️ Koupit vstupenku \n\nDočasná sleva 100 Kč kód LOV100 (neplatí pro P.Cool Pass) – Temporary discount 100 CZK code LOV100 (not valid for P.Cool Pass) – Temporärer Rabatt 100 CZK Code LOV100 (nicht gültig für P.Cool Pass) – Descuento temporal 100 CZK código LOV100 (no válido para P.Cool Pass)  \n\nHILT black light theatre – Schwarzlichttheater HILT – Teatro negro Praga HILT\nWritten\, directed and choreography: Theodor Hoidekr\nOriginal music: Theodor Hoidekr (original music for HILT black light theatre)\nCopyright music: Coldplay – A sky full of stars\, Sting – Desert rose\, Patrick Swayze – She´s like a wind\, Shakira – Waka waka\, AC/DC – Highway to hell\, Koutev Bulgarian national ensemble – Bre petrunko (HILT black light theatre owns the licence for this music for use in the show Images of Love)\n\nČESKY ↓ ENGLISH ↓ DEUTSCH ↓ ESPANOL \n―cz―*FORMULÁŘ VSTUPENEK POUZE ČESKY A ANGLICKY PŘEPNĚTE V PRAVÉM ROHU NAHOŘE \nČerné divadlo HILT Praha – Images of Love \nLáska je vůdčí světlo\, které nás vede temnotou života. Multimediální představení Images of Love transformuje koncept lásky do fascinujících scén černého divadla\, které diváky zavedou na cestu různými etapami romantiky. Od počáteční jiskry mezi dvěma jednotlivci až po složitost zralého vztahu\, představení zkoumá různé aspekty lásky prostřednictvím podmanivého vizuálního a emocionálního vyprávění. \nNeverbální povaha představení umožňuje univerzální porozumění a zpřístupňuje jej divákům všech věkových kategorií a prostředí. Prostřednictvím kombinace originálních skladeb a světoznámých hitů hudba umocňuje vizuální podívanou a vtahuje diváky hlouběji do děje. Představení také vzdává hold ikonickým písním od umělců jako Shakira\, Sting a Coldplay a také obsahuje mystické ztvárnění bulharské sborové písně. \nImages of Love zve diváky\, aby se ponořili do světa\, kde mohou na vlastní kůži zažít krásu a výzvy lásky. Je to jedinečná příležitost zasmát se\, tančit a cítit celou škálu emocí vedle postav\, což vytváří skutečně interaktivní a nezapomenutelný divadelní zážitek. \n―en―*TICKET FORM ONLY IN CZECH AND ENGLISH SWITCH IN UPPER RIGHT CORNER \nHILT black light theatre Prague – Images of Love \nLove is the guiding light that leads us through the darkness of life. The multimedia performance Images of Love transforms the concept of love into mesmerizing black light theatre scenes that take the audience on a journey through the various stages of romance. From the initial spark between two individuals to the complexity of a mature relationship\, the performance explores the different facets of love through captivating visuals and emotional storytelling. \nThe non-verbal nature of the performance allows for universal understanding\, making it accessible to audiences of all ages and backgrounds. Through a combination of original compositions and world-famous hits\, the music enhances the visual spectacle\, drawing the audience deeper into the story. The performance also pays homage to iconic songs from artists like Shakira\, Sting\, and Coldplay\, as well as featuring a mystical rendition of a Bulgarian choir song. \nImages of Love invites the audience to immerse themselves in a world where they can experience the beauty and challenges of love firsthand. It is a unique opportunity to laugh\, dance\, and feel the full range of emotions alongside the characters\, creating a truly interactive and memorable theatrical experience. \n―de―*TICKETFORMULAR NUR AUF TSCHECHISCH UND ENGLISCH. SCHALTER IN DER OBEREN RECHTEN ECKE \nSchwarzlichttheater Prag HILT – Images of Love \nLiebe ist das Leitlicht\, das uns durch die Dunkelheit des Lebens führt. Die Multimedia-Performance „Images of Love“ verwandelt das Konzept der Liebe in faszinierende Schwarzlichttheater\, die das Publikum auf eine Reise durch die verschiedenen Phasen der Romantik mitnehmen. Von der ersten Funke zwischen zwei Menschen bis hin zur Komplexität einer reifen Beziehung erkundet die Performance die verschiedenen Facetten der Liebe durch fesselnde visuelle Elemente und emotionales Geschichtenerzählen. \nDie nonverbale Natur der Performance ermöglicht ein universelles Verständnis und macht sie für Zuschauer jeden Alters und jeder Herkunft zugänglich. Durch eine Kombination aus Originalkompositionen und weltberühmten Hits verstärkt die Musik das visuelle Spektakel und zieht das Publikum tiefer in die Geschichte hinein. Die Performance ist auch eine Hommage an ikonische Lieder von Künstlern wie Shakira\, Sting und Coldplay und bietet eine mystische Wiedergabe eines bulgarischen Chorlieds. \n„Images of Love“ lädt das Publikum ein\, in eine Welt einzutauchen\, in der es die Schönheit und Herausforderungen der Liebe aus erster Hand erleben kann. Es ist eine einmalige Gelegenheit\, gemeinsam mit den Figuren zu lachen\, zu tanzen und die ganze Bandbreite an Emotionen zu spüren\, wodurch ein wirklich interaktives und unvergessliches Theatererlebnis entsteht. \n―es―*FORMULARIO DE BOLETO SOLO EN CHECO E INGLÉS CAMBIAR EN LA ESQUINA SUPERIOR DERECHA \nTeatro de luz negra Praga HILT (Teatro negro Praga HILT) – Images of Love \nEl amor es la luz que nos guía a través de la oscuridad de la vida. La performance multimedia Images of Love transforma el concepto de amor en fascinantes escenas de teatro con luz negra que llevan al público a un viaje a través de las distintas etapas del romance. Desde la chispa inicial entre dos personas hasta la complejidad de una relación madura\, la performance explora las diferentes facetas del amor a través de imágenes cautivadoras y una narración emotiva. \nLa naturaleza no verbal de la performance permite una comprensión universal\, haciéndola accesible a audiencias de todas las edades y orígenes. A través de una combinación de composiciones originales y éxitos mundialmente famosos\, la música realza el espectáculo visual\, atrayendo al público más profundamente a la historia. La performance también rinde homenaje a canciones icónicas de artistas como Shakira\, Sting y Coldplay\, además de presentar una interpretación mística de una canción de un coro búlgaro. \nImages of Love invita al público a sumergirse en un mundo donde pueden experimentar la belleza y los desafíos del amor de primera mano. Es una oportunidad única para reír\, bailar y sentir toda la gama de emociones junto a los personajes\, creando una experiencia teatral verdaderamente interactiva y memorable. \n\nTento tip na kulturní akci v Praha najdete v přehledu na KulturníRádce.cz spolu s dalšími koncerty\, festivaly a divadelními představeními.
URL:https://kulturniradce.cz/event/images-of-love-black-light-theatre-schwarzlichttheater-71/
LOCATION:HILT black light theatre Prague – Art Space\, Praha\, HILT black light theatre Prague - Art Space\, Praha\, Česká republika
CATEGORIES:Divadlo
ATTACH;FMTTYPE=image/jpeg:https://kulturniradce.cz/wp-content/uploads/2026/02/320-fd4f6df700f049adb36c85ae9535be26.jpg
END:VEVENT
END:VCALENDAR