BEGIN:VCALENDAR
VERSION:2.0
PRODID:-//www.kulturniradce.cz - ECPv6.15.20//NONSGML v1.0//EN
CALSCALE:GREGORIAN
METHOD:PUBLISH
X-ORIGINAL-URL:https://kulturniradce.cz
X-WR-CALDESC:Akce na www.kulturniradce.cz
REFRESH-INTERVAL;VALUE=DURATION:PT1H
X-Robots-Tag:noindex
X-PUBLISHED-TTL:PT1H
BEGIN:VTIMEZONE
TZID:Europe/Prague
BEGIN:DAYLIGHT
TZOFFSETFROM:+0100
TZOFFSETTO:+0200
TZNAME:CEST
DTSTART:20240331T010000
END:DAYLIGHT
BEGIN:STANDARD
TZOFFSETFROM:+0200
TZOFFSETTO:+0100
TZNAME:CET
DTSTART:20241027T010000
END:STANDARD
BEGIN:DAYLIGHT
TZOFFSETFROM:+0100
TZOFFSETTO:+0200
TZNAME:CEST
DTSTART:20250330T010000
END:DAYLIGHT
BEGIN:STANDARD
TZOFFSETFROM:+0200
TZOFFSETTO:+0100
TZNAME:CET
DTSTART:20251026T010000
END:STANDARD
BEGIN:DAYLIGHT
TZOFFSETFROM:+0100
TZOFFSETTO:+0200
TZNAME:CEST
DTSTART:20260329T010000
END:DAYLIGHT
BEGIN:STANDARD
TZOFFSETFROM:+0200
TZOFFSETTO:+0100
TZNAME:CET
DTSTART:20261025T010000
END:STANDARD
BEGIN:DAYLIGHT
TZOFFSETFROM:+0100
TZOFFSETTO:+0200
TZNAME:CEST
DTSTART:20270328T010000
END:DAYLIGHT
BEGIN:STANDARD
TZOFFSETFROM:+0200
TZOFFSETTO:+0100
TZNAME:CET
DTSTART:20271031T010000
END:STANDARD
END:VTIMEZONE
BEGIN:VEVENT
DTSTART;TZID=Europe/Prague:20260411T180000
DTEND;TZID=Europe/Prague:20260411T210000
DTSTAMP:20260420T012059
CREATED:20260315T152209Z
LAST-MODIFIED:20260315T152209Z
UID:13024-1775930400-1775941200@kulturniradce.cz
SUMMARY:Maxa NBL SKUPINA A2 - GAPA Hradec Kralove x BK Olomoucko
DESCRIPTION:Maxa NBL SKUPINA A2 – GAPA Hradec Kralove x BK Olomoucko se uskuteční dne 2026-04-11 v 18:00 v Hradec Králové\, GAPA Arena. \n🎟️ Koupit vstupenku \n\nMAXA NBL – Nadstavbová část A2 \nV sobotu 11. dubna 2026 od 18:00 nastoupí BK GAPA Hradec Králové v GAPA Areně proti BK Olomoucko. \nČeká nás důležité utkání nadstavbové části A2\, boj o cenné body a atraktivní basketbalový večer. Přijďte podpořit domácí tým a užít si skvělou atmosféru v GAPA Areně. \nMísto: GAPA Arena\, Na Potoce 691/30\, Hradec Králové \nDatum a čas: Sobota 11. 4. 2026 | 18:00 \nUtkání je součástí permanentky GAPA Pass 2025/2026. \nBuďte u toho a pomozte BK GAPA Hradec Králové k vítězství! \n\nTento tip na kulturní akci v Hradec Králové najdete v přehledu na KulturníRádce.cz spolu s dalšími koncerty\, festivaly a divadelními představeními.
URL:https://kulturniradce.cz/event/maxa-nbl-skupina-a2-gapa-hradec-kralove-x-bk-olomoucko/
LOCATION:GAPA Arena\, Hradec Králové\, GAPA Arena\, Hradec Králové\, Česká republika
CATEGORIES:Zábava
ATTACH;FMTTYPE=image/jpeg:https://kulturniradce.cz/wp-content/uploads/2026/03/320-5c5c0e6219a34e9cab8744a45ba33054.jpg
END:VEVENT
BEGIN:VEVENT
DTSTART;TZID=Europe/Prague:20260328T180000
DTEND;TZID=Europe/Prague:20260328T210000
DTSTAMP:20260420T012059
CREATED:20260315T152210Z
LAST-MODIFIED:20260315T152211Z
UID:13030-1774720800-1774731600@kulturniradce.cz
SUMMARY:Maxa NBL SKUPINA A2 - GAPA Hradec Kralove x USK Praha
DESCRIPTION:Maxa NBL SKUPINA A2 – GAPA Hradec Kralove x USK Praha se uskuteční dne 2026-03-28 v 18:00 v Hradec Králové\, GAPA Arena. \n🎟️ Koupit vstupenku \n\nMAXA NBL – Nadstavbová část A2 \nV sobotu 28. března 2026 od 18:00 se v GAPA Areně představí BK GAPA Hradec Králové proti USK Praha. \nČeká nás důležité utkání nadstavbové části A2\, boj o cenné body a skvělá basketbalová atmosféra. Přijďte podpořit domácí tým a užít si atraktivní sportovní večer. \nMísto: GAPA Arena\, Na Potoce 691/30\, Hradec Králové \nDatum a čas: Sobota 28. 3. 2026 | 18:00 \nUtkání je součástí permanentky GAPA Pass 2025/2026. \nBuďte u toho a pomozte BK GAPA Hradec Králové k vítězství! \n\nTento tip na kulturní akci v Hradec Králové najdete v přehledu na KulturníRádce.cz spolu s dalšími koncerty\, festivaly a divadelními představeními.
URL:https://kulturniradce.cz/event/maxa-nbl-skupina-a2-gapa-hradec-kralove-x-usk-praha/
LOCATION:GAPA Arena\, Hradec Králové\, GAPA Arena\, Hradec Králové\, Česká republika
CATEGORIES:Zábava
ATTACH;FMTTYPE=image/jpeg:https://kulturniradce.cz/wp-content/uploads/2026/03/320-6fceb7074cf84c3b85332f3e184d47d2.jpg
END:VEVENT
BEGIN:VEVENT
DTSTART;TZID=Europe/Prague:20260321T180000
DTEND;TZID=Europe/Prague:20260321T210000
DTSTAMP:20260420T012059
CREATED:20260315T152210Z
LAST-MODIFIED:20260315T152210Z
UID:13027-1774116000-1774126800@kulturniradce.cz
SUMMARY:Maxa NBL SKUPINA A2 - GAPA Hradec Kralove x SK Slavia Praha
DESCRIPTION:Maxa NBL SKUPINA A2 – GAPA Hradec Kralove x SK Slavia Praha se uskuteční dne 2026-03-21 v 18:00 v Hradec Králové\, GAPA Arena. \n🎟️ Koupit vstupenku \n\nMAXA NBL – Nadstavbová část A2 \nV sobotu 21. března 2026 od 18:00 nastoupí BK GAPA Hradec Králové v GAPA Areně proti tradičnímu soupeři SK Slavia Praha. \nČeká nás atraktivní utkání nadstavbové části A2\, boj o důležité body a skvělá basketbalová atmosféra. Přijďte podpořit domácí tým a buďte součástí výjimečného sportovního večera. \nMísto: GAPA Arena\, Na Potoce 691/30\, Hradec Králové \nDatum a čas: Sobota 21. 3. 2026 | 18:00 \nUtkání je součástí permanentky GAPA Pass 2025/2026. \nBuďte u toho a pomozte BK GAPA Hradec Králové k vítězství! \n\nTento tip na kulturní akci v Hradec Králové najdete v přehledu na KulturníRádce.cz spolu s dalšími koncerty\, festivaly a divadelními představeními.
URL:https://kulturniradce.cz/event/maxa-nbl-skupina-a2-gapa-hradec-kralove-x-sk-slavia-praha/
LOCATION:GAPA Arena\, Hradec Králové\, GAPA Arena\, Hradec Králové\, Česká republika
CATEGORIES:Zábava
ATTACH;FMTTYPE=image/jpeg:https://kulturniradce.cz/wp-content/uploads/2026/03/320-e42a3b35f2fd4b78a5dbf44e8e0930d9.jpg
END:VEVENT
BEGIN:VEVENT
DTSTART;TZID=Europe/Prague:20260127T190000
DTEND;TZID=Europe/Prague:20260127T220000
DTSTAMP:20260420T012059
CREATED:20251212T180505Z
LAST-MODIFIED:20251212T180505Z
UID:8012-1769540400-1769551200@kulturniradce.cz
SUMMARY:Posportu Talks
DESCRIPTION:Posportu Talks se uskuteční dne 2026-01-27 v 19:00 v Praha\, ROYAL – Theatre & Club Chic Praha. \n🎟️ Koupit vstupenku \n\nPOSPORTU TALKS: Sportovci sportovcům \nPosportu Talks se vrací a znovu nás čeká osm příběhů ze sportovního světa. Každý v délce přesně 6 minut. Prezentace s fotkami nebo videi\, na každý slide 20 sekund. Žádná omáčka okolo\, jen silné momenty a zážitky\, které jinde neuslyšíš. Každý z řečníků vám pomocí fotek a videí přiblíží svou cestu – někdy s humorem\, jindy s nostalgií. \nNa pódiu se vystřídají sportovci od profíků přes hobíky a zabrousíme i do světa trenérů a fyzioterapie. Striktně 360 sekund na jedno vystoupení. Formát\, který vás nenechá se nudit. \n  \nVečer Posportu je pro všechny\, kteří: \n\nmilují sport – aktivně nebo pasivně\nhledají odpočinkový večer mimo zdi vlastního obýváku\nchtějí poznat sportovce z jiného úhlu než z titulních stránek nebo sociálních sítí\nupřednostňují osobní setkání před komentáři a lajky\n\n  \nNa co se můžete těšit? \n\n8 řečníků = 8 sportovních příběhů\nKrátké\, úderné a vizuálně silné prezentace\nQ&A s řečníky po skončení prezentací – ptát se tak můžeš i TY\nKrásné prostory ikonického Royal Theatre v Praze\n\n  \nKapacita je omezená. Doporučujeme rezervaci včas.27. 1. 2026\, Royal Theatre & Club Chic\, Praha \nStart programu v 19:00\, dveře a bar příchozím otevíráme v 18:00. \n\nTento tip na kulturní akci v Praha najdete v přehledu na KulturníRádce.cz spolu s dalšími koncerty\, festivaly a divadelními představeními.
URL:https://kulturniradce.cz/event/posportu-talks-2/
LOCATION:ROYAL – Theatre & Club Chic Praha\, Praha\, ROYAL - Theatre & Club Chic Praha\, Praha\, Česká republika
CATEGORIES:Zábava
ATTACH;FMTTYPE=image/jpeg:https://kulturniradce.cz/wp-content/uploads/2025/12/320-d7ff00b79641403899efb8377a9b87de.jpg
END:VEVENT
BEGIN:VEVENT
DTSTART;TZID=Europe/Prague:20260110T180000
DTEND;TZID=Europe/Prague:20260110T210000
DTSTAMP:20260420T012059
CREATED:20251209T190836Z
LAST-MODIFIED:20251209T190836Z
UID:7590-1768068000-1768078800@kulturniradce.cz
SUMMARY:Maxa NBL 21. kolo - GAPA Hradec Králové x NH Ostrava
DESCRIPTION:Maxa NBL 21. kolo – GAPA Hradec Králové x NH Ostrava se uskuteční dne 2026-01-10 v 18:00 v Hradec Králové\, GAPA Arena. \n🎟️ Koupit vstupenku \n\nMaxa NBL – 21. kolo \n  \nV sobotu 10. ledna 2026 od 18:00 se v GAPA Areně představí Královští sokoli v dalším domácím utkání nejvyšší soutěže. Soupeřem bude ambiciózní tým NH Ostrava\, který přijíždí do Hradce Králové zabojovat o cenné body. \n  \nČeká nás atraktivní basketbalový souboj\, skvělá atmosféra a parádní sportovní podívaná. Přijďte podpořit domácí hráče a zažít jedinečný večer plný emocí! \n  \nMísto: GAPA Arena\, Hradec Králové \nDatum a čas: sobota 10. 1. 2026\, od 18:00 \nAkce je součástí permanentky GAPA Pass 2025/2026 \n  \nBuďte u toho a podpořte Královské sokoly v cestě za vítězstvím! \n\nTento tip na kulturní akci v Hradec Králové najdete v přehledu na KulturníRádce.cz spolu s dalšími koncerty\, festivaly a divadelními představeními.
URL:https://kulturniradce.cz/event/maxa-nbl-21-kolo-gapa-hradec-kralove-x-nh-ostrava/
LOCATION:GAPA Arena\, Hradec Králové\, GAPA Arena\, Hradec Králové\, Česká republika
CATEGORIES:Zábava
ATTACH;FMTTYPE=image/jpeg:https://kulturniradce.cz/wp-content/uploads/2025/12/320-44b03c82f7be43e78ccff3628e7f2918.jpg
END:VEVENT
BEGIN:VEVENT
DTSTART;TZID=Europe/Prague:20260107T190000
DTEND;TZID=Europe/Prague:20260107T220000
DTSTAMP:20260420T012059
CREATED:20251207T080706Z
LAST-MODIFIED:20251207T080707Z
UID:7051-1767812400-1767823200@kulturniradce.cz
SUMMARY:Maxa NBL 8. kolo - GAPA Hradec Králové x PUMPA Basket Brno
DESCRIPTION:Maxa NBL 8. kolo – GAPA Hradec Králové x PUMPA Basket Brno se uskuteční dne 2026-01-07 v 19:00 v Hradec Králové\, GAPA Arena. \n🎟️ Koupit vstupenku \n\nMaxa NBL – 8. kolo \n  \nVe středu 7. ledna 2026 od 19:00 se v GAPA Areně odehraje další domácí utkání Královských sokolů. Soupeřem bude ambiciózní celek PUMPA Basket Brno\, který pravidelně patří mezi nejúspěšnější týmy ligy. \n  \nFanoušci se mohou těšit na atraktivní souboj plný energie\, rychlého basketbalu a skvělé atmosféry. Přijďte podpořit domácí hráče a užít si jedinečný sportovní večer v Hradci Králové! \n  \nMísto: GAPA Arena\, Na Potoce 691/30\, Třebeš\, 500 11 Hradec Králové \nDatum a čas: středa 29. 10. 2025\, od 19:00 \nUtkání je součástí permanentky GAPA Pass 2025/2026 \n  \nBuďte u toho a staňte se šestým hráčem na palubovce! \n\nTento tip na kulturní akci v Hradec Králové najdete v přehledu na KulturníRádce.cz spolu s dalšími koncerty\, festivaly a divadelními představeními.
URL:https://kulturniradce.cz/event/maxa-nbl-8-kolo-gapa-hradec-kralove-x-pumpa-basket-brno/
LOCATION:GAPA Arena\, Hradec Králové\, GAPA Arena\, Hradec Králové\, Česká republika
CATEGORIES:Zábava
ATTACH;FMTTYPE=image/jpeg:https://kulturniradce.cz/wp-content/uploads/2025/12/320-518fb0f8b4c4457b83641fbaf6323695.jpg
END:VEVENT
BEGIN:VEVENT
DTSTART;TZID=Europe/Prague:20260103T180000
DTEND;TZID=Europe/Prague:20260103T210000
DTSTAMP:20260420T012059
CREATED:20251209T190332Z
LAST-MODIFIED:20251209T190333Z
UID:7513-1767463200-1767474000@kulturniradce.cz
SUMMARY:Maxa NBL 20. kolo - GAPA Hradec Kralové x BK KVIS Pardubice
DESCRIPTION:Maxa NBL 20. kolo – GAPA Hradec Kralové x BK KVIS Pardubice se uskuteční dne 2026-01-03 v 18:00 v Hradec Králové\, GAPA Arena. \n🎟️ Koupit vstupenku \n\nMaxa NBL – derby východních Čech! \n  \nV sobotu 3. ledna 2026 od 18:00 čeká GAPA Arenu pořádná basketbalová bitva. Královští sokoli přivítají v rámci Maxa NBL tradičního rivala z Pardubic – BK KVIS Pardubice. \n  \nDerby slibuje napínavou atmosféru\, parádní podívanou a skvělé sportovní zážitky. Přijďte podpořit domácí tým a užít si večer plný basketbalu v Hradci Králové! \n  \nMísto: GAPA Arena\, Na Potoce 691/30\, Třebeš\, 500 11 Hradec Králové \nDatum a čas: sobota 3. 1. 2026\, od 18:00 \nAkce je součástí permanentky GAPA Pass 2025/2026 \n  \nBuďte u toho a staňte se šestým hráčem na palubovce! \n\nTento tip na kulturní akci v Hradec Králové najdete v přehledu na KulturníRádce.cz spolu s dalšími koncerty\, festivaly a divadelními představeními.
URL:https://kulturniradce.cz/event/maxa-nbl-20-kolo-gapa-hradec-kralove-x-bk-kvis-pardubice/
LOCATION:GAPA Arena\, Hradec Králové\, GAPA Arena\, Hradec Králové\, Česká republika
CATEGORIES:Zábava
ATTACH;FMTTYPE=image/jpeg:https://kulturniradce.cz/wp-content/uploads/2025/12/320-6e206b290c1847069a397466edf3d9dc.jpg
END:VEVENT
BEGIN:VEVENT
DTSTART;TZID=Europe/Prague:20251213T190000
DTEND;TZID=Europe/Prague:20251213T220000
DTSTAMP:20260420T012059
CREATED:20251208T193449Z
LAST-MODIFIED:20251208T193451Z
UID:7154-1765652400-1765663200@kulturniradce.cz
SUMMARY:Maxa NBL 16. kolo - GAPA Hradec Kralove x SK Slavia Praha
DESCRIPTION:Maxa NBL 16. kolo – GAPA Hradec Kralove x SK Slavia Praha se uskuteční dne 2025-12-13 v 19:00 v Hradec Králové\, GAPA Arena. \n🎟️ Koupit vstupenku \n\nMaxa NBL – 16. kolo \n  \nV neděli 13. prosince 2025 od 19:00 nastoupí Královští sokoli v GAPA Areně proti pražskému soupeři SK Slavia Praha. \n  \nČeká nás atraktivní utkání dvou tradičních klubů\, skvělá atmosféra a napínavý basketbalový večer. Přijďte podpořit domácí hráče a být součástí jedinečného sportovního zážitku! \n  \nMísto: GAPA Arena\, Na Potoce 691/30\, Třebeš\, 500 11 Hradec Králové \nDatum a čas: neděle 13. 12. 2025\, od 19:00 \nAkce je součástí permanentky GAPA Pass 2025/2026 \n  \nBuď u toho a pomoz Královským sokolům k dalšímu vítězství! \n\nTento tip na kulturní akci v Hradec Králové najdete v přehledu na KulturníRádce.cz spolu s dalšími koncerty\, festivaly a divadelními představeními.
URL:https://kulturniradce.cz/event/maxa-nbl-16-kolo-gapa-hradec-kralove-x-sk-slavia-praha/
LOCATION:GAPA Arena\, Hradec Králové\, GAPA Arena\, Hradec Králové\, Česká republika
CATEGORIES:Zábava
ATTACH;FMTTYPE=image/jpeg:https://kulturniradce.cz/wp-content/uploads/2025/12/320-97f9ce40c0a34d7bbb375347008f4efe.jpg
END:VEVENT
BEGIN:VEVENT
DTSTART;TZID=Europe/Prague:20250930T190000
DTEND;TZID=Europe/Prague:20250930T220000
DTSTAMP:20260420T012059
CREATED:20250926T185024Z
LAST-MODIFIED:20250926T185025Z
UID:2805-1759258800-1759269600@kulturniradce.cz
SUMMARY:Posportu Talks
DESCRIPTION:Posportu Talks se uskuteční dne 2025-09-30 v 19:00 v Praha\, ROYAL – Theatre & Club Chic Praha. \n🎟️ Koupit vstupenku \n\nPOSPORTU TALKS: Sportovci sportovcům \nJeden večer. Osm příběhů ze sportovního světa. Každý přesně 6 minut. Prezentace s fotkami nebo videi\, na každý slide 20 sekund. Žádná omáčka okolo\, jen silné momenty a zážitky\, které jinde neuslyšíš. Každý z řečníků vám pomocí fotek a videí přiblíží svou cestu – někdy s humorem\, jindy s nostalgií. \nA hned první večer bude mít odlesky olympijského zlata z Paříže! \nNa pódiu se vystřídají sportovci od profíků přes hobíky a zabrousíme i do světa trenérů a fyzioterapie. Striktně 360 sekund na jedno vystoupení. Formát\, který vás nenechá se nudit. Zájímá tě\, kdo vystoupí? Tak čti dál! \n  \nVečer Posportu je pro všechny\, kteří: \n\nmilují sport – aktivně nebo pasivně\nhledají odpočinkový večer mimo zdi vlastního obýváku\nchtějí poznat sportovce z jiného úhlu než z titulních stránek nebo sociálních sítí\nupřednostňují osobní setkání před komentáři a lajky\n\n  \nNa co se můžete těšit? \n\n8 řečníků = 8 sportovních příběhů\nKrátké\, úderné a vizuálně silné prezentace\nQ&A s řečníky po skončení prezentací – ptát se tak můžeš i TY\nKrásné prostory ikonického Royal Theatre v Praze\n\n  \nŘečníci večera \n\nJosef Dostál / rychlostní kanoistika\nEva Vrabcová Nývltová / běžecké lyžování a dálkové běhy\nVeronika Anna Kotrnochová / fyzioterapie\nDaniel Vavruša / baseball\nMichal Novák / atletika\nTomáš Rak / vodní slalom\nŠtěpán Unar / mountain bike\nMarek Vomáčka / fotbal a naturální kulturistika\n\n  \nKapacita je omezená. Doporučujeme rezervaci včas.30. 9. 2025\, Royal Theatre & Club Chic\, Praha \n\nTento tip na kulturní akci v Praha najdete v přehledu na KulturníRádce.cz spolu s dalšími koncerty\, festivaly a divadelními představeními.
URL:https://kulturniradce.cz/event/posportu-talks/
LOCATION:ROYAL – Theatre & Club Chic Praha\, Praha\, ROYAL - Theatre & Club Chic Praha\, Praha\, Česká republika
CATEGORIES:Zábava
ATTACH;FMTTYPE=image/jpeg:https://kulturniradce.cz/wp-content/uploads/2025/09/320-0be1f5516b1341faa6707a2806736b58.jpg
END:VEVENT
END:VCALENDAR