BEGIN:VCALENDAR
VERSION:2.0
PRODID:-//www.kulturniradce.cz - ECPv6.15.20//NONSGML v1.0//EN
CALSCALE:GREGORIAN
METHOD:PUBLISH
X-WR-CALNAME:www.kulturniradce.cz
X-ORIGINAL-URL:https://kulturniradce.cz
X-WR-CALDESC:Akce na www.kulturniradce.cz
REFRESH-INTERVAL;VALUE=DURATION:PT1H
X-Robots-Tag:noindex
X-PUBLISHED-TTL:PT1H
BEGIN:VTIMEZONE
TZID:Europe/Prague
BEGIN:DAYLIGHT
TZOFFSETFROM:+0100
TZOFFSETTO:+0200
TZNAME:CEST
DTSTART:20250330T010000
END:DAYLIGHT
BEGIN:STANDARD
TZOFFSETFROM:+0200
TZOFFSETTO:+0100
TZNAME:CET
DTSTART:20251026T010000
END:STANDARD
BEGIN:DAYLIGHT
TZOFFSETFROM:+0100
TZOFFSETTO:+0200
TZNAME:CEST
DTSTART:20260329T010000
END:DAYLIGHT
BEGIN:STANDARD
TZOFFSETFROM:+0200
TZOFFSETTO:+0100
TZNAME:CET
DTSTART:20261025T010000
END:STANDARD
BEGIN:DAYLIGHT
TZOFFSETFROM:+0100
TZOFFSETTO:+0200
TZNAME:CEST
DTSTART:20270328T010000
END:DAYLIGHT
BEGIN:STANDARD
TZOFFSETFROM:+0200
TZOFFSETTO:+0100
TZNAME:CET
DTSTART:20271031T010000
END:STANDARD
END:VTIMEZONE
BEGIN:VEVENT
DTSTART;TZID=Europe/Prague:20260201T100000
DTEND;TZID=Europe/Prague:20260201T130000
DTSTAMP:20260420T040501
CREATED:20251110T094932Z
LAST-MODIFIED:20251110T094932Z
UID:5987-1769940000-1769950800@kulturniradce.cz
SUMMARY:Muzikál Tlapkové patroly | Chrudim
DESCRIPTION:Muzikál Tlapkové patroly | Chrudim se uskuteční dne 2026-02-01 v 10:00 v Chrudim\, Divadlo Karla Pippicha. \n🎟️ Koupit vstupenku \n\nOblíbení hrdinové z Tlapkové patroly se chystají na své jediné rodinné muzikálové turné v České republice\, které se už nikdy nebude opakovat!Populární psí záchranáři přinášejí show\, která nadchne malé i velké diváky.🐶 \nČeká vás nezapomenutelný rodinný muzikál plný hudby\, tance a dobrodružství!Děti se mohou těšit na Chase\, Marshalla\, Skye i další statečné pejsky\, kteří předvedou napínavý příběh v doprovodu pohádkové atmosféry 🌈 \nMuzikál Tlapkové patroly vykouzlí úsměv na tváři každému dítěti a nabídne jedinečnou možnost zažít jejich dobrodružství naživo! 🎭 \n🚨 POZOR! 🚨👉 JEDINÉ turné v ČR\, které se už nikdy nebude opakovat! \n🕤 Otevření sálu: od 9:30🎬 Představení: 10:00 – 11:00⏰ Konec programu: přibližně v 11:30 \nNepropásněte tuto jedinečnou příležitost a zajistěte si své vstupenky včas! 🎟️🌟 \n\nTento tip na kulturní akci v Chrudim najdete v přehledu na KulturníRádce.cz spolu s dalšími koncerty\, festivaly a divadelními představeními.
URL:https://kulturniradce.cz/event/muzikal-tlapkove-patroly-chrudim/
LOCATION:Divadlo Karla Pippicha\, Chrudim\, Divadlo Karla Pippicha\, Chrudim\, Česká republika
CATEGORIES:Zábava
ATTACH;FMTTYPE=image/jpeg:https://kulturniradce.cz/wp-content/uploads/2025/11/320-41d3e56b07a74c969f357b1970e4eaef.jpg
END:VEVENT
END:VCALENDAR