BEGIN:VCALENDAR
VERSION:2.0
PRODID:-//www.kulturniradce.cz - ECPv6.15.20//NONSGML v1.0//EN
CALSCALE:GREGORIAN
METHOD:PUBLISH
X-ORIGINAL-URL:https://kulturniradce.cz
X-WR-CALDESC:Akce na www.kulturniradce.cz
REFRESH-INTERVAL;VALUE=DURATION:PT1H
X-Robots-Tag:noindex
X-PUBLISHED-TTL:PT1H
BEGIN:VTIMEZONE
TZID:Europe/Prague
BEGIN:DAYLIGHT
TZOFFSETFROM:+0100
TZOFFSETTO:+0200
TZNAME:CEST
DTSTART:20250330T010000
END:DAYLIGHT
BEGIN:STANDARD
TZOFFSETFROM:+0200
TZOFFSETTO:+0100
TZNAME:CET
DTSTART:20251026T010000
END:STANDARD
BEGIN:DAYLIGHT
TZOFFSETFROM:+0100
TZOFFSETTO:+0200
TZNAME:CEST
DTSTART:20260329T010000
END:DAYLIGHT
BEGIN:STANDARD
TZOFFSETFROM:+0200
TZOFFSETTO:+0100
TZNAME:CET
DTSTART:20261025T010000
END:STANDARD
BEGIN:DAYLIGHT
TZOFFSETFROM:+0100
TZOFFSETTO:+0200
TZNAME:CEST
DTSTART:20270328T010000
END:DAYLIGHT
BEGIN:STANDARD
TZOFFSETFROM:+0200
TZOFFSETTO:+0100
TZNAME:CET
DTSTART:20271031T010000
END:STANDARD
END:VTIMEZONE
BEGIN:VEVENT
DTSTART;TZID=Europe/Prague:20260328T180000
DTEND;TZID=Europe/Prague:20260328T210000
DTSTAMP:20260420T024627
CREATED:20260314T192027Z
LAST-MODIFIED:20260314T192028Z
UID:12409-1774720800-1774731600@kulturniradce.cz
SUMMARY:Diktatura Debilov Tour 2026
DESCRIPTION:Diktatura Debilov Tour 2026 se uskuteční dne 2026-03-28 v 18:00 v Chrudim\, R-klub (stará lokace). \n🎟️ Koupit vstupenku \n\nDIKTATURA DEBILOV TOUR 2026 \nNa turné vyráží ČAD a HEJTMANDvě nekompromisní kapely\, osm klubů po celé republice a jedna jasná mise –pořádná porce metalu & rock’n’rollu \nČekej energii\, hluk\, pot a poctivý nářez od první do poslední skladby.Supporty budou postupně doplněny\, ale už teď je jasné\, že tohle turné si nesmíš nechat ujít! \n8 měst2 kapely100 % živá energie \n\nTento tip na kulturní akci v Chrudim najdete v přehledu na KulturníRádce.cz spolu s dalšími koncerty\, festivaly a divadelními představeními.
URL:https://kulturniradce.cz/event/diktatura-debilov-tour-2026-3/
LOCATION:R-klub (stará lokace)\, Chrudim\, R-klub (stará lokace)\, Chrudim\, Česká republika
CATEGORIES:Koncert
ATTACH;FMTTYPE=image/jpeg:https://kulturniradce.cz/wp-content/uploads/2026/03/320-e5de1b3c8c0b4a6eb9fe05e333010e54.jpg
END:VEVENT
END:VCALENDAR