BEGIN:VCALENDAR
VERSION:2.0
PRODID:-//www.kulturniradce.cz - ECPv6.15.20//NONSGML v1.0//EN
CALSCALE:GREGORIAN
METHOD:PUBLISH
X-WR-CALNAME:www.kulturniradce.cz
X-ORIGINAL-URL:https://kulturniradce.cz
X-WR-CALDESC:Akce na www.kulturniradce.cz
REFRESH-INTERVAL;VALUE=DURATION:PT1H
X-Robots-Tag:noindex
X-PUBLISHED-TTL:PT1H
BEGIN:VTIMEZONE
TZID:Europe/Prague
BEGIN:DAYLIGHT
TZOFFSETFROM:+0100
TZOFFSETTO:+0200
TZNAME:CEST
DTSTART:20250330T010000
END:DAYLIGHT
BEGIN:STANDARD
TZOFFSETFROM:+0200
TZOFFSETTO:+0100
TZNAME:CET
DTSTART:20251026T010000
END:STANDARD
BEGIN:DAYLIGHT
TZOFFSETFROM:+0100
TZOFFSETTO:+0200
TZNAME:CEST
DTSTART:20260329T010000
END:DAYLIGHT
BEGIN:STANDARD
TZOFFSETFROM:+0200
TZOFFSETTO:+0100
TZNAME:CET
DTSTART:20261025T010000
END:STANDARD
BEGIN:DAYLIGHT
TZOFFSETFROM:+0100
TZOFFSETTO:+0200
TZNAME:CEST
DTSTART:20270328T010000
END:DAYLIGHT
BEGIN:STANDARD
TZOFFSETFROM:+0200
TZOFFSETTO:+0100
TZNAME:CET
DTSTART:20271031T010000
END:STANDARD
END:VTIMEZONE
BEGIN:VEVENT
DTSTART;TZID=Europe/Prague:20260411T200000
DTEND;TZID=Europe/Prague:20260411T230000
DTSTAMP:20260420T011937
CREATED:20260304T093621Z
LAST-MODIFIED:20260304T093622Z
UID:11837-1775937600-1775948400@kulturniradce.cz
SUMMARY:Znouzectnost\, Deliwery - Chrudim
DESCRIPTION:Znouzectnost\, Deliwery – Chrudim se uskuteční dne 2026-04-11 v 20:00 v Chrudim\, R Klub. \n🎟️ Koupit vstupenku \n\nZnouzectnost a Deliwery v eRku. Bude to jízda\, tak doraž na mejdan. \n  \nNový termí konání akce je 11.4. 2026 !!! \n(plakát bude upraven) \n\nTento tip na kulturní akci v Chrudim najdete v přehledu na KulturníRádce.cz spolu s dalšími koncerty\, festivaly a divadelními představeními.
URL:https://kulturniradce.cz/event/znouzectnost-deliwery-chrudim/
LOCATION:R Klub\, Chrudim\, R Klub\, Chrudim\, Česká republika
CATEGORIES:Koncert
ATTACH;FMTTYPE=image/jpeg:https://kulturniradce.cz/wp-content/uploads/2026/03/320-6f345b9287774746ac492c0d9fa2613f.jpg
END:VEVENT
END:VCALENDAR