BEGIN:VCALENDAR
VERSION:2.0
PRODID:-//www.kulturniradce.cz - ECPv6.15.20//NONSGML v1.0//EN
CALSCALE:GREGORIAN
METHOD:PUBLISH
X-ORIGINAL-URL:https://kulturniradce.cz
X-WR-CALDESC:Akce na www.kulturniradce.cz
REFRESH-INTERVAL;VALUE=DURATION:PT1H
X-Robots-Tag:noindex
X-PUBLISHED-TTL:PT1H
BEGIN:VTIMEZONE
TZID:Europe/Prague
BEGIN:DAYLIGHT
TZOFFSETFROM:+0100
TZOFFSETTO:+0200
TZNAME:CEST
DTSTART:20240331T010000
END:DAYLIGHT
BEGIN:STANDARD
TZOFFSETFROM:+0200
TZOFFSETTO:+0100
TZNAME:CET
DTSTART:20241027T010000
END:STANDARD
BEGIN:DAYLIGHT
TZOFFSETFROM:+0100
TZOFFSETTO:+0200
TZNAME:CEST
DTSTART:20250330T010000
END:DAYLIGHT
BEGIN:STANDARD
TZOFFSETFROM:+0200
TZOFFSETTO:+0100
TZNAME:CET
DTSTART:20251026T010000
END:STANDARD
BEGIN:DAYLIGHT
TZOFFSETFROM:+0100
TZOFFSETTO:+0200
TZNAME:CEST
DTSTART:20260329T010000
END:DAYLIGHT
BEGIN:STANDARD
TZOFFSETFROM:+0200
TZOFFSETTO:+0100
TZNAME:CET
DTSTART:20261025T010000
END:STANDARD
END:VTIMEZONE
BEGIN:VEVENT
DTSTART;TZID=Europe/Prague:20251022T190000
DTEND;TZID=Europe/Prague:20251022T220000
DTSTAMP:20260420T012009
CREATED:20250921T074935Z
LAST-MODIFIED:20250921T074937Z
UID:706-1761159600-1761170400@kulturniradce.cz
SUMMARY:OSMANY show
DESCRIPTION:OSMANY show se uskuteční dne 2025-10-22 v 19:00 v Chrudim\, Muzeum – Fibichův sál. \n🎟️ Koupit vstupenku \n\nNejzábavnější pořad na světě\, v hlavní roli populární módní návrhář kubánského původu Osmany Laffita. \nTřetí nálož neuvěřitelných historek ze života Osmanyho Laffity\, kterou si vyžádali diváci! \nNové příběhy\, nové historky\, nová porce zábavy! \n\nTento tip na kulturní akci v Chrudim najdete v přehledu na KulturníRádce.cz spolu s dalšími koncerty\, festivaly a divadelními představeními.
URL:https://kulturniradce.cz/event/osmany-show-2/
LOCATION:Muzeum – Fibichův sál\, Chrudim\, Muzeum - Fibichův sál\, Chrudim\, Česká republika
CATEGORIES:Zábava
ATTACH;FMTTYPE=image/jpeg:https://kulturniradce.cz/wp-content/uploads/2025/09/320-00b55ff776e843c0b333e4a697069e98-1.jpg
END:VEVENT
BEGIN:VEVENT
DTSTART;TZID=Europe/Prague:20251009T183000
DTEND;TZID=Europe/Prague:20251009T213000
DTSTAMP:20260420T012009
CREATED:20251002T160131Z
LAST-MODIFIED:20251002T160131Z
UID:4058-1760034600-1760045400@kulturniradce.cz
SUMMARY:Kecy a politika - Chrudim
DESCRIPTION:Kecy a politika – Chrudim se uskuteční dne 2025-10-09 v 18:30 v Chrudim\, R Klub. \n🎟️ Koupit vstupenku \n\nKecy a politika komentátorů Bohumila Pečinky a Petrose Michopulose. Současná politika pohledem dvou rozdílných osobností\, kteří se nebojí říct své názory.  \nBohumil PečinkaPolitický komentátor a dlouholetý zástupce šéfredaktora Reflexu. \nPetros MichopulosExpert na politický marketing. \n\nTento tip na kulturní akci v Chrudim najdete v přehledu na KulturníRádce.cz spolu s dalšími koncerty\, festivaly a divadelními představeními.
URL:https://kulturniradce.cz/event/kecy-a-politika-chrudim/
LOCATION:R Klub\, Chrudim\, R Klub\, Chrudim\, Česká republika
CATEGORIES:Zábava
ATTACH;FMTTYPE=image/jpeg:https://kulturniradce.cz/wp-content/uploads/2025/10/320-d00095e8cae94f6c97023df31e4fa989.jpg
END:VEVENT
BEGIN:VEVENT
DTSTART;TZID=Europe/Prague:20250926T170000
DTEND;TZID=Europe/Prague:20250926T200000
DTSTAMP:20260420T012009
CREATED:20250923T181626Z
LAST-MODIFIED:20250923T181626Z
UID:1985-1758906000-1758916800@kulturniradce.cz
SUMMARY:Alenka v říši divů I Chrudim
DESCRIPTION:Alenka v říši divů I Chrudim se uskuteční dne 2025-09-26 v 17:00 v Chrudim\, Divadlo Karla Pippicha. \n🎟️ Koupit vstupenku \n\n✨Vezměte děti do světa\, kde realita ztrácí pevnou půdu pod nohama – do říše divů\, která ožije přímo před jejich očima! \n„Alenka v říši divů“ – interaktivní muzikál\, který přenese děti do světa fantazie\, kde se stěny hýbou\, stropy dýchají a housenky se plazí světelnými projekcemi po celém divadle. \n⏰Nečekejte obyčejné představení – čeká vás vizuální velkolepost\, která doslova vtáhne malé diváky přímo do příběhu! Kombinace špičkové datové projekce\, interaktivních scén\, světelných efektů a živé hudby promění divadlo v dechberoucí svět plný zázraků. \n🧒 Vaše děti nebudou jen sedět v hledišti – stanou se součástí děje: \n\n\npomohou Alence řešit tajemné hádanky\, \n\n\nzazpívají s ní kouzelné písničky\, \n\n\nzapojí se do pátrání po neviditelném kocourovi\, \n\n\na po představení se vyfotí přímo na jevišti se všemi postavami z říše divů! \n\n\n  \n🎭Tohle je zážitek\, na který se nezapomíná – tohle je jejich první opravdové dobrodružství v divadle. \nČeká vás říše\, kde se čaj pije o půlnoci\, králíci nosí hodinky\, kočky mluví a všechno dává smysl dětské fantazii. Příběh je hravě a srozumitelně upraven i pro nejmenší děti. \n  \nMuzikál od zkušených tvůrců inscenací Popelka a Vánoční loupež! \n\nTento tip na kulturní akci v Chrudim najdete v přehledu na KulturníRádce.cz spolu s dalšími koncerty\, festivaly a divadelními představeními.
URL:https://kulturniradce.cz/event/alenka-v-risi-divu-i-chrudim/
LOCATION:Divadlo Karla Pippicha\, Chrudim\, Divadlo Karla Pippicha\, Chrudim\, Česká republika
CATEGORIES:Divadlo
ATTACH;FMTTYPE=image/jpeg:https://kulturniradce.cz/wp-content/uploads/2025/09/320-1ad73b446c2d4874b7df9ab85263a902.jpg
END:VEVENT
END:VCALENDAR