BEGIN:VCALENDAR
VERSION:2.0
PRODID:-//www.kulturniradce.cz - ECPv6.15.20//NONSGML v1.0//EN
CALSCALE:GREGORIAN
METHOD:PUBLISH
X-WR-CALNAME:www.kulturniradce.cz
X-ORIGINAL-URL:https://kulturniradce.cz
X-WR-CALDESC:Akce na www.kulturniradce.cz
REFRESH-INTERVAL;VALUE=DURATION:PT1H
X-Robots-Tag:noindex
X-PUBLISHED-TTL:PT1H
BEGIN:VTIMEZONE
TZID:Europe/Prague
BEGIN:DAYLIGHT
TZOFFSETFROM:+0100
TZOFFSETTO:+0200
TZNAME:CEST
DTSTART:20240331T010000
END:DAYLIGHT
BEGIN:STANDARD
TZOFFSETFROM:+0200
TZOFFSETTO:+0100
TZNAME:CET
DTSTART:20241027T010000
END:STANDARD
BEGIN:DAYLIGHT
TZOFFSETFROM:+0100
TZOFFSETTO:+0200
TZNAME:CEST
DTSTART:20250330T010000
END:DAYLIGHT
BEGIN:STANDARD
TZOFFSETFROM:+0200
TZOFFSETTO:+0100
TZNAME:CET
DTSTART:20251026T010000
END:STANDARD
BEGIN:DAYLIGHT
TZOFFSETFROM:+0100
TZOFFSETTO:+0200
TZNAME:CEST
DTSTART:20260329T010000
END:DAYLIGHT
BEGIN:STANDARD
TZOFFSETFROM:+0200
TZOFFSETTO:+0100
TZNAME:CET
DTSTART:20261025T010000
END:STANDARD
END:VTIMEZONE
BEGIN:VEVENT
DTSTART;TZID=Europe/Prague:20250930T183000
DTEND;TZID=Europe/Prague:20250930T213000
DTSTAMP:20260420T033138
CREATED:20250921T131519Z
LAST-MODIFIED:20250921T131520Z
UID:1286-1759257000-1759267800@kulturniradce.cz
SUMMARY:ABBA a Beatles klasicky
DESCRIPTION:ABBA a Beatles klasicky se uskuteční dne 2025-09-30 v 18:30 v Chomutov\, Kostel sv. Ignáce. \n🎟️ Koupit vstupenku \n\nV Kostele sv. Ignáce v Chumutově připravujeme koncert\, kde na vás čekají vynikající aranže slavných písniček skupin ABBA a Beatles v unikátních aranžích Klárovo smyčcového kvarteta. \n  \nKLÁROVO KVARTETO \nPavel Hrda – I. housle\, Tom Klár – II. housle\, Libor Kaňka – viola\, Václav Fleissig – violoncello \n  \nPROGRAM: \nBEATLES:                                            ABBA:                        \nAll you need is Love                           Dancing Queen \nObladi – oblada                                   S.O.S. \nYesterday                                             Waterloo \nI want to hold your hand                    Super Trouper  \nHey\, Jude                                             Fernando \nFrom me to you                                   Mamma mia \nShe loves you                                      Money\, money\, money \nOh\, darling \nSomething \nDizzy miss Lizzy \nLady Madonna \nA hard day´s Night \n\nTento tip na kulturní akci v Chomutov najdete v přehledu na KulturníRádce.cz spolu s dalšími koncerty\, festivaly a divadelními představeními.
URL:https://kulturniradce.cz/event/abba-a-beatles-klasicky/
LOCATION:Kostel sv. Ignáce\, Chomutov\, Kostel sv. Ignáce\, Chomutov\, Česká republika
CATEGORIES:Koncert
ATTACH;FMTTYPE=image/jpeg:https://kulturniradce.cz/wp-content/uploads/2025/09/320-74569b615ad5430aa76720aea177f032.jpg
END:VEVENT
BEGIN:VEVENT
DTSTART;TZID=Europe/Prague:20250930T190000
DTEND;TZID=Europe/Prague:20250930T220000
DTSTAMP:20260420T033138
CREATED:20250923T175840Z
LAST-MODIFIED:20250923T175841Z
UID:1869-1759258800-1759269600@kulturniradce.cz
SUMMARY:Lubomír Brabec Jubilejní recitál
DESCRIPTION:Lubomír Brabec Jubilejní recitál se uskuteční dne 2025-09-30 v 19:00 v Čelákovice\, KD Čelákovice. \n🎟️ Koupit vstupenku \n\nLubomír Brabec patří mezi nejvýznamnější koncertní kytaristy současnosti akritika jej řadí ke špičce českého interpretačního umění. Pochází z Plzně\, začínaljako houslista a ke kytaře se dostal až ve svých třinácti letech. Jako patnáctiletývstoupil na plzeňskou konzervatoř a svá studia dokončil na konzervatoři v Praze.Významným mezníkem v jeho uměleckých začátcích byl úspěch\, kterého dosáhlv roce 1974 na Mezinárodní kytarové soutěži v Paříži\, kde získal titul laureáta.V roce 1980 získal stipendium britské vlády a pokračoval ve studiích nalondýnské Royal Academy of Music\, kde se ve světově proslulém Early MusicCentre věnoval interpretaci dobové hudby minulých století se speciálnímzaměřením na loutnovou literaturuLubomír Brabec spolupracuje s nejrenomovanějšími pěvci a sólisty / GabrielaBeňačková\, Elizabeth Vidal\, Alžběta Poláčková\, Hana Jonášová\, Lucie Bílá\, PetrDvorský\, Štefan Margita\, Daniel Hůlka\, Roman Janál\, Aleš Briscein\, LubomírMalý\, Pavel Šporcl\, Jiří Bárta\, Jaroslav Svěcený\, Vilém Veverka\, Jitka Hosprová\,Kateřina Englichová\, Žofie Vokálková\, Jan Mráček\, Olga Šroubková\, VáclavHudeček\, Jiří Stivín a další/. Neméně atraktivní je jeho nahrávací činnost.Diskografie Lubomíra Brabce obsahuje více než 30 titulů /m.j. autorská albaF.Sor\, J.S.Bach\, F.Tárrega\, N.Paganini\, A.Vivaldi\, H.Villa-Lobos\, V. Trojan /. Zasnímek Rodrigova Concierta de Aranjuez (Panton) byl roku 1986 oceněn„Zlatým štítem“ za nejlepší nahrávku roku. Brazilská vláda mu v roce 1989udělila Medaili Heitora Villa-Lobose. Od firmy Supraphon Records\, obdržel dvězlaté desky první v roce 1991 za desku Transformace a druhou v roce 1996 zanahrávku Vivaldiho koncertů. Za nahrávku „Suburban Path“ získal v Číně v roce1995 Golden Song Prize. V roce 2003 byl oceněn vydavatelstvím MultisonicZlatou a Platinovou deskou za CD Vánoční Transformace. V roce 2013 získal odfirmy Supraphon Diamantovou desku za půl milionu prodaných desek. V témžeroce při příležitosti státního svátku obdržel na Pražském hradě od prezidentarepubliky Medaili I.stupně za zásluhy o stát v oblasti umění. V roce 2018 byloceněn Multiplatinovou deskou vydavatelství Multisonic.Jako první hudebník na světě uskutečnil v roce 1997 koncert v šestémsvětadílu\, v Antarktidě. Lubomír Brabec je aktivní jachtař. Zabývá se takélyžováním ve volném terénu\, canyoningem a potápěním. Třikrát navštívilAntarktidu. V roce 2004 se zúčastnil jachtařské expedice přeplutí Drakeovaprůlivu do Antarktidy. \n\nTento tip na kulturní akci v Čelákovice najdete v přehledu na KulturníRádce.cz spolu s dalšími koncerty\, festivaly a divadelními představeními.
URL:https://kulturniradce.cz/event/lubomir-brabec-jubilejni-recital/
LOCATION:KD Čelákovice\, Čelákovice\, KD Čelákovice\, Čelákovice\, Česká republika
CATEGORIES:Koncert
ATTACH;FMTTYPE=image/jpeg:https://kulturniradce.cz/wp-content/uploads/2025/09/320-b4f7474a68a047cdab0c808bd9a7dfea.jpg
END:VEVENT
BEGIN:VEVENT
DTSTART;TZID=Europe/Prague:20250930T190000
DTEND;TZID=Europe/Prague:20250930T220000
DTSTAMP:20260420T033138
CREATED:20250926T131307Z
LAST-MODIFIED:20250926T131307Z
UID:2496-1759258800-1759269600@kulturniradce.cz
SUMMARY:Hudba Ennia Morriconeho při svíčkách
DESCRIPTION:Hudba Ennia Morriconeho při svíčkách se uskuteční dne 2025-09-30 v 19:00 v Jihlava\, DKO. \n🎟️ Koupit vstupenku \n\nKoncert filmové hudby Ennia Morriconeho při svíčkách v Jihlavě! \nTěšte se na neopakovatelnou atmosféru koncertní síně naplněné očekáváním\, kde vás zvuky smyčcových nástrojů provedou emocemi Morriconeho mistrovských děl. V tomto podání kvartetu zažijete napětí\, melancholii\, ale i radost\, jak je zachytil Morricone ve svých nejslavnějších filmových skladbách z legendárních snímků jako Tenkrát na Západě\, Hodný\, zlý a ošklivý\, Osm hrozných\, Neúplatní\, Profesionál a mnoho dalších.. \nTento koncert nabídne víc než jen hudbu. Sál ozáří stovky svíček\, které vytvoří magickou atmosféru a dokonale doplní Morriconeho nadčasové skladby. Spojení hudby a světla zajistí nezapomenutelný večer plný emocí. \nAkce je přístupná od 12 let. Každý účastník musí předložit platnou vstupenku  zakoupenou výhradně v síti SMS ticket. \n\nTento tip na kulturní akci v Jihlava najdete v přehledu na KulturníRádce.cz spolu s dalšími koncerty\, festivaly a divadelními představeními.
URL:https://kulturniradce.cz/event/hudba-ennia-morriconeho-pri-svickach-3/
LOCATION:DKO\, Jihlava\, DKO\, Jihlava\, Česká republika
CATEGORIES:Koncert
ATTACH;FMTTYPE=image/jpeg:https://kulturniradce.cz/wp-content/uploads/2025/09/320-f5e28ae20d4342369ef01700c5f8b043.jpg
END:VEVENT
END:VCALENDAR