BEGIN:VCALENDAR
VERSION:2.0
PRODID:-//www.kulturniradce.cz - ECPv6.15.20//NONSGML v1.0//EN
CALSCALE:GREGORIAN
METHOD:PUBLISH
X-WR-CALNAME:www.kulturniradce.cz
X-ORIGINAL-URL:https://kulturniradce.cz
X-WR-CALDESC:Akce na www.kulturniradce.cz
REFRESH-INTERVAL;VALUE=DURATION:PT1H
X-Robots-Tag:noindex
X-PUBLISHED-TTL:PT1H
BEGIN:VTIMEZONE
TZID:Europe/Prague
BEGIN:DAYLIGHT
TZOFFSETFROM:+0100
TZOFFSETTO:+0200
TZNAME:CEST
DTSTART:20240331T010000
END:DAYLIGHT
BEGIN:STANDARD
TZOFFSETFROM:+0200
TZOFFSETTO:+0100
TZNAME:CET
DTSTART:20241027T010000
END:STANDARD
BEGIN:DAYLIGHT
TZOFFSETFROM:+0100
TZOFFSETTO:+0200
TZNAME:CEST
DTSTART:20250330T010000
END:DAYLIGHT
BEGIN:STANDARD
TZOFFSETFROM:+0200
TZOFFSETTO:+0100
TZNAME:CET
DTSTART:20251026T010000
END:STANDARD
BEGIN:DAYLIGHT
TZOFFSETFROM:+0100
TZOFFSETTO:+0200
TZNAME:CEST
DTSTART:20260329T010000
END:DAYLIGHT
BEGIN:STANDARD
TZOFFSETFROM:+0200
TZOFFSETTO:+0100
TZNAME:CET
DTSTART:20261025T010000
END:STANDARD
END:VTIMEZONE
BEGIN:VEVENT
DTSTART;TZID=Europe/Prague:20251004T180000
DTEND;TZID=Europe/Prague:20251004T210000
DTSTAMP:20260420T033128
CREATED:20250928T075750Z
LAST-MODIFIED:20250928T075750Z
UID:2885-1759600800-1759611600@kulturniradce.cz
SUMMARY:Klavírní koncert Lorenzo Masotto: Between Silence and Sound
DESCRIPTION:Klavírní koncert Lorenzo Masotto: Between Silence and Sound se uskuteční dne 2025-10-04 v 18:00 v Brno\, Besední dům. \n🎟️ Koupit vstupenku \n\n„Between Silence and Sound“ je poetická a hluboce osobní hudební pouť\, na kterou vás zve italský klavírista a skladatel Lorenzo Masotto. \nTento výjimečný večer nabídne průřez více než desetiletou tvorbou umělce\, jenž s mistrovskou lehkostí propojuje neoklasiku\, jazz\, ambientní atmosféry i alternativní zvukové krajiny. \nKaždý tón je vzpomínkou. Každý akord obrazem krajiny — vnější i vnitřní.Masottova precizní práce s tichem\, rezonancí a dynamikou otevírá prostor pro hluboký prožitek. Jeho klavír se stává hlasem\, který dokáže říci víc než slova — hlasem\, jenž promlouvá přímo k srdci. \nLorenzo Masotto vystudoval klasickou hru na klavír a kompozici na Conservatorio di Verona a dále rozvíjel svou uměleckou vizi na Hochschule für Musik Franz Liszt ve Výmaru. Jeho hudební cesta vede napříč žánry — od klasiky přes jazzovou improvizaci až po syrovou energii experimentálního rocku\, což mu propůjčuje jedinečný autorský rukopis. \nVydal osm alb u evropských i amerických vydavatelství. Jeho nejnovější album Earde (2025\, Whitelabrecs\, UK) je inspirováno krásami islandské přírody\, Dolomit a rodné Lessinie. Vystupoval v prestižních sálech napříč Evropou i USA — mimo jiné v londýnských Union Chapel a Bush Hall\, lisabonském Teatro Ibérico či dublinském Smock Alley Theatre. \nEN \n“Between Silence and Sound” is a poetic and deeply personal musical journey\, to which you are invited by Italian pianist and composer Lorenzo Masotto. \nThis exceptional evening will offer a cross-section of the artist’s work spanning more than a decade\, where neoclassicism\, jazz\, ambient soundscapes\, and alternative sonic textures intertwine with masterful ease. \nEvery tone is a memory. Every chord paints a landscape — both external and internal.Masotto’s precise mastery of silence\, resonance\, and dynamics opens a space for profound experience. His piano becomes a voice that speaks more than words — a voice that resonates directly with the heart. \nLorenzo Masotto studied classical piano and composition at the Conservatorio di Verona and further refined his artistic vision at the Hochschule für Musik Franz Liszt in Weimar. His musical journey crosses genres — from classical music through jazz improvisation to the raw energy of experimental rock — giving him a distinctive and original voice. \nHe has released eight albums on European and American labels. His latest album\, Earde (2025\, Whitelabrecs\, UK)\, is inspired by the natural beauty of Iceland\, the Dolomites\, and his native Lessinia. He has performed in prestigious venues across Europe and the USA\, including London’s Union Chapel and Bush Hall\, Lisbon’s Teatro Ibérico\, and Dublin’s Smock Alley Theatre. \n\nTento tip na kulturní akci v Brno najdete v přehledu na KulturníRádce.cz spolu s dalšími koncerty\, festivaly a divadelními představeními.
URL:https://kulturniradce.cz/event/klavirni-koncert-lorenzo-masotto-between-silence-and-sound/
LOCATION:Besední dům\, Brno\, Besední dům\, Brno\, Česká republika
CATEGORIES:Koncert
ATTACH;FMTTYPE=image/jpeg:https://kulturniradce.cz/wp-content/uploads/2025/09/320-f84345decc81407d82f4c54b33bb75eb.jpg
END:VEVENT
BEGIN:VEVENT
DTSTART;TZID=Europe/Prague:20251004T180000
DTEND;TZID=Europe/Prague:20251004T210000
DTSTAMP:20260420T033128
CREATED:20251002T164047Z
LAST-MODIFIED:20251002T164048Z
UID:4300-1759600800-1759611600@kulturniradce.cz
SUMMARY:Santini Telč
DESCRIPTION:Santini Telč se uskuteční dne 2025-10-04 v 18:00 v Jaroměřice nad Rokytnou\, Kostel sv. Markéty. \n🎟️ Koupit vstupenku \n\nHUDBA NAPŘÍČ STALETÍMI \nZveme vás na koncert smíšeného souboru Santini Telč\, který provede duchovní hudbou od starých mistrů až po současné autory a rozezní nádherný barokní kostel sv. Markéty v Jaroměřicích nad Rokytnou. \nTěšíme se na vás! \n\nTento tip na kulturní akci v Jaroměřice nad Rokytnou najdete v přehledu na KulturníRádce.cz spolu s dalšími koncerty\, festivaly a divadelními představeními.
URL:https://kulturniradce.cz/event/santini-telc/
LOCATION:Kostel sv. Markéty\, Jaroměřice nad Rokytnou\, Kostel sv. Markéty\, Jaroměřice nad Rokytnou\, Česká republika
CATEGORIES:Koncert
ATTACH;FMTTYPE=image/jpeg:https://kulturniradce.cz/wp-content/uploads/2025/10/320-77771ce9b1d34463bc5a4d55a56ea9f8.jpg
END:VEVENT
BEGIN:VEVENT
DTSTART;TZID=Europe/Prague:20251004T190000
DTEND;TZID=Europe/Prague:20251004T220000
DTSTAMP:20260420T033128
CREATED:20250922T045352Z
LAST-MODIFIED:20250922T045352Z
UID:1637-1759604400-1759615200@kulturniradce.cz
SUMMARY:Koncert filmové hudby | Třebíč
DESCRIPTION:Koncert filmové hudby | Třebíč se uskuteční dne 2025-10-04 v 19:00 v Třebíč\, Divadlo Pasáž. \n🎟️ Koupit vstupenku \n\nSmyčce Pražského filmového orchestru pod taktovkou dirigenta Jiřího Korynty přináší velkolepý koncert\, který představí v divadle Pasáž v Třebíči! \nDiváci se mohou těšit na skladby z filmů Star Wars\, Pán Prstenů\, Games of Thrones\, Harry Potter\, Piráti z Karibiku a další známé melodie stříbrného plátna. \nKoncert bude bohatý na fantastickou filmovou hudbu od světově známých hudebních skladatelů\, jakými jsou např. John Williams\, Hans Zimmer\, Howard Shore nebo James Horner.  \nAkce je přístupná od 12 let. Každý účastník musí předložit platnou vstupenku  zakoupenou výhradně v síti SMS ticket. \n\nTento tip na kulturní akci v Třebíč najdete v přehledu na KulturníRádce.cz spolu s dalšími koncerty\, festivaly a divadelními představeními.
URL:https://kulturniradce.cz/event/koncert-filmove-hudby-trebic/
LOCATION:Divadlo Pasáž\, Třebíč\, Divadlo Pasáž\, Třebíč\, Česká republika
CATEGORIES:Koncert
ATTACH;FMTTYPE=image/jpeg:https://kulturniradce.cz/wp-content/uploads/2025/09/320-a95e87ad588c4ae2b2055386258cdd06.jpg
END:VEVENT
END:VCALENDAR