BEGIN:VCALENDAR
VERSION:2.0
PRODID:-//www.kulturniradce.cz - ECPv6.15.20//NONSGML v1.0//EN
CALSCALE:GREGORIAN
METHOD:PUBLISH
X-ORIGINAL-URL:https://kulturniradce.cz
X-WR-CALDESC:Akce na www.kulturniradce.cz
REFRESH-INTERVAL;VALUE=DURATION:PT1H
X-Robots-Tag:noindex
X-PUBLISHED-TTL:PT1H
BEGIN:VTIMEZONE
TZID:Europe/Prague
BEGIN:DAYLIGHT
TZOFFSETFROM:+0100
TZOFFSETTO:+0200
TZNAME:CEST
DTSTART:20240331T010000
END:DAYLIGHT
BEGIN:STANDARD
TZOFFSETFROM:+0200
TZOFFSETTO:+0100
TZNAME:CET
DTSTART:20241027T010000
END:STANDARD
BEGIN:DAYLIGHT
TZOFFSETFROM:+0100
TZOFFSETTO:+0200
TZNAME:CEST
DTSTART:20250330T010000
END:DAYLIGHT
BEGIN:STANDARD
TZOFFSETFROM:+0200
TZOFFSETTO:+0100
TZNAME:CET
DTSTART:20251026T010000
END:STANDARD
BEGIN:DAYLIGHT
TZOFFSETFROM:+0100
TZOFFSETTO:+0200
TZNAME:CEST
DTSTART:20260329T010000
END:DAYLIGHT
BEGIN:STANDARD
TZOFFSETFROM:+0200
TZOFFSETTO:+0100
TZNAME:CET
DTSTART:20261025T010000
END:STANDARD
END:VTIMEZONE
BEGIN:VEVENT
DTSTART;TZID=Europe/Prague:20251009T183000
DTEND;TZID=Europe/Prague:20251009T213000
DTSTAMP:20260420T033257
CREATED:20250921T082833Z
LAST-MODIFIED:20250921T082834Z
UID:1095-1760034600-1760045400@kulturniradce.cz
SUMMARY:Filmové melodie a Queen 2
DESCRIPTION:Filmové melodie a Queen 2 se uskuteční dne 2025-10-09 v 18:30 v Praha\, Kostel Sv. Martina ve Zdi. \n🎟️ Koupit vstupenku \n\n  \nPřijdte se zaposlouchat do filmových melodií a rozšířeného množství aranží skupiny Queen od Esferas kvarteta do unikátních prostředí původně románského kostela Sv. Martina ve Zdi. \n  \nFILMOVÉ MELODIE a QUEEN 2 s Esferas KvartetemI. housle Ivana MorysováII. housle: Nikola Mikešováviola: Jan Forestvioloncello: Petr Špaček  \nPROGRAM: \nQUEEN                            Love of my life \nQUEEN                            Bohemian Rhapsody \nQUEEN                            We are the Champions \nQUEEN                            Show must go on \nQUEEN                            Don´t stop me now \nPÁN PRSTENŮ                Howard Shore:  Concerning Hobbits    \nHVĚZDNÁ BRÁNA          David Arnold: hlavní téma  \nANGELICA                       M. Magne: the main theme  \nFORREST GUMP             Alan Silvestri:  Feather Theme \nROCKY                             Survivor:  Eye of the Tiger \nTENKRÁT NA ZÁPADĚ   Ennio Morricone:  hlavní téma \nSTAR WARS                     J. Williams: Love Theme \nFRIENDS                           I´ll  be there for you \nZRODILA SE HVĚZDA     Shallow                                                                              \nHRA O TRŮNY                  The Rains of Castamere \nHRA O TRŮNY                  Ramin Djawadi: hlavní téma           \nJAK VYCVIČIT DRAKA     J. Powell: Romantic Flight \nSTAR WARS                      John Williams: Star Wars:  main theme \nSTAR WARS                      John Williams: Cantina Bar Music \n  \nZměna programu a účinkujících vyhrazena. \n\nTento tip na kulturní akci v Praha najdete v přehledu na KulturníRádce.cz spolu s dalšími koncerty\, festivaly a divadelními představeními.
URL:https://kulturniradce.cz/event/filmove-melodie-a-queen-2/
LOCATION:Kostel Sv. Martina ve Zdi\, Praha\, Kostel Sv. Martina ve Zdi\, Praha\, Česká republika
CATEGORIES:Koncert
ATTACH;FMTTYPE=image/jpeg:https://kulturniradce.cz/wp-content/uploads/2025/09/320-ff8419a950554936a46f155d92bbeffd.jpg
END:VEVENT
BEGIN:VEVENT
DTSTART;TZID=Europe/Prague:20251009T190000
DTEND;TZID=Europe/Prague:20251009T220000
DTSTAMP:20260420T033257
CREATED:20250926T134305Z
LAST-MODIFIED:20250926T134306Z
UID:2520-1760036400-1760047200@kulturniradce.cz
SUMMARY:Hudba Harryho Pottera při svíčkách | Jablonec nad Nisou
DESCRIPTION:Hudba Harryho Pottera při svíčkách | Jablonec nad Nisou se uskuteční dne 2025-10-09 v 19:00 v Jablonec nad Nisou\, Eurocentrum. \n🎟️ Koupit vstupenku \n\nNenechte si ujít večer plný magické hudby\, kde zazní ty nejznámější melodie a písně ze všech filmů Harryho Pottera. Světlo stovky svíček vytvoří nezapomenutelnou atmosféru koncertu. \nProgram v jedinečném klavírním provedení představuje výběr filmových skladeb od pětinásobného oscarového skladatele Johna Williamse společně s díly Patricka Doyla\, Nicolase Hoopera a Alexandra Desplata\, držitele Oscara\, a nabízí to nejlepší z hudby Harryho Pottera. \nTento magický koncert nabídne víc než jen hudbu; stovky svíček rozzáří prostor a přidají na tajemné atmosféře plné mystiky a kouzel. \nMůžete se těšit na známé melodie a písně z filmů Harryho Pottera\, upravené pro klavírní koncert a to v podání předního českého klavíristy Alexandra Starého. \nV rámci Evropské tour alternují také: František Panáček a Lucie Kubátová.  \nAkce je přístupná od 12 let. Každý účastník musí předložit platnou vstupenku  zakoupenou výhradně v síti SMS ticket. \n„Celé představení si můžete naplno vychutnat\, díky korunnímu klenotu mezi koncertními klavíry C. Bechstein D 282.Tímto děkujeme našemu partnerovi C. Bechstein – www.bechstein.com za podporu akce.“ \n\nTento tip na kulturní akci v Jablonec nad Nisou najdete v přehledu na KulturníRádce.cz spolu s dalšími koncerty\, festivaly a divadelními představeními.
URL:https://kulturniradce.cz/event/hudba-harryho-pottera-pri-svickach-jablonec-nad-nisou/
LOCATION:Eurocentrum\, Jablonec nad Nisou\, Eurocentrum\, Jablonec nad Nisou\, Česká republika
CATEGORIES:Koncert
ATTACH;FMTTYPE=image/jpeg:https://kulturniradce.cz/wp-content/uploads/2025/09/320-aa0bd21755d549b2a8e565e457b38535.jpg
END:VEVENT
BEGIN:VEVENT
DTSTART;TZID=Europe/Prague:20251009T190000
DTEND;TZID=Europe/Prague:20251009T220000
DTSTAMP:20260420T033257
CREATED:20251002T164228Z
LAST-MODIFIED:20251002T164229Z
UID:4340-1760036400-1760047200@kulturniradce.cz
SUMMARY:Smyčcové trio Eterea
DESCRIPTION:Smyčcové trio Eterea se uskuteční dne 2025-10-09 v 19:00 v Světlá nad Sázavou\, KIVADLO. \n🎟️ Koupit vstupenku \n\nTři krásné ženy. Tři elektrické nástroje.Přijďte zažít temperamentní koncert Tria Eterea.!!! \nTři rozdílné ženy s různým přístupem k hudbě. Eterea spojuje všechny rozdílné živly. OHEŇ – temperament\, ZEMĚ – sehranost se snoubí s VODOU – plynulostí a VZDUCHEM – lehkostí. \nEterea nabízí populární\, energickou show plnou filmové hudby\, současných a klasických hitů v originálním podání tří krásných žen. Vychutnejte si hudební díla od Antonia Vivaldiho až po Billie Eilish v Neotřelých aranžích elektrických smyčcových nástrojů. Skvěle sehrané a zvukově kompaktní těleso\, ladí uchu i oku posluchače. \nKoncerty mají v sobě originalitu\, náboj a nevšední atmosféru. \nPřijďte to zažít na vlastní kůži!!! \n  \n BARBORA VYCHODILOVÁ: Vystudovala hru na violoncello na konzervatoři v Pardubicích. Je členkou Filharmonie Hradec Králové. Doprovázela Michaela Bublého\, Josého Carerase a další. \nVIKTORIA ENGLBERTH: Vystudovala hru na housle na Pražské konzervatoři\, pokračovala na HAMU. Doprovázela na pódiích Andreu Bocelliho\, Plácida Dominga\, Uli Rotha ze skupiny Scorpions. \nVERONIKA LINHARTOVÁ: Vystudovala hru na housle na Pražské konzervatoři. Podílí se i na řadě nahrávek: Aidkid\, Petr Nikl\, Zvíře jménem podzim\, hudba k představením Cirku La Putyka\, uskupení 5 Out Loud. \n  \nDélka koncertu: 110 minut včetně přestávky \n\nTento tip na kulturní akci v Světlá nad Sázavou najdete v přehledu na KulturníRádce.cz spolu s dalšími koncerty\, festivaly a divadelními představeními.
URL:https://kulturniradce.cz/event/smyccove-trio-eterea/
LOCATION:KIVADLO\, Světlá nad Sázavou\, KIVADLO\, Světlá nad Sázavou\, Česká republika
CATEGORIES:Koncert
ATTACH;FMTTYPE=image/jpeg:https://kulturniradce.cz/wp-content/uploads/2025/10/320-3070db7f91f743dcab72da5aa94da0bc.jpg
END:VEVENT
BEGIN:VEVENT
DTSTART;TZID=Europe/Prague:20251009T200000
DTEND;TZID=Europe/Prague:20251009T230000
DTSTAMP:20260420T033257
CREATED:20251002T171251Z
LAST-MODIFIED:20251002T171251Z
UID:4703-1760040000-1760050800@kulturniradce.cz
SUMMARY:Beata Hlavenková a Trio Snů | Martina Trchová
DESCRIPTION:Beata Hlavenková a Trio Snů | Martina Trchová se uskuteční dne 2025-10-09 v 20:00 v Brno\, Klub Alterna. \n🎟️ Koupit vstupenku \n\nBeata Hlavenková a Trio Snů \nPianistka\, skladatelka\, zpěvačka\, aranžérka a producentka\, je jednou z nejvýraznějších současných muzikantek s nezaměnitelným nadžánrovým autorským rukopisem. Její hlavní devízou je odvaha – odvaha experimentovat\, hledat nekonvenční harmonie a aranžmá. Žánrová svoboda\, opírající se o hluboké povědomí o jazzu\, moderní klasické hudbě\, popu i písničkářství\, se ve všech jejích projektech prolíná s jasně rozpoznatelnou soustředěnou a citlivou interpretací.  \nNa kontě má šest sólových desek. Joy For Joel (2009)\, klavírní Theodoros (2013)\, dále Scintilla (2015)\, Bethlehem (2017) a alba písní a zhudebněných básní Sně (2019) a Žijutě (2021). Všechny nahrávky získaly nominace na cenu Anděl a dvě z nich byly proměněny. (Theodoros – album roku v kategorii jazz 2013\, Sně – Interpretka roku 2019 – Sně).  \nHlavenková spolupracuje jak s českými\, tak světovými hudebníky. Mezi zásadní spolupráce patří ta s Lenkou Dusilovou\, jejichž společné autorské album ještě s Clarinet Factory – Eternal Seekers (2008) zaujalo jak publikum tak odbornou veřejnost. Dále pak stála u zrodu Baromantiky – kapely a producentského teamu.  \nSkládá hudbu pro film (Dukla 61\, Zátopek\, Král Šumavy). Také se věnuje komponování hudby pro divadlo\, tanec\, dětské divadlo či audioknihy. Aranžuje písně\, od malých forem v akustické podobě či zvukovém designu\, až po symfonický orchestr.  \nZískala dvě nominace na Českého lva v kategorii Nejlepší hudba za film Zátopek (2021) a sérii Král Šumavy: Fantom temného kraje (2022). Vydala soundtracky Zátopek (2021) a  DUKLA 61 (2024).  \nKoncertuje sólově\, nebo s Kapelou Snů a v novém projektu s performerem na modulární syntetizér HRTL.  \nHlavenkové tvorbu vyzdvihl loni streamovací gigant Spotify\, když ji uvedl jako Equal CZ&SK Umělkyní měsíce listopadu 2021 a její podobizna visela na obřím billboardu na Times Square.  \nMartina Trchová  \nPísničkářka\, zpěvačka a kytaristka\, která na novém albu 90 % štěstí (Indies Scope\, 2024) zdárně experimentuje s žánry od indie folku až po jazzrock a pop. Na podzim roku 2024 – osm let po Andělem oceněném Holobytu – vydala v produkci Martina Kyšperského z kapely Květy v pořadí čtvrté album 90 % štěstí (Indies Scope)\, opět nominované na cenu Anděl. V nových písních Martina zachycuje pocity spojené s dvojnásobným mateřstvím i rodinnými ztrátami\, všímá si ale také detailů kažodenního městského života. Vystupuje nejčastěji s kytarou a looperem v doprovodu baskytary (Jaroslav Panuš)\, hostující výjimečné vokalistky (Prune) a žesťů (Christopher Strandh)\, výjimečně s celým bandem složeným navíc z kapely Květy. Křehkost\, naléhavost a razance skladeb ovšem přetrvávají i v komorním obsazení.  \n\nTento tip na kulturní akci v Brno najdete v přehledu na KulturníRádce.cz spolu s dalšími koncerty\, festivaly a divadelními představeními.
URL:https://kulturniradce.cz/event/beata-hlavenkova-a-trio-snu-martina-trchova/
LOCATION:Klub Alterna\, Brno\, Klub Alterna\, Brno\, Česká republika
CATEGORIES:Koncert
ATTACH;FMTTYPE=image/jpeg:https://kulturniradce.cz/wp-content/uploads/2025/10/320-fa8867d3bcbd4db499943eefed3e95bb.jpg
END:VEVENT
END:VCALENDAR