BEGIN:VCALENDAR
VERSION:2.0
PRODID:-//www.kulturniradce.cz - ECPv6.15.20//NONSGML v1.0//EN
CALSCALE:GREGORIAN
METHOD:PUBLISH
X-ORIGINAL-URL:https://kulturniradce.cz
X-WR-CALDESC:Akce na www.kulturniradce.cz
REFRESH-INTERVAL;VALUE=DURATION:PT1H
X-Robots-Tag:noindex
X-PUBLISHED-TTL:PT1H
BEGIN:VTIMEZONE
TZID:Europe/Prague
BEGIN:DAYLIGHT
TZOFFSETFROM:+0100
TZOFFSETTO:+0200
TZNAME:CEST
DTSTART:20240331T010000
END:DAYLIGHT
BEGIN:STANDARD
TZOFFSETFROM:+0200
TZOFFSETTO:+0100
TZNAME:CET
DTSTART:20241027T010000
END:STANDARD
BEGIN:DAYLIGHT
TZOFFSETFROM:+0100
TZOFFSETTO:+0200
TZNAME:CEST
DTSTART:20250330T010000
END:DAYLIGHT
BEGIN:STANDARD
TZOFFSETFROM:+0200
TZOFFSETTO:+0100
TZNAME:CET
DTSTART:20251026T010000
END:STANDARD
BEGIN:DAYLIGHT
TZOFFSETFROM:+0100
TZOFFSETTO:+0200
TZNAME:CEST
DTSTART:20260329T010000
END:DAYLIGHT
BEGIN:STANDARD
TZOFFSETFROM:+0200
TZOFFSETTO:+0100
TZNAME:CET
DTSTART:20261025T010000
END:STANDARD
END:VTIMEZONE
BEGIN:VEVENT
DTSTART;TZID=Europe/Prague:20251010T190000
DTEND;TZID=Europe/Prague:20251010T220000
DTSTAMP:20260420T033247
CREATED:20251001T190132Z
LAST-MODIFIED:20251001T190132Z
UID:3695-1760122800-1760133600@kulturniradce.cz
SUMMARY:Viennese Tuning Times v Brně s Giordanem Farinou
DESCRIPTION:Viennese Tuning Times v Brně s Giordanem Farinou se uskuteční dne 2025-10-10 v 19:00 v Brno\, Radnice Brno-střed. \n🎟️ Koupit vstupenku \n\nViennese Tuning Times: V Brně na křídlech baroka a klasicismu s italským charismatem. Vstupné: Základní 300 Kč\, Snížené 200 Kč do 15 let\, senioři +65 let\, ISIC\, ZTP. \nV pátek 10. října 2025 od 19 hodin zazní v sále radnice městské části Brno-střed koncert komorního souboru Viennese Tuning Times\, který nabídne večer plný okouzlujících árií a virtuózních skladeb z pokladnic barokních a klasicistních mistrů – Vivaldiho\, Händela\, Bacha\, Mozarta\, Dittersdorfa\, Spergera a dalších. \nKoncert bude mít hned několik vrcholů. \nPrvním bude setkání dvou výrazných pěveckých osobností – mezzosopranistky Ivy Táborské\, stálé členky souboru\, a speciálního hosta\, italského basisty Giordana Fariny. \nIva Táborská\, výrazná pěvkyně české barokní scény si získává srdce posluchačů svým uhrančivým\, temně zbarveným hlasem\, výrazovou citlivostí a hlubokým prožitkem.  \nGiordano Farina\, sólista renomovaných scén jako Teatro San Carlo di Napoli či Teatro Verdi di Pisa a držitel ocenění z prestižních mezinárodních soutěží (například Spoleto\, Musica Sacra\, Let’s Sing)\, je vyhledávaným interpretem nejen operních rolí\, ale i barokního a duchovního repertoáru. Jeho hluboký hudební výraz\, kultivovaný projev a umělecká přesvědčivost se přidají k pěveckým vrcholům večera.  \nIva Táborská a Giordano Farina se také mimo jiné spojí k vřelému závěru večera provedením slavného duetu Là ci darem la mano z opery Don Giovanni  Wolfganga Amadea Mozarta. \nDalším z vrcholů večera bude Koncert č. 1 pro violon Karla Ditterse von Dittersdorf\, dílo plné šarmu\, brilance a klasicistní elegance. Na dnes již téměř zapomenutý historický violon jej provede sólista a specialista na tento nástroj Sebastian Brettfeld. „Vídeňské“ ladění violonu navrací hudbě 17. a 18. století její původní barvu a zvukovou krásu. \nNeméně poutavým momentem večera bude virtuózní duet pro violon a violu Johannese Matthiase Spergera – dílo\, které v podání  Ariany Suleiman Shakh na violu a Sebastiana Brettfelda na historický violon nabídne posluchačům dialog plný emocí\, hravosti a melodické krásy.  \nKoncert nabídne výjimečný hudební zážitek s výpravou do světa 17. a 18. století\, kdy se hudba rodila v těsném kontaktu s přírodou\, poezií\, a lidskou duší. \nSrdečně Vás zveme! \n\nTento tip na kulturní akci v Brno najdete v přehledu na KulturníRádce.cz spolu s dalšími koncerty\, festivaly a divadelními představeními.
URL:https://kulturniradce.cz/event/viennese-tuning-times-v-brne-s-giordanem-farinou/
LOCATION:Radnice Brno-střed\, Brno\, Radnice Brno-střed\, Brno\, Česká republika
CATEGORIES:Koncert
ATTACH;FMTTYPE=image/jpeg:https://kulturniradce.cz/wp-content/uploads/2025/10/320-e77a36d6e23e40fe964d2c9c095d076b.jpg
END:VEVENT
BEGIN:VEVENT
DTSTART;TZID=Europe/Prague:20251010T190000
DTEND;TZID=Europe/Prague:20251010T220000
DTSTAMP:20260420T033247
CREATED:20251008T190819Z
LAST-MODIFIED:20251008T190820Z
UID:5359-1760122800-1760133600@kulturniradce.cz
SUMMARY:Daniela Filo - Sólový koncert
DESCRIPTION:Daniela Filo – Sólový koncert se uskuteční dne 2025-10-10 v 19:00 v Hradec Králové\, Galerie Sodovkárna. \n🎟️ Koupit vstupenku \n\nGala večer Hudby & Elegance \nSólový koncert s exkluzivním doprovodným programem \n  \nZažijte výjimečný kulturní zážitek\, který propojuje svět filmové\, muzikálové a operní hudby s noblesou klasického designu. Operní pěvkyně Daniela Filo\, sopranistka s jedinečným citem pro interpretaci\, vás provede večerem plným emocí\, tónů a elegance. Tento večer si vychutnají milovníci krásy v každé podobě – ať už jde o fascinující lidský hlas nebo nadčasový design legendárních automobilů. \n  \n18:30 \nWelcome drink a otevření prostor \n19:00 \nZahájení koncertu Daniely Filo \nPřestávka \nKomentovaná prohlídka historických vozů Porsche \n21:00 \nZávěrečná část koncertu Daniely Filo \n  \nDopřejte si večer\, který zůstane v paměti a zažijte jedinečné spojení živého umění\, špičkové hudby a mechanického designu minulosti. \n\nTento tip na kulturní akci v Hradec Králové najdete v přehledu na KulturníRádce.cz spolu s dalšími koncerty\, festivaly a divadelními představeními.
URL:https://kulturniradce.cz/event/daniela-filo-solovy-koncert/
LOCATION:Galerie Sodovkárna\, Hradec Králové\, Galerie Sodovkárna\, Hradec Králové\, Česká republika
CATEGORIES:Koncert
ATTACH;FMTTYPE=image/jpeg:https://kulturniradce.cz/wp-content/uploads/2025/10/320-823adc67bd4848acb2184eca69b6394e.jpg
END:VEVENT
END:VCALENDAR