BEGIN:VCALENDAR
VERSION:2.0
PRODID:-//www.kulturniradce.cz - ECPv6.15.20//NONSGML v1.0//EN
CALSCALE:GREGORIAN
METHOD:PUBLISH
X-WR-CALNAME:www.kulturniradce.cz
X-ORIGINAL-URL:https://kulturniradce.cz
X-WR-CALDESC:Akce na www.kulturniradce.cz
REFRESH-INTERVAL;VALUE=DURATION:PT1H
X-Robots-Tag:noindex
X-PUBLISHED-TTL:PT1H
BEGIN:VTIMEZONE
TZID:Europe/Prague
BEGIN:DAYLIGHT
TZOFFSETFROM:+0100
TZOFFSETTO:+0200
TZNAME:CEST
DTSTART:20240331T010000
END:DAYLIGHT
BEGIN:STANDARD
TZOFFSETFROM:+0200
TZOFFSETTO:+0100
TZNAME:CET
DTSTART:20241027T010000
END:STANDARD
BEGIN:DAYLIGHT
TZOFFSETFROM:+0100
TZOFFSETTO:+0200
TZNAME:CEST
DTSTART:20250330T010000
END:DAYLIGHT
BEGIN:STANDARD
TZOFFSETFROM:+0200
TZOFFSETTO:+0100
TZNAME:CET
DTSTART:20251026T010000
END:STANDARD
BEGIN:DAYLIGHT
TZOFFSETFROM:+0100
TZOFFSETTO:+0200
TZNAME:CEST
DTSTART:20260329T010000
END:DAYLIGHT
BEGIN:STANDARD
TZOFFSETFROM:+0200
TZOFFSETTO:+0100
TZNAME:CET
DTSTART:20261025T010000
END:STANDARD
END:VTIMEZONE
BEGIN:VEVENT
DTSTART;TZID=Europe/Prague:20251011T180000
DTEND;TZID=Europe/Prague:20251011T210000
DTSTAMP:20260420T033140
CREATED:20250928T190359Z
LAST-MODIFIED:20250928T190400Z
UID:3167-1760205600-1760216400@kulturniradce.cz
SUMMARY:Clemens Christian Poetzsch – sólový klavírní koncert
DESCRIPTION:Clemens Christian Poetzsch – sólový klavírní koncert se uskuteční dne 2025-10-11 v 18:00 v Brno\, Besední dům. \n🎟️ Koupit vstupenku \n\nSrdečně Vás zveme na výjimečný koncert německého pianisty a skladatele Clemense Christiana Poetzsche\, jehož hudba se dotýká srdce a zůstává v nás — jako osobní vzpomínka\, tiché echo\, hluboký nádech. \nČerstvý hlas evropské hudby Clemens patří k nové generaci evropských skladatelů\, kteří se s lehkostí pohybují mezi klasickou hudbou\, jazzem a elektronikou. Ve svém stylu propojuje improvizaci a strukturu\, emoce a formu\, čímž vytváří zvuk\, který je zároveň poetický i jedinečný. \nHudba jako svoboda Pro Clemense je hudba svobodou — svobodou objevovat\, klást si otázky\, dělat chyby — a znovu nacházet cestu k sobě samému. Věří\, že opravdová inspirace nemůže být vynucena ani naplánována; přichází nečekaně\, jako tichý vnitřní hlas\, který je třeba slyšet. I proto jeho hudba působí živě\, hřejivě a opravdově. Dává prostor\, přináší útěchu a zve nás k plnému prožívání přítomného okamžiku. \nSkladatel v dialogu se světem Vedle vlivů klasické hudby a jazzu čerpá Clemens hlubokou inspiraci také z přírody a každodenního života. Zvuky lesa\, šepot větru či hra světla se v jeho skladbách proměňují v jemné\, a přesto silné hudební obrazy. Právě tato citlivost vůči přírodním prvkům a drobným detailům propůjčuje jeho tvorbě hloubku a schopnost oslovit posluchače a propojit je s jejich vlastními myšlenkami a pocity. \nŽivot s hudbou Clemens se narodil a vyrůstal v Drážďanech. První lekce hry na klavír získal od svého dědečka\, operního pěvce. Od raného věku byl obklopen klasickou hudbou\, později objevil svět jazzu a improvizace. Právě vyvážený dialog mezi tradicí a svobodou formoval jeho osobitý hudební styl.Jako skladatel\, pianista a aranžér spolupracoval s předními umělci a vystupoval na významných světových pódiích — od hamburské Elbphilharmonie až po koncertní sály v Japonsku a Velké Británii. Jeho hudba zní také v divadle\, filmu a baletu\, kde je ceněna pro svou emocionalitu\, atmosféru a krásu. \nNávrat do Brna Po velmi úspěšném koncertu v našem městě v loňském roce\, který byl přijat s velkým nadšením publika\, máme radost\, že můžeme Clemense znovu přivítat — tentokrát v jednom z nejkrásnějších koncertních sálů v České republice. \nKoncert bude zároveň začátkem příprav na jeho nové sólové album. \nVečer hudby a vnitřního zastavení Nebude to jen koncert — bude to osobní hudební cesta\, kde se zvuk promění v prostor a ticho stane Vaším průvodcem.Přijďte s námi prožít večer plný smyslu\, svobody a okamžiků\, které ve Vás zůstanou dlouho poté\, co dozní poslední tón. \nENYou are warmly invited to a very special concert with the remarkable German pianist and composer Clemens Christian Poetzsch\, whose music touches the heart and stays with you — like a personal memory\, a quiet echo\, a deep breath. \nA Fresh Voice of European Music Clemens is part of a new generation of European composers who move freely between classical music\, jazz and electronics. His style brings together improvisation and structure\, emotion and form\, creating a sound that is both poetic and unique. \nMusic as Freedom For Clemens\, music is freedom — the freedom to explore\, to ask questions\, to make mistakes — and to return to oneself. He believes that true inspiration cannot be forced or planned; it comes unexpectedly\, like a quiet inner call that must be heard. This is why his music always feels alive\, warm and real. It gives space\, brings comfort and invites you to be present in the moment. \nA Composer in Dialogue with the World In addition to classical and jazz influences\, Clemens draws deep inspiration from nature and everyday life. The sounds of the forest\, the whisper of the wind or the play of light become part of his music — soft\, yet powerful. This deep sensitivity to natural elements and small details gives his work a special depth and helps listeners connect with their own thoughts and emotions. \nA Life in Music Born and raised in Dresden\, Clemens had his first piano lessons with his grandfather\, an opera singer. Surrounded by classical music from a young age\, he later discovered jazz and improvisation. This balance between tradition and freedom has shaped his personal musical style. \nAs a composer\, pianist and arranger\, Clemens has worked with leading artists and performed in major concert halls around the world — from Hamburg’s Elbphilharmonie to venues in Japan and the United Kingdom. His music is also used in theatre\, film and ballet\, loved for its emotion\, atmosphere and beauty. \nA Return to Brno After his highly successful performance in our city last year\, which was warmly received by the audience\, we are happy to welcome Clemens again — this time in one of the most beautiful concert halls in the Czech Republic. \nThe concert will also mark the start of preparations for his new solo album. \nAn Evening of Music and Reflection This will not be just a concert — it will be a personal musical journey\, where sound creates space and silence becomes your companion.Join us for an evening full of meaning\, freedom and moments that will stay with you long after the last note fades. \n\nTento tip na kulturní akci v Brno najdete v přehledu na KulturníRádce.cz spolu s dalšími koncerty\, festivaly a divadelními představeními.
URL:https://kulturniradce.cz/event/clemens-christian-poetzsch-solovy-klavirni-koncert/
LOCATION:Besední dům\, Brno\, Besední dům\, Brno\, Česká republika
CATEGORIES:Koncert
ATTACH;FMTTYPE=image/jpeg:https://kulturniradce.cz/wp-content/uploads/2025/09/320-f6d545e1482a45aba30612a9b616c435.jpg
END:VEVENT
BEGIN:VEVENT
DTSTART;TZID=Europe/Prague:20251011T190000
DTEND;TZID=Europe/Prague:20251011T220000
DTSTAMP:20260420T033140
CREATED:20251006T160856Z
LAST-MODIFIED:20251006T160856Z
UID:4838-1760209200-1760220000@kulturniradce.cz
SUMMARY:Petr Tomeček / 10 let / Panova flétna
DESCRIPTION:Petr Tomeček / 10 let / Panova flétna se uskuteční dne 2025-10-11 v 19:00 v Pardubice\, Sukova síň Domu hudby. \n🎟️ Koupit vstupenku \n\nKoncert k výročí – milník i nový začátek \nSrdečně Vás zveme na výjimečný koncert u příležitosti 10 let umělecké dráhy Petra Tomečka s Panovou flétnou. Tento večer bude nejen ohlédnutím za uplynulou cestou\, ale také symbolickým odrazovým můstkem k dalším hudebním vizím. \nNa pódiu zazní emotivní i virtuózní skladby v doprovodu Komorního orchestru Petra Tomečka\, který podtrhne výjimečnou atmosféru tohoto slavnostního večera. \nKoncert obohatí pětice významných hostů z hudebního světa – a navíc se můžete těšit na dva tajné vzácné hosty\, jejichž jména zůstanou překvapením až do chvíle vystoupení. \nPřijďte být součástí neopakovatelného hudebního zážitku a oslavte s námi deset let cesty tónů\, emocí a inspirace. \nVystoupí:Petr Tomeček (Panova flétna)\, Václav Metoděj Uhlíř (Varhany/Klavír)\, Stanislava Jachnická (Průvodní slovo)\, Michaela Linková (Zpěv)\, Kateřina Pavlíková (Saxofon)\, Lubomír Brabec (Kytara) a dva tajní hosté…. \n\nTento tip na kulturní akci v Pardubice najdete v přehledu na KulturníRádce.cz spolu s dalšími koncerty\, festivaly a divadelními představeními.
URL:https://kulturniradce.cz/event/petr-tomecek-10-let-panova-fletna/
LOCATION:Sukova síň Domu hudby\, Pardubice\, Sukova síň Domu hudby\, Pardubice\, Česká republika
CATEGORIES:Koncert
ATTACH;FMTTYPE=image/jpeg:https://kulturniradce.cz/wp-content/uploads/2025/10/320-05540bfc84ad4eef98d9d777ca2810e2.jpg
END:VEVENT
END:VCALENDAR