BEGIN:VCALENDAR
VERSION:2.0
PRODID:-//www.kulturniradce.cz - ECPv6.15.20//NONSGML v1.0//EN
CALSCALE:GREGORIAN
METHOD:PUBLISH
X-WR-CALNAME:www.kulturniradce.cz
X-ORIGINAL-URL:https://kulturniradce.cz
X-WR-CALDESC:Akce na www.kulturniradce.cz
REFRESH-INTERVAL;VALUE=DURATION:PT1H
X-Robots-Tag:noindex
X-PUBLISHED-TTL:PT1H
BEGIN:VTIMEZONE
TZID:Europe/Prague
BEGIN:DAYLIGHT
TZOFFSETFROM:+0100
TZOFFSETTO:+0200
TZNAME:CEST
DTSTART:20240331T010000
END:DAYLIGHT
BEGIN:STANDARD
TZOFFSETFROM:+0200
TZOFFSETTO:+0100
TZNAME:CET
DTSTART:20241027T010000
END:STANDARD
BEGIN:DAYLIGHT
TZOFFSETFROM:+0100
TZOFFSETTO:+0200
TZNAME:CEST
DTSTART:20250330T010000
END:DAYLIGHT
BEGIN:STANDARD
TZOFFSETFROM:+0200
TZOFFSETTO:+0100
TZNAME:CET
DTSTART:20251026T010000
END:STANDARD
BEGIN:DAYLIGHT
TZOFFSETFROM:+0100
TZOFFSETTO:+0200
TZNAME:CEST
DTSTART:20260329T010000
END:DAYLIGHT
BEGIN:STANDARD
TZOFFSETFROM:+0200
TZOFFSETTO:+0100
TZNAME:CET
DTSTART:20261025T010000
END:STANDARD
END:VTIMEZONE
BEGIN:VEVENT
DTSTART;TZID=Europe/Prague:20251018T190000
DTEND;TZID=Europe/Prague:20251018T220000
DTSTAMP:20260420T033140
CREATED:20250922T045351Z
LAST-MODIFIED:20250922T045352Z
UID:1634-1760814000-1760824800@kulturniradce.cz
SUMMARY:Koncert filmové hudby | Třinec
DESCRIPTION:Koncert filmové hudby | Třinec se uskuteční dne 2025-10-18 v 19:00 v Třinec\, Kulturní dům TRISIA. \n🎟️ Koupit vstupenku \n\nSmyčce Pražského filmového orchestru pod taktovkou dirigenta Jiřího Korynty přináší velkolepý koncert\, který představí v Kulturním domě TRISIA v Třinci! \nDiváci se mohou těšit na skladby z filmů Star Wars\, Pán Prstenů\, Games of Thrones\, Harry Potter\, Piráti z Karibiku a další známé melodie stříbrného plátna. \nKoncert bude bohatý na fantastickou filmovou hudbu od světově známých hudebních skladatelů\, jakými jsou např. John Williams\, Hans Zimmer\, Howard Shore nebo James Horner.  \nAkce je přístupná od 12 let. Každý účastník musí předložit platnou vstupenku  zakoupenou výhradně v síti SMS ticket. \n\nTento tip na kulturní akci v Třinec najdete v přehledu na KulturníRádce.cz spolu s dalšími koncerty\, festivaly a divadelními představeními.
URL:https://kulturniradce.cz/event/koncert-filmove-hudby-trinec/
LOCATION:Kulturní dům TRISIA\, Třinec\, Kulturní dům TRISIA\, Třinec\, Česká republika
CATEGORIES:Koncert
ATTACH;FMTTYPE=image/jpeg:https://kulturniradce.cz/wp-content/uploads/2025/09/320-1405e61f757a49c28042370c3c1908b5.jpg
END:VEVENT
BEGIN:VEVENT
DTSTART;TZID=Europe/Prague:20251018T190000
DTEND;TZID=Europe/Prague:20251018T220000
DTSTAMP:20260420T033140
CREATED:20251002T165312Z
LAST-MODIFIED:20251002T165313Z
UID:4520-1760814000-1760824800@kulturniradce.cz
SUMMARY:Janáček – Fišer – Poulenc
DESCRIPTION:Janáček – Fišer – Poulenc se uskuteční dne 2025-10-18 v 19:00 v Olomouc\, kostel Panny Marie Sněžné. \n🎟️ Koupit vstupenku \n\nLeoš Janáček: Otčenáš\, JW IV/29Luboš Fišer: LabyrintFrancis Poulenc: Stabat Mater\, FP 148 \n  \nJana Šrejma Kačírková / sopránTomáš Černý / tenorPavla Kopecká / harfaMartin Jakubíček / varhanyČeský akademický sbor BrnoMichal Vajda / sbormistrFilharmonie Bohuslava Martinů ZlínJakub Klecker / dirigent \n\nTento tip na kulturní akci v Olomouc najdete v přehledu na KulturníRádce.cz spolu s dalšími koncerty\, festivaly a divadelními představeními.
URL:https://kulturniradce.cz/event/janacek-fiser-poulenc/
LOCATION:kostel Panny Marie Sněžné\, Olomouc\, kostel Panny Marie Sněžné\, Olomouc\, Česká republika
CATEGORIES:Koncert
ATTACH;FMTTYPE=image/jpeg:https://kulturniradce.cz/wp-content/uploads/2025/10/320-d5870d660bf44a73a3e830c31521407e.jpg
END:VEVENT
END:VCALENDAR