BEGIN:VCALENDAR
VERSION:2.0
PRODID:-//www.kulturniradce.cz - ECPv6.15.20//NONSGML v1.0//EN
CALSCALE:GREGORIAN
METHOD:PUBLISH
X-ORIGINAL-URL:https://kulturniradce.cz
X-WR-CALDESC:Akce na www.kulturniradce.cz
REFRESH-INTERVAL;VALUE=DURATION:PT1H
X-Robots-Tag:noindex
X-PUBLISHED-TTL:PT1H
BEGIN:VTIMEZONE
TZID:Europe/Prague
BEGIN:DAYLIGHT
TZOFFSETFROM:+0100
TZOFFSETTO:+0200
TZNAME:CEST
DTSTART:20240331T010000
END:DAYLIGHT
BEGIN:STANDARD
TZOFFSETFROM:+0200
TZOFFSETTO:+0100
TZNAME:CET
DTSTART:20241027T010000
END:STANDARD
BEGIN:DAYLIGHT
TZOFFSETFROM:+0100
TZOFFSETTO:+0200
TZNAME:CEST
DTSTART:20250330T010000
END:DAYLIGHT
BEGIN:STANDARD
TZOFFSETFROM:+0200
TZOFFSETTO:+0100
TZNAME:CET
DTSTART:20251026T010000
END:STANDARD
BEGIN:DAYLIGHT
TZOFFSETFROM:+0100
TZOFFSETTO:+0200
TZNAME:CEST
DTSTART:20260329T010000
END:DAYLIGHT
BEGIN:STANDARD
TZOFFSETFROM:+0200
TZOFFSETTO:+0100
TZNAME:CET
DTSTART:20261025T010000
END:STANDARD
END:VTIMEZONE
BEGIN:VEVENT
DTSTART;TZID=Europe/Prague:20251019T183000
DTEND;TZID=Europe/Prague:20251019T213000
DTSTAMP:20260420T033246
CREATED:20250921T054541Z
LAST-MODIFIED:20250921T061549Z
UID:493-1760898600-1760909400@kulturniradce.cz
SUMMARY:Slavné filmové melodie a ABBA
DESCRIPTION:Slavné filmové melodie a ABBA se uskuteční dne 2025-10-19 v 18:30 v České Budějovice\, DK Metropol . \n🎟️ Koupit vstupenku \n\nMalá scéna KD Metropol České Budějovice \nSlavné filmové melodie a ABBA \nKlárovo kvarteto: \nPavel Hrda – I. housle\, Tom Klár – II. housle\, Libor Kaňka – viola\, Václav Fleissig – violoncello \n  \nPROGRAM: \nhudba z filmů a muzikálů: \nSedm statečných – Titanic – Most přes řeku Kwai – Vinnetou \nForrest Gump – Tenkrát na západě – Bodyguard – Pretty Woman \nDr.Živago – James Bond (Die another Day) \nMission Imposible – Pomáda – Hello Dolly \nABBA: \nDancing Queen – Fernando – Super Trouper \nMamma mia – Money\, money\, money \n(změna programu a účinkujících vyhrazena) \n\nTento tip na kulturní akci v České Budějovice najdete v přehledu na KulturníRádce.cz spolu s dalšími koncerty\, festivaly a divadelními představeními.
URL:https://kulturniradce.cz/event/slavne-filmove-melodie-a-abba/
LOCATION:DK Metropol \, České Budějovice\, DK Metropol \, České Budějovice\, Česká republika
CATEGORIES:Koncert
ATTACH;FMTTYPE=image/jpeg:https://kulturniradce.cz/wp-content/uploads/2025/09/320-4746fd86be2e46d6ba45126fd3e57256.jpg
END:VEVENT
BEGIN:VEVENT
DTSTART;TZID=Europe/Prague:20251019T190000
DTEND;TZID=Europe/Prague:20251019T220000
DTSTAMP:20260420T033246
CREATED:20251008T112341Z
LAST-MODIFIED:20251008T112342Z
UID:5177-1760900400-1760911200@kulturniradce.cz
SUMMARY:Tři operní divy
DESCRIPTION:Tři operní divy se uskuteční dne 2025-10-19 v 19:00 v Jihlava\, DKO. \n🎟️ Koupit vstupenku \n\nTři operní divy je koncert plný těch nejkrásnějších ženských operních árií a duetů\, doplněných o vybrané operní předehry. \nÚčinkují:Filharmonie G. Mahlera JihlavaJiří Jakeš – dirigentMiroslava Časarová – sopránSoňa Godarská – sopránPetra Vondrová – mezzosopránVladimír Holeš – moderátor \nKoncert se koná s podporou statutárního města Jihlavy a Kraje Vysočina  \n\nTento tip na kulturní akci v Jihlava najdete v přehledu na KulturníRádce.cz spolu s dalšími koncerty\, festivaly a divadelními představeními.
URL:https://kulturniradce.cz/event/tri-operni-divy/
LOCATION:DKO\, Jihlava\, DKO\, Jihlava\, Česká republika
CATEGORIES:Koncert
ATTACH;FMTTYPE=image/jpeg:https://kulturniradce.cz/wp-content/uploads/2025/10/320-c14d97e7d3fd4c6f97bf82223c26cb80.jpg
END:VEVENT
END:VCALENDAR