BEGIN:VCALENDAR
VERSION:2.0
PRODID:-//www.kulturniradce.cz - ECPv6.15.20//NONSGML v1.0//EN
CALSCALE:GREGORIAN
METHOD:PUBLISH
X-WR-CALNAME:www.kulturniradce.cz
X-ORIGINAL-URL:https://kulturniradce.cz
X-WR-CALDESC:Akce na www.kulturniradce.cz
REFRESH-INTERVAL;VALUE=DURATION:PT1H
X-Robots-Tag:noindex
X-PUBLISHED-TTL:PT1H
BEGIN:VTIMEZONE
TZID:Europe/Prague
BEGIN:DAYLIGHT
TZOFFSETFROM:+0100
TZOFFSETTO:+0200
TZNAME:CEST
DTSTART:20240331T010000
END:DAYLIGHT
BEGIN:STANDARD
TZOFFSETFROM:+0200
TZOFFSETTO:+0100
TZNAME:CET
DTSTART:20241027T010000
END:STANDARD
BEGIN:DAYLIGHT
TZOFFSETFROM:+0100
TZOFFSETTO:+0200
TZNAME:CEST
DTSTART:20250330T010000
END:DAYLIGHT
BEGIN:STANDARD
TZOFFSETFROM:+0200
TZOFFSETTO:+0100
TZNAME:CET
DTSTART:20251026T010000
END:STANDARD
BEGIN:DAYLIGHT
TZOFFSETFROM:+0100
TZOFFSETTO:+0200
TZNAME:CEST
DTSTART:20260329T010000
END:DAYLIGHT
BEGIN:STANDARD
TZOFFSETFROM:+0200
TZOFFSETTO:+0100
TZNAME:CET
DTSTART:20261025T010000
END:STANDARD
END:VTIMEZONE
BEGIN:VEVENT
DTSTART;TZID=Europe/Prague:20251104T200000
DTEND;TZID=Europe/Prague:20251104T230000
DTSTAMP:20260419T230527
CREATED:20250922T073049Z
LAST-MODIFIED:20250922T073049Z
UID:1670-1762286400-1762297200@kulturniradce.cz
SUMMARY:Souboj Klavírů v Prachaticích
DESCRIPTION:Souboj Klavírů v Prachaticích se uskuteční dne 2025-11-04 v 20:00 v Prachatice\, Kongresové centrum. \n🎟️ Koupit vstupenku \n\nZveme vás na jedinečný koncert dvou výjimečných klavíristů a hudebních skladatelů – Ondřeje Brzobohatého a Ondřeje Brouska! Tito celoživotní přátelé spojí své hudební mistrovství na pódiu v prachatickém kongresovém centru! Přijďte si užít večer plný virtuózní klavírní hry a nezapomenutelných melodií! \nJak by zněla „Osudová“\, kdyby byl Beethoven optimista? Proč pláčeme při banálním filmovém dialogu? Co je to „nevhodná“ hudba? Že se u klasické hudby nedá pořádně zasmát? Může mít „Souboj klavírů“ vítěze? \nNa tyto otázky vám stylově odpoví duo Brousek – Brzobohatý\, které připravilo nezapomenutelný večer plný hudebních vtipů s dvěma klavíry. \n„Celé představení si můžete naplno vychutnat\, díky korunnímu klenotu mezi koncertními klavíry C. Bechstein D 282.Tímto děkujeme našemu partnerovi C. Bechstein – www.bechstein.com za podporu akce.“ \n\nTento tip na kulturní akci v Prachatice najdete v přehledu na KulturníRádce.cz spolu s dalšími koncerty\, festivaly a divadelními představeními.
URL:https://kulturniradce.cz/event/souboj-klaviru-v-prachaticich/
LOCATION:Kongresové centrum\, Prachatice\, Kongresové centrum\, Prachatice\, Česká republika
CATEGORIES:Koncert
ATTACH;FMTTYPE=image/jpeg:https://kulturniradce.cz/wp-content/uploads/2025/09/320-211546edc91d46a7aef47e34e4fd533a.jpg
END:VEVENT
END:VCALENDAR