BEGIN:VCALENDAR
VERSION:2.0
PRODID:-//www.kulturniradce.cz - ECPv6.15.20//NONSGML v1.0//EN
CALSCALE:GREGORIAN
METHOD:PUBLISH
X-ORIGINAL-URL:https://kulturniradce.cz
X-WR-CALDESC:Akce na www.kulturniradce.cz
REFRESH-INTERVAL;VALUE=DURATION:PT1H
X-Robots-Tag:noindex
X-PUBLISHED-TTL:PT1H
BEGIN:VTIMEZONE
TZID:Europe/Prague
BEGIN:DAYLIGHT
TZOFFSETFROM:+0100
TZOFFSETTO:+0200
TZNAME:CEST
DTSTART:20240331T010000
END:DAYLIGHT
BEGIN:STANDARD
TZOFFSETFROM:+0200
TZOFFSETTO:+0100
TZNAME:CET
DTSTART:20241027T010000
END:STANDARD
BEGIN:DAYLIGHT
TZOFFSETFROM:+0100
TZOFFSETTO:+0200
TZNAME:CEST
DTSTART:20250330T010000
END:DAYLIGHT
BEGIN:STANDARD
TZOFFSETFROM:+0200
TZOFFSETTO:+0100
TZNAME:CET
DTSTART:20251026T010000
END:STANDARD
BEGIN:DAYLIGHT
TZOFFSETFROM:+0100
TZOFFSETTO:+0200
TZNAME:CEST
DTSTART:20260329T010000
END:DAYLIGHT
BEGIN:STANDARD
TZOFFSETFROM:+0200
TZOFFSETTO:+0100
TZNAME:CET
DTSTART:20261025T010000
END:STANDARD
END:VTIMEZONE
BEGIN:VEVENT
DTSTART;TZID=Europe/Prague:20251105T190000
DTEND;TZID=Europe/Prague:20251105T220000
DTSTAMP:20260420T003937
CREATED:20250921T064957Z
LAST-MODIFIED:20250921T064957Z
UID:656-1762369200-1762380000@kulturniradce.cz
SUMMARY:Světová hudba pro 4 saxofony
DESCRIPTION:Světová hudba pro 4 saxofony se uskuteční dne 2025-11-05 v 19:00 v Mladá Boleslav\, Dům Kultury Divadelní sál. \n🎟️ Koupit vstupenku \n\nDivadelní sál Domu Kultury Mladá Boleslav \n. \nSAXOFONOVÉ KVARTETO FOUR BROTHERS \nMarek Buble – soprán/alt saxofon\, Jan Musil – alt saxofon\, \nMartin Zilvar  – tenor saxofon\, Jan Turner – baryton saxofon \n. \nPROGRAM: \nG. GERSHWIN                       I got rhytm \nG. GERSHWIN                       Foggy Day \nGlenn MILLER                       American Patrol \nW. KRELL                               Mississippi Ragtime \nA. PIAZOLLA                         Libertango \nH. MANCINI                           RŮŽOVÝ PANTER (Peter Gunn Theme)  \nL. BEGA                                 MAMBO N.5 \nJ. BARRY                               JAMES BOND Theme \nH. ARLEN                              ČARODEJ ZE ZEMĚ OZ (Over the rainbow ) \nB. HOWARD                          Fly me to the Moon \nH. HANCOCK                        Cantaloupe Island \narr. B. LISTON                       Brazil \nB. Mc FERRIN                       Don´t Worry Be Happy \nB. KAPER                              Green Dolphin Street \nF. FISCHER                           CHICAGO \nD. CHRISTIANSON               Comedy for Saxofophones \nJ. ZAWINUL                           Mercy\, Mercy\, Mercy \nDélka cca 65 minut\, změna programu vyhrazena. \n\nTento tip na kulturní akci v Mladá Boleslav najdete v přehledu na KulturníRádce.cz spolu s dalšími koncerty\, festivaly a divadelními představeními.
URL:https://kulturniradce.cz/event/svetova-hudba-pro-4-saxofony/
LOCATION:Dům Kultury Divadelní sál\, Mladá Boleslav\, Dům Kultury Divadelní sál\, Mladá Boleslav\, Česká republika
CATEGORIES:Koncert
ATTACH;FMTTYPE=image/jpeg:https://kulturniradce.cz/wp-content/uploads/2025/09/320-2ca12eca51e148a7850699bb778b9054-1.jpg
END:VEVENT
BEGIN:VEVENT
DTSTART;TZID=Europe/Prague:20251105T190000
DTEND;TZID=Europe/Prague:20251105T220000
DTSTAMP:20260420T003937
CREATED:20250924T182922Z
LAST-MODIFIED:20250924T182922Z
UID:2221-1762369200-1762380000@kulturniradce.cz
SUMMARY:Koncert filmové hudby | Frenštát pod Radhošťěm
DESCRIPTION:Koncert filmové hudby | Frenštát pod Radhošťěm se uskuteční dne 2025-11-05 v 19:00 v Frenštát pod Radhoštěm\, Dům kultury. \n🎟️ Koupit vstupenku \n\nSmyčce Pražského filmového orchestru pod taktovkou dirigenta Jiřího Korynty přináší velkolepý koncert\, který představí v Domě kultury ve Frenštátě pod Radhoštěm! \nDiváci se mohou těšit na skladby z filmů Star Wars\, Pán Prstenů\, Games of Thrones\, Harry Potter\, Piráti z Karibiku a další známé melodie stříbrného plátna. \nKoncert bude bohatý na fantastickou filmovou hudbu od světově známých hudebních skladatelů\, jakými jsou např. John Williams\, Hans Zimmer\, Howard Shore nebo James Horner.  \n\nTento tip na kulturní akci v Frenštát pod Radhoštěm najdete v přehledu na KulturníRádce.cz spolu s dalšími koncerty\, festivaly a divadelními představeními.
URL:https://kulturniradce.cz/event/koncert-filmove-hudby-frenstat-pod-radhostem/
LOCATION:Dům kultury\, Frenštát pod Radhoštěm\, Dům kultury\, Frenštát pod Radhoštěm\, Česká republika
CATEGORIES:Koncert
ATTACH;FMTTYPE=image/jpeg:https://kulturniradce.cz/wp-content/uploads/2025/09/320-f5ab7b566c6d4adbbf732d80a648fa58.jpg
END:VEVENT
BEGIN:VEVENT
DTSTART;TZID=Europe/Prague:20251105T190000
DTEND;TZID=Europe/Prague:20251105T220000
DTSTAMP:20260420T003937
CREATED:20250926T184450Z
LAST-MODIFIED:20250926T184450Z
UID:2761-1762369200-1762380000@kulturniradce.cz
SUMMARY:Hudba Harryho Pottera při svíčkách | Svitavy
DESCRIPTION:Hudba Harryho Pottera při svíčkách | Svitavy se uskuteční dne 2025-11-05 v 19:00 v Svitavy\, Fabrika. \n🎟️ Koupit vstupenku \n\nNenechte si ujít večer plný magické hudby\, kde zazní ty nejznámější melodie a písně ze všech filmů Harryho Pottera. Světlo stovky svíček vytvoří nezapomenutelnou atmosféru koncertu. \nProgram v jedinečném klavírním provedení představuje výběr filmových skladeb od pětinásobného oscarového skladatele Johna Williamse společně s díly Patricka Doyla\, Nicolase Hoopera a Alexandra Desplata\, držitele Oscara\, a nabízí to nejlepší z hudby Harryho Pottera. \nTento magický koncert nabídne víc než jen hudbu; stovky svíček rozzáří prostor a přidají na tajemné atmosféře plné mystiky a kouzel. \nMůžete se těšit na známé melodie a písně z filmů Harryho Pottera\, upravené pro klavírní koncert a to v podání předního českého klavíristy Alexandra Starého. \nV rámci Evropské tour alternují také: František Panáček a Lucie Kubátová.  \nAkce je přístupná od 12 let. Každý účastník musí předložit platnou vstupenku  zakoupenou výhradně v síti smsticket. \n„Celé představení si můžete naplno vychutnat\, díky korunnímu klenotu mezi koncertními klavíry C. Bechstein D 282.Tímto děkujeme našemu partnerovi C. Bechstein – www.bechstein.com za podporu akce.“ \n\nTento tip na kulturní akci v Svitavy najdete v přehledu na KulturníRádce.cz spolu s dalšími koncerty\, festivaly a divadelními představeními.
URL:https://kulturniradce.cz/event/hudba-harryho-pottera-pri-svickach-svitavy/
LOCATION:Fabrika\, Svitavy\, Fabrika\, Svitavy\, Česká republika
CATEGORIES:Koncert
ATTACH;FMTTYPE=image/jpeg:https://kulturniradce.cz/wp-content/uploads/2025/09/320-ba8f660c30e947d1b838a955392a59bf.jpg
END:VEVENT
BEGIN:VEVENT
DTSTART;TZID=Europe/Prague:20251105T200000
DTEND;TZID=Europe/Prague:20251105T230000
DTSTAMP:20260420T003937
CREATED:20250922T073048Z
LAST-MODIFIED:20250922T073049Z
UID:1667-1762372800-1762383600@kulturniradce.cz
SUMMARY:Souboj Klavírů v Kolíně
DESCRIPTION:Souboj Klavírů v Kolíně se uskuteční dne 2025-11-05 v 20:00 v Kolín\, MSD. \n🎟️ Koupit vstupenku \n\nZveme vás na jedinečný koncert dvou výjimečných klavíristů a hudebních skladatelů – Ondřeje Brzobohatého a Ondřeje Brouska! Tito celoživotní přátelé spojí své hudební mistrovství na pódiu v kolínském městském společenském domě! Přijďte si užít večer plný virtuózní klavírní hry a nezapomenutelných melodií! \nJak by zněla „Osudová“\, kdyby byl Beethoven optimista? Proč pláčeme při banálním filmovém dialogu? Co je to „nevhodná“ hudba? Že se u klasické hudby nedá pořádně zasmát? Může mít „Souboj klavírů“ vítěze? \nNa tyto otázky vám stylově odpoví duo Brousek – Brzobohatý\, které připravilo nezapomenutelný večer plný hudebních vtipů s dvěma klavíry. \n„Celé představení si můžete naplno vychutnat\, díky korunnímu klenotu mezi koncertními klavíry C. Bechstein D 282.Tímto děkujeme našemu partnerovi C. Bechstein – www.bechstein.com za podporu akce.“ \n\nTento tip na kulturní akci v Kolín najdete v přehledu na KulturníRádce.cz spolu s dalšími koncerty\, festivaly a divadelními představeními.
URL:https://kulturniradce.cz/event/souboj-klaviru-v-koline/
LOCATION:MSD\, Kolín\, MSD\, Kolín\, Česká republika
CATEGORIES:Koncert
ATTACH;FMTTYPE=image/jpeg:https://kulturniradce.cz/wp-content/uploads/2025/09/320-1d2fc10b03124c39947255ae304c6300.jpg
END:VEVENT
END:VCALENDAR