BEGIN:VCALENDAR
VERSION:2.0
PRODID:-//www.kulturniradce.cz - ECPv6.15.20//NONSGML v1.0//EN
CALSCALE:GREGORIAN
METHOD:PUBLISH
X-WR-CALNAME:www.kulturniradce.cz
X-ORIGINAL-URL:https://kulturniradce.cz
X-WR-CALDESC:Akce na www.kulturniradce.cz
REFRESH-INTERVAL;VALUE=DURATION:PT1H
X-Robots-Tag:noindex
X-PUBLISHED-TTL:PT1H
BEGIN:VTIMEZONE
TZID:Europe/Prague
BEGIN:DAYLIGHT
TZOFFSETFROM:+0100
TZOFFSETTO:+0200
TZNAME:CEST
DTSTART:20240331T010000
END:DAYLIGHT
BEGIN:STANDARD
TZOFFSETFROM:+0200
TZOFFSETTO:+0100
TZNAME:CET
DTSTART:20241027T010000
END:STANDARD
BEGIN:DAYLIGHT
TZOFFSETFROM:+0100
TZOFFSETTO:+0200
TZNAME:CEST
DTSTART:20250330T010000
END:DAYLIGHT
BEGIN:STANDARD
TZOFFSETFROM:+0200
TZOFFSETTO:+0100
TZNAME:CET
DTSTART:20251026T010000
END:STANDARD
BEGIN:DAYLIGHT
TZOFFSETFROM:+0100
TZOFFSETTO:+0200
TZNAME:CEST
DTSTART:20260329T010000
END:DAYLIGHT
BEGIN:STANDARD
TZOFFSETFROM:+0200
TZOFFSETTO:+0100
TZNAME:CET
DTSTART:20261025T010000
END:STANDARD
END:VTIMEZONE
BEGIN:VEVENT
DTSTART;TZID=Europe/Prague:20251106T190000
DTEND;TZID=Europe/Prague:20251106T220000
DTSTAMP:20260419T230527
CREATED:20251002T084034Z
LAST-MODIFIED:20251002T084039Z
UID:3850-1762455600-1762466400@kulturniradce.cz
SUMMARY:Jiří Pazour: České inspirace
DESCRIPTION:Jiří Pazour: České inspirace se uskuteční dne 2025-11-06 v 19:00 v Brno\, Sál Milosrdných bratří. \n🎟️ Koupit vstupenku \n\nHudební skladatel a klavírní improvizátor Jiří Pazour pro vás připravil nový koncertní program nazvaný České inspirace\, který je tematicky zaměřen na tvorbu českých a moravských hudebních skladatelů. \nJak už bývá při koncertech Jiřího Pazoura zvykem\, i v tomto programu uslyšíte známé skladby slavných autorů v novém originálním zpracování. V první části koncertu zazní mimo jiné skladby B. Smetany\, A. Dvořáka\, B. Martinů L. Janáčka a dalších autorů. \nV druhé části koncertu si budete moci opět sami zvolit témata\, která bude Jiří Pazour hudebně zpracovávat a přímo na koncertním pódiu přetvářet do nové hudební podoby. Tato část koncertu není nikdy stejná\, pokaždé zní nová hudba. Budete mít možnost sledovat\, jakým způsobem se proměňují známé melodie a jak přímo na místě vznikají nové hudební skladby. \nS Jiřím Pazourem zažijete neopakovatelný hudební večer nejen prvotřídní klavírní hry\, ale především večer živelných\, strhujících a inspirací nabitých improvizací a hudebních proměn. \n  \nVystupující \nJiří Pazour (CZ) – web / fb / youtube \n\nTento tip na kulturní akci v Brno najdete v přehledu na KulturníRádce.cz spolu s dalšími koncerty\, festivaly a divadelními představeními.
URL:https://kulturniradce.cz/event/jiri-pazour-ceske-inspirace/
LOCATION:Sál Milosrdných bratří\, Brno\, Sál Milosrdných bratří\, Brno\, Česká republika
CATEGORIES:Koncert
ATTACH;FMTTYPE=image/jpeg:https://kulturniradce.cz/wp-content/uploads/2025/10/320-1c2c66ec71d34f739624712bb4680f3c.jpg
END:VEVENT
END:VCALENDAR