BEGIN:VCALENDAR
VERSION:2.0
PRODID:-//www.kulturniradce.cz - ECPv6.15.20//NONSGML v1.0//EN
CALSCALE:GREGORIAN
METHOD:PUBLISH
X-ORIGINAL-URL:https://kulturniradce.cz
X-WR-CALDESC:Akce na www.kulturniradce.cz
REFRESH-INTERVAL;VALUE=DURATION:PT1H
X-Robots-Tag:noindex
X-PUBLISHED-TTL:PT1H
BEGIN:VTIMEZONE
TZID:Europe/Prague
BEGIN:DAYLIGHT
TZOFFSETFROM:+0100
TZOFFSETTO:+0200
TZNAME:CEST
DTSTART:20240331T010000
END:DAYLIGHT
BEGIN:STANDARD
TZOFFSETFROM:+0200
TZOFFSETTO:+0100
TZNAME:CET
DTSTART:20241027T010000
END:STANDARD
BEGIN:DAYLIGHT
TZOFFSETFROM:+0100
TZOFFSETTO:+0200
TZNAME:CEST
DTSTART:20250330T010000
END:DAYLIGHT
BEGIN:STANDARD
TZOFFSETFROM:+0200
TZOFFSETTO:+0100
TZNAME:CET
DTSTART:20251026T010000
END:STANDARD
BEGIN:DAYLIGHT
TZOFFSETFROM:+0100
TZOFFSETTO:+0200
TZNAME:CEST
DTSTART:20260329T010000
END:DAYLIGHT
BEGIN:STANDARD
TZOFFSETFROM:+0200
TZOFFSETTO:+0100
TZNAME:CET
DTSTART:20261025T010000
END:STANDARD
END:VTIMEZONE
BEGIN:VEVENT
DTSTART;TZID=Europe/Prague:20251108T160000
DTEND;TZID=Europe/Prague:20251108T190000
DTSTAMP:20260419T230550
CREATED:20251015T081613Z
LAST-MODIFIED:20251015T081614Z
UID:5503-1762617600-1762628400@kulturniradce.cz
SUMMARY:MISSA BREVIS | Jubilejní 30. koncert
DESCRIPTION:MISSA BREVIS | Jubilejní 30. koncert se uskuteční dne 2025-11-08 v 16:00 v Neratov\, Kostel Nanebevzetí Panny Marie. \n🎟️ Koupit vstupenku \n\nJubilejní 30. provedení programu MISSA BREVIS se skladbami Zdeňka Krále\, Dady Klementové\, Lukáše Sommera a Martina Franzeho. \nProgram koncertu:Zdeněk Král | ECCE SACERDOS MAGNUS (1. repríza)Dada Klementová | AVE REGINA CAELORUM (světová premiéra)Zdeněk Král | AVE VERUM CORPUSZdeněk Král | IUBILATE DEOLukáš Sommer | VENI SANCTE SPIRITUSMartin Franze | NERATOVSKÝ OTČENÁŠ (světová premiéra)Zdeněk Král | MISSA BREVIS \nÚčinkující:Smíšený komorní sbor a orchestr MUSICA DA CAMERA BRNO | umělecký vedoucí Martin FranzePěvecké sdružení DALIBOR SVITAVY | sbormistryně Miroslava DucháčkováLenka Cafourková | sopránKuba Kubín | tenorLukáš Sommer | kytaraKamila Burdová | varhanyMartin Franze | dirigent \ninfo: www.mdcb.cz \n\nTento tip na kulturní akci v Neratov najdete v přehledu na KulturníRádce.cz spolu s dalšími koncerty\, festivaly a divadelními představeními.
URL:https://kulturniradce.cz/event/missa-brevis-jubilejni-30-koncert/
LOCATION:Kostel Nanebevzetí Panny Marie\, Neratov\, Kostel Nanebevzetí Panny Marie\, Neratov\, Česká republika
CATEGORIES:Koncert
ATTACH;FMTTYPE=image/jpeg:https://kulturniradce.cz/wp-content/uploads/2025/10/320-c4106e2c4c3046afb24d8a67753ec668.jpg
END:VEVENT
BEGIN:VEVENT
DTSTART;TZID=Europe/Prague:20251108T183000
DTEND;TZID=Europe/Prague:20251108T213000
DTSTAMP:20260419T230550
CREATED:20250921T082844Z
LAST-MODIFIED:20250921T082844Z
UID:1110-1762626600-1762637400@kulturniradce.cz
SUMMARY:Světová hudba pro 4 saxofony
DESCRIPTION:Světová hudba pro 4 saxofony se uskuteční dne 2025-11-08 v 18:30 v Hradec Králové\, Muzeum východních Čech. \n🎟️ Koupit vstupenku \n\nOd listopadu 2025 nově koncertujeme v nádherném sálu Muzea Východních Čech (arch. Kotěra) – vytápěno \n  \nSAXOFONOVÉ KVARTETO FOUR BROTHERS \nMarek Buble – soprán/alt saxofon\, Jan Musil – alt saxofon\, \nMartin Zilvar  – tenor saxofon\, Jan Turner – baryton saxofon \n. \nPROGRAM: \nG. GERSHWIN                       I got rhytm \nG. GERSHWIN                       Foggy Day \nGlenn MILLER                       American Patrol \nW. KRELL                               Mississippi Ragtime \nA. PIAZOLLA                         Libertango \nH. MANCINI                           RŮŽOVÝ PANTER (Peter Gunn Theme) \nL. BEGA                                 MAMBO N.5 \nJ. BARRY                               JAMES BOND Theme \nH. ARLEN                              ČARODEJ ZE ZEMĚ OZ (Over the rainbow ) \nB. HOWARD                          Fly me to the Moon \nH. HANCOCK                        Cantaloupe Island \narr. B. LISTON                       Brazil \nB. Mc FERRIN                       Don´t Worry Be Happy \nB. KAPER                              Green Dolphin Street \nF. FISCHER                           CHICAGO \nD. CHRISTIANSON               Comedy for Saxofophones \nJ. ZAWINUL                           Mercy\, Mercy\, Mercy \n  \nDélka cca 65 minut\, změna programu vyhrazena. \n\nTento tip na kulturní akci v Hradec Králové najdete v přehledu na KulturníRádce.cz spolu s dalšími koncerty\, festivaly a divadelními představeními.
URL:https://kulturniradce.cz/event/svetova-hudba-pro-4-saxofony-2/
LOCATION:Muzeum východních Čech\, Hradec Králové\, Muzeum východních Čech\, Hradec Králové\, Česká republika
CATEGORIES:Koncert
ATTACH;FMTTYPE=image/jpeg:https://kulturniradce.cz/wp-content/uploads/2025/09/320-4d2cc7ea376f42b3a4b6cee7a0580b61.jpg
END:VEVENT
END:VCALENDAR