BEGIN:VCALENDAR
VERSION:2.0
PRODID:-//www.kulturniradce.cz - ECPv6.15.20//NONSGML v1.0//EN
CALSCALE:GREGORIAN
METHOD:PUBLISH
X-WR-CALNAME:www.kulturniradce.cz
X-ORIGINAL-URL:https://kulturniradce.cz
X-WR-CALDESC:Akce na www.kulturniradce.cz
REFRESH-INTERVAL;VALUE=DURATION:PT1H
X-Robots-Tag:noindex
X-PUBLISHED-TTL:PT1H
BEGIN:VTIMEZONE
TZID:Europe/Prague
BEGIN:DAYLIGHT
TZOFFSETFROM:+0100
TZOFFSETTO:+0200
TZNAME:CEST
DTSTART:20240331T010000
END:DAYLIGHT
BEGIN:STANDARD
TZOFFSETFROM:+0200
TZOFFSETTO:+0100
TZNAME:CET
DTSTART:20241027T010000
END:STANDARD
BEGIN:DAYLIGHT
TZOFFSETFROM:+0100
TZOFFSETTO:+0200
TZNAME:CEST
DTSTART:20250330T010000
END:DAYLIGHT
BEGIN:STANDARD
TZOFFSETFROM:+0200
TZOFFSETTO:+0100
TZNAME:CET
DTSTART:20251026T010000
END:STANDARD
BEGIN:DAYLIGHT
TZOFFSETFROM:+0100
TZOFFSETTO:+0200
TZNAME:CEST
DTSTART:20260329T010000
END:DAYLIGHT
BEGIN:STANDARD
TZOFFSETFROM:+0200
TZOFFSETTO:+0100
TZNAME:CET
DTSTART:20261025T010000
END:STANDARD
END:VTIMEZONE
BEGIN:VEVENT
DTSTART;TZID=Europe/Prague:20251109T183000
DTEND;TZID=Europe/Prague:20251109T213000
DTSTAMP:20260419T230522
CREATED:20250921T082844Z
LAST-MODIFIED:20250921T082845Z
UID:1114-1762713000-1762723800@kulturniradce.cz
SUMMARY:Světové muzikály a filmová hudba
DESCRIPTION:Světové muzikály a filmová hudba se uskuteční dne 2025-11-09 v 18:30 v Pardubice\, Evangelický kostel . \n🎟️ Koupit vstupenku \n\nPojďte si užít zbrusu nový koncert plný písniček ze světových muzikálů a filmové hudby v podání kvarteta Musica festiva do Evangelického kostela v Pardubicích (přitápěno z lavic) \n  \nMusica festiva \nOlga Vít-Krumholzová – soprán\, Gabriela Plachá – hoboj\, \nŠárka Trávníčková – housle\, Petr Štěpán – kytara \n. \nPROGRAM: \nWEST SIDE STORY- L. BERNSTEIN: Tonight \nFORREST GUMP – A. SILVESTRI \nPORGY A BESS – L. BERNSTEIN: SUMMER TIME \nKMOTR – N. ROTA: The Godfather theme \nFANTOM OPERY –  A. L. WEBBER: Think of me  \nPEARL HARBOUR – H. ZIMMER: Tennesse \nSNÍDANĚ U TIFFANIHO – H. MANCINI: Moon River \nCATS – A. L. WEBBER: Memory \nJAMES BOND – Adele: Skyfall \nŽIVOT JE KRÁSNÝ -Buongiorno principessa \nLÁSKA NEBESKÁ – L. ARMSTRONG: Portuguese love theme \nJAMES BOND – James Bond Theme \nVELKÝ GETSBY – F. S. FITZERALD: Young and Beatiful \nKRÁL ARTUŠ – H. ZIMMER – Song of exile \nLEGENDA O VÁŠNI – J. HORNER \nCARROUSEL –  R. RODGERS: If I loved you \nMISE – E. MORRICONE: Gabriel´s Oboe \nMAMMA MIA – B. ANDERSON: I do\, I do\, I do \ndélka programu cca 65 minut\, změna programu vyhrazena \n\nTento tip na kulturní akci v Pardubice najdete v přehledu na KulturníRádce.cz spolu s dalšími koncerty\, festivaly a divadelními představeními.
URL:https://kulturniradce.cz/event/svetove-muzikaly-a-filmova-hudba/
LOCATION:Evangelický kostel \, Pardubice\, Evangelický kostel \, Pardubice\, Česká republika
CATEGORIES:Koncert
ATTACH;FMTTYPE=image/jpeg:https://kulturniradce.cz/wp-content/uploads/2025/09/320-24728473f3564017a862fa1612988cbe.jpg
END:VEVENT
END:VCALENDAR