BEGIN:VCALENDAR
VERSION:2.0
PRODID:-//www.kulturniradce.cz - ECPv6.15.20//NONSGML v1.0//EN
CALSCALE:GREGORIAN
METHOD:PUBLISH
X-WR-CALNAME:www.kulturniradce.cz
X-ORIGINAL-URL:https://kulturniradce.cz
X-WR-CALDESC:Akce na www.kulturniradce.cz
REFRESH-INTERVAL;VALUE=DURATION:PT1H
X-Robots-Tag:noindex
X-PUBLISHED-TTL:PT1H
BEGIN:VTIMEZONE
TZID:Europe/Prague
BEGIN:DAYLIGHT
TZOFFSETFROM:+0100
TZOFFSETTO:+0200
TZNAME:CEST
DTSTART:20240331T010000
END:DAYLIGHT
BEGIN:STANDARD
TZOFFSETFROM:+0200
TZOFFSETTO:+0100
TZNAME:CET
DTSTART:20241027T010000
END:STANDARD
BEGIN:DAYLIGHT
TZOFFSETFROM:+0100
TZOFFSETTO:+0200
TZNAME:CEST
DTSTART:20250330T010000
END:DAYLIGHT
BEGIN:STANDARD
TZOFFSETFROM:+0200
TZOFFSETTO:+0100
TZNAME:CET
DTSTART:20251026T010000
END:STANDARD
BEGIN:DAYLIGHT
TZOFFSETFROM:+0100
TZOFFSETTO:+0200
TZNAME:CEST
DTSTART:20260329T010000
END:DAYLIGHT
BEGIN:STANDARD
TZOFFSETFROM:+0200
TZOFFSETTO:+0100
TZNAME:CET
DTSTART:20261025T010000
END:STANDARD
END:VTIMEZONE
BEGIN:VEVENT
DTSTART;TZID=Europe/Prague:20251114T190000
DTEND;TZID=Europe/Prague:20251114T220000
DTSTAMP:20260420T003859
CREATED:20251002T164048Z
LAST-MODIFIED:20251002T164048Z
UID:4304-1763146800-1763157600@kulturniradce.cz
SUMMARY:Buxtehude: Kantáty
DESCRIPTION:Buxtehude: Kantáty se uskuteční dne 2025-11-14 v 19:00 v Třebíč\, Kostel sv. Martina. \n🎟️ Koupit vstupenku \n\nÚČINKUJE: \n  \nSILENTIUM! ensemble \nCzech Ensemble Baroque Orchestra \nDagmar Valentová – koncertní mistr \nTereza Válková – sbormistr \n  \nPROGRAM: \nD. Buxtehude: Erhalt uns\, Herr\, bei deinem Wort (BuxWV27)\, Jesu\, meines Lebens Leben (BuxWV62)\, Befiehl dem Engel\, dass er komm (BuxWV10) a další \n  \nBuxtehude byl plodným skladatelem duchovní i světské hudby\, napsal více než 120 duchovních kantát pro kostel sv. Marie v Lübecku\, kde zastával prestižní a skvěle placené místo kapelníka. Díla v našem programu ilustrují Buxtehudeho mistrovské zvládnutí neuvěřitelné stylové rozmanitosti\, která byla pro duchovní kantátu v Německu v 17. století charakteristická. \nDíla v našem programu ilustrují Buxtehudeho mistrovské zvládnutí neuvěřitelné stylové rozmanitosti\, která byla pro duchovní kantátu v Německu v 17. století charakteristická. \n  \n  \n  \n  \n\nTento tip na kulturní akci v Třebíč najdete v přehledu na KulturníRádce.cz spolu s dalšími koncerty\, festivaly a divadelními představeními.
URL:https://kulturniradce.cz/event/buxtehude-kantaty-3/
LOCATION:Kostel sv. Martina\, Třebíč\, Kostel sv. Martina\, Třebíč\, Česká republika
CATEGORIES:Koncert
ATTACH;FMTTYPE=image/jpeg:https://kulturniradce.cz/wp-content/uploads/2025/10/320-6422624fcd22410b8b7551177ac67e69.jpg
END:VEVENT
END:VCALENDAR