BEGIN:VCALENDAR
VERSION:2.0
PRODID:-//www.kulturniradce.cz - ECPv6.15.20//NONSGML v1.0//EN
CALSCALE:GREGORIAN
METHOD:PUBLISH
X-ORIGINAL-URL:https://kulturniradce.cz
X-WR-CALDESC:Akce na www.kulturniradce.cz
REFRESH-INTERVAL;VALUE=DURATION:PT1H
X-Robots-Tag:noindex
X-PUBLISHED-TTL:PT1H
BEGIN:VTIMEZONE
TZID:Europe/Prague
BEGIN:DAYLIGHT
TZOFFSETFROM:+0100
TZOFFSETTO:+0200
TZNAME:CEST
DTSTART:20240331T010000
END:DAYLIGHT
BEGIN:STANDARD
TZOFFSETFROM:+0200
TZOFFSETTO:+0100
TZNAME:CET
DTSTART:20241027T010000
END:STANDARD
BEGIN:DAYLIGHT
TZOFFSETFROM:+0100
TZOFFSETTO:+0200
TZNAME:CEST
DTSTART:20250330T010000
END:DAYLIGHT
BEGIN:STANDARD
TZOFFSETFROM:+0200
TZOFFSETTO:+0100
TZNAME:CET
DTSTART:20251026T010000
END:STANDARD
BEGIN:DAYLIGHT
TZOFFSETFROM:+0100
TZOFFSETTO:+0200
TZNAME:CEST
DTSTART:20260329T010000
END:DAYLIGHT
BEGIN:STANDARD
TZOFFSETFROM:+0200
TZOFFSETTO:+0100
TZNAME:CET
DTSTART:20261025T010000
END:STANDARD
END:VTIMEZONE
BEGIN:VEVENT
DTSTART;TZID=Europe/Prague:20251118T190000
DTEND;TZID=Europe/Prague:20251118T220000
DTSTAMP:20260420T003935
CREATED:20250923T175751Z
LAST-MODIFIED:20250923T175752Z
UID:1834-1763492400-1763503200@kulturniradce.cz
SUMMARY:Koncert filmové hudby | Neratovice
DESCRIPTION:Koncert filmové hudby | Neratovice se uskuteční dne 2025-11-18 v 19:00 v Neratovice\, Společenský dům. \n🎟️ Koupit vstupenku \n\nSmyčce Pražského filmového orchestru pod taktovkou dirigenta Jiřího Korynty přináší velkolepý koncert\, který představí v Neratovicích! \nDiváci se mohou těšit na skladby z filmů Star Wars\, Pán Prstenů\, Games of Thrones\, Harry Potter\, Piráti z Karibiku a další známé melodie stříbrného plátna. \nKoncert bude bohatý na fantastickou filmovou hudbu od světově známých hudebních skladatelů\, jakými jsou např. John Williams\, Hans Zimmer\, Howard Shore nebo James Horner.  \n\nTento tip na kulturní akci v Neratovice najdete v přehledu na KulturníRádce.cz spolu s dalšími koncerty\, festivaly a divadelními představeními.
URL:https://kulturniradce.cz/event/koncert-filmove-hudby-neratovice/
LOCATION:Společenský dům\, Neratovice\, Společenský dům\, Neratovice\, Česká republika
CATEGORIES:Koncert
ATTACH;FMTTYPE=image/jpeg:https://kulturniradce.cz/wp-content/uploads/2025/09/320-bc1c5a0bfd4345c98cd6963f6b069c5f.jpg
END:VEVENT
BEGIN:VEVENT
DTSTART;TZID=Europe/Prague:20251118T190000
DTEND;TZID=Europe/Prague:20251118T220000
DTSTAMP:20260420T003935
CREATED:20251102T172453Z
LAST-MODIFIED:20251102T172454Z
UID:5705-1763492400-1763503200@kulturniradce.cz
SUMMARY:Hourglass II - Jíša\, Vacík\, Musica Florea\, Kudela
DESCRIPTION:Hourglass II – Jíša\, Vacík\, Musica Florea\, Kudela se uskuteční dne 2025-11-18 v 19:00 v Praha\, České muzeum hudby. \n🎟️ Koupit vstupenku \n\nHourglass\, neboli přesýpací hodiny\, je jemná trilogie koncertů\, kombinující staletí staré nástroje\, world music a nejmodernější výstřelky současné hudební technologie do téměř meditativního celku. Toto je druhá část! Třetí\, společně s Lenkou Dusilovou proběhne 3. března 2026 na stejném místě. \nKontemplativní koncerty v Muzeu hudby. \nKdyž se barokní soubor setká se Seaboardem. \nKaždodenní život nám připomíná\, že čím dál tím víc potřebujeme čas\, kdy se zastavíme.Čas pro uvědomění si životních priorit a nabrání sil do dalšího dne. \nRobert Jíša\, absolvent prestižní bostonské školy Berklee College of Music\, obor hudební kompozice se zaměřením na filmovou skladbu\, si Vás dovoluje pozvat na hudební projekt „HOURGLASS“\, který v sobě snoubí vystoupení prvotřídních muzikantů\, uznávaného komorního orchestru specializujícího se na barokní hudbu Musica Florea pod vedením profesora Marka Štryncla\, perkusionisty\, jazzmana a improvizátora Miloše Vacíka a jeho samého hrajícího na specifický moderní nástroj ROLI Seaboard. Přijměte pozvání na hudební pout‘ znějící hudbou historickou i tou velmi současnou\, která má za cíl naše zklidnění\, kontemplaci a odpočinek duše. \nRobert dlouhodobě pracuje s vlivy zvukových frekvencí na naše tělo a mysl. Ačkoliv to někomu může znít zvláštně\, dle prastarých tibetských nauk\, ale i aktuálních výzkumů předních světových univerzit publikovaných v prestižních magazínech\, má náš organismus několik energetických center citlivě reagujících na konkrétní zvukové frekvence. Je obecně známo\, že různé frekvence světelné\, barvy\, mají vliv na naši psychiku. V případě zvuku to není jinak\, jeho vliv je ale ještě silnější a širší veřejnosti neznámý. \nJíšův dlouholetý výzkum na toto téma byl oceněn například vídeňským Museumsquaterem\, který si u něj objednal právě z důvodů jeho výzkumu vlivu konkrétních frekvencí v hudební kompozici na náš organismus\, vytvoření opery DURST. Místní kulturní kritici dílo pochválili jako mimořádný přínos k tématu vlivu současné hudby na naše emoce\, tělo i duši. Tato opera byla ve Vídni úspěšně provedena a následně objednána a provedena i festivalem klasické hudby Dvořákova Olomouc.Práce se zvukovými frekvencemi v hudební skladbě byla také opakovaně oceněna nositelkou Velké Prešerenovy ceny za kulturu\, slovinskou umělkyní Emou Kugler\, při jejích filmech a instalacích. \nPokračováním využívání těchto poznatků je právě projekt HOURGLASS\, který nyní přinášíme do Muzea hudby. Nachází se na jednom z nejkrásnějších míst v Evropě\, na milované a hluboce spirituální Malé Straně\, a proto bychom se měli být schopni lehce naladit na kombinaci krásné hudby v provedení renomovaných hudebníků a tónů\, frekvencí\, které jsou návštěvníkům představeny takovou formou\, aby jim přinesly téměř až meditativní zážitek. \nMiloš Vacík – jako muzikant\, malíř zvuku perkusí\, působil ve skupinách Šum svistu\, Sluneční orchestr\, Laura a její tygři a Tam Tam Orchestra. Od roku 1999 vystupuje se svým hudebním tělesem Tam Tam Batucada\, se kterým v roce 2004 vydal první desku. Jako předskokani vystupovali například před finskou skupinou Värtinä nebo britskými Transglobal Underground. Každým rokem vytváří bubenické aranžmá některé z českých vánočních koled. \nMusica Florea je hudební soubor\, který roku 1992 založil violoncellista a dirigent Marek Štryncl. \nRepertoár souboru sahá od hudby raného baroka přes vrcholná díla této epochy až po klasicismus. Od roku 2004\, kdy Musica Florea provedla na dobové nástroje orchestrální díla Antonína Dvořáka\, čímž se součástí jejího repertoáru stává i hudba období romantismu. \nSpolečně s mezinárodním týmem se Musica Florea v letech 1999-2002 podílela na výjimečném provedení představení opery Castor et Polux od Jeana-Philippa Rameaua v Národním divadle v Praze a v novodobé premiéře provedla na Pražském hradě korunovační hru Jana Dismase Zelenky Sub olea pacis et palma virtutis. \nOd roku 2002 pořádá Musica Florea vlastní koncerty s důrazem na prezentaci nově objevených děl zejména českého původu i na interpretaci již známého hudebního materiálu s přihlédnutím k dobové interpretační praxi. \nPro společnost Supraphon soubor natočil komplet Braniborských koncertů Johanna Sebastiana Bacha. \nAleš Kudela – se v roce 1988 připojil ke skupině Laura a její tygři jako saxofonista a klarinetista. S tímto uskupením nahrál desku Nebudeme a Síla V Nás\, na které působí jako hráč na saxofon a klarinet. V některých písních zpívá sólově\, např. v písni „Já a Bůh“ na desce „Síla V Nás“ z roku 1992. \nUž na albu „Nebudeme“ z roku 1990 se uchytila trojice Kudela\, Miloš Vacík a Daniel Nekonečný. Právě s Danielem Nekonečným a Milošem Vacíkem tvořil část sestavy\, která se později osamostatnila a založila vlastní hudební projekt Šum svistu. \n\nTento tip na kulturní akci v Praha najdete v přehledu na KulturníRádce.cz spolu s dalšími koncerty\, festivaly a divadelními představeními.
URL:https://kulturniradce.cz/event/hourglass-ii-jisa-vacik-musica-florea-kudela/
LOCATION:České muzeum hudby\, Praha\, České muzeum hudby\, Praha\, Česká republika
CATEGORIES:Koncert
ATTACH;FMTTYPE=image/jpeg:https://kulturniradce.cz/wp-content/uploads/2025/11/320-1c1d95dc517349bf83dd041b3341edcb.jpg
END:VEVENT
END:VCALENDAR