BEGIN:VCALENDAR
VERSION:2.0
PRODID:-//www.kulturniradce.cz - ECPv6.15.20//NONSGML v1.0//EN
CALSCALE:GREGORIAN
METHOD:PUBLISH
X-WR-CALNAME:www.kulturniradce.cz
X-ORIGINAL-URL:https://kulturniradce.cz
X-WR-CALDESC:Akce na www.kulturniradce.cz
REFRESH-INTERVAL;VALUE=DURATION:PT1H
X-Robots-Tag:noindex
X-PUBLISHED-TTL:PT1H
BEGIN:VTIMEZONE
TZID:Europe/Prague
BEGIN:DAYLIGHT
TZOFFSETFROM:+0100
TZOFFSETTO:+0200
TZNAME:CEST
DTSTART:20240331T010000
END:DAYLIGHT
BEGIN:STANDARD
TZOFFSETFROM:+0200
TZOFFSETTO:+0100
TZNAME:CET
DTSTART:20241027T010000
END:STANDARD
BEGIN:DAYLIGHT
TZOFFSETFROM:+0100
TZOFFSETTO:+0200
TZNAME:CEST
DTSTART:20250330T010000
END:DAYLIGHT
BEGIN:STANDARD
TZOFFSETFROM:+0200
TZOFFSETTO:+0100
TZNAME:CET
DTSTART:20251026T010000
END:STANDARD
BEGIN:DAYLIGHT
TZOFFSETFROM:+0100
TZOFFSETTO:+0200
TZNAME:CEST
DTSTART:20260329T010000
END:DAYLIGHT
BEGIN:STANDARD
TZOFFSETFROM:+0200
TZOFFSETTO:+0100
TZNAME:CET
DTSTART:20261025T010000
END:STANDARD
END:VTIMEZONE
BEGIN:VEVENT
DTSTART;TZID=Europe/Prague:20251119T190000
DTEND;TZID=Europe/Prague:20251119T220000
DTSTAMP:20260420T003859
CREATED:20250924T180704Z
LAST-MODIFIED:20250924T180704Z
UID:2153-1763578800-1763589600@kulturniradce.cz
SUMMARY:Koncert filmové hudby Hanse Zimmera
DESCRIPTION:Koncert filmové hudby Hanse Zimmera se uskuteční dne 2025-11-19 v 19:00 v Hodonín\, Dům kultury. \n🎟️ Koupit vstupenku \n\nPřipravte se na jedinečný večer\, který vás zavede do světa nejikoničtější filmové hudby. Dům kultury v Hodoníně přivítá symfonický orchestr Grande Orchestra\, který představí mistrovská díla slavného skladatele Hansa Zimmera v rámci exkluzivního koncertu. \nTento koncert je povinností pro všechny milovníky filmové hudby! Přijďte si užít nezapomenutelný večer plný emocí a hudebních skvostů\, které definovaly moderní kinematografii. \nHans Zimmer je německý hudební skladatel\, který se proslavil díky své práci na filmových soundtrackech. Je známý svou schopností přinést intenzitu a emocionální hloubku do filmového vyprávění prostřednictvím hudby. Mezi jeho nejúspěšnější filmy patří Počátek\, Interstellar\, Duna či Gladiátor\, které získaly srdce publika po celém světě. Zimmerova tvorba mu vynesla řadu ocenění\, včetně dvou oscarů\, tří zlatých glóbů\, čtyř Grammy – celkem 37 ocenění. \nNenechte si ujít tuto jedinečnou příležitost prožít hudbu Hansa Zimmera naživo v podání skvělého orchestru GRANDE ORCHESTRA! Vstupenky jsou již v prodeji. Zajistěte si svá místa a připravte se na hudební zážitek\, který nikdy nezapomenete. \nAkce je přístupná od 12 let. Každý účastník musí předložit platnou vstupenku  zakoupenou výhradně v síti SMS ticket. \n\nTento tip na kulturní akci v Hodonín najdete v přehledu na KulturníRádce.cz spolu s dalšími koncerty\, festivaly a divadelními představeními.
URL:https://kulturniradce.cz/event/koncert-filmove-hudby-hanse-zimmera-4/
LOCATION:Dům kultury\, Hodonín\, Dům kultury\, Hodonín\, Česká republika
CATEGORIES:Koncert
ATTACH;FMTTYPE=image/jpeg:https://kulturniradce.cz/wp-content/uploads/2025/09/320-1211fd5037ee474fad9b68e26f0da6e3.jpg
END:VEVENT
BEGIN:VEVENT
DTSTART;TZID=Europe/Prague:20251119T200000
DTEND;TZID=Europe/Prague:20251119T230000
DTSTAMP:20260420T003859
CREATED:20250922T074535Z
LAST-MODIFIED:20250922T074535Z
UID:1682-1763582400-1763593200@kulturniradce.cz
SUMMARY:Souboj Klavírů v Táboře
DESCRIPTION:Souboj Klavírů v Táboře se uskuteční dne 2025-11-19 v 20:00 v Tábor\, Hotel Palcát. \n🎟️ Koupit vstupenku \n\nZveme vás na jedinečný koncert dvou výjimečných klavíristů a hudebních skladatelů – Ondřeje Brzobohatého a Ondřeje Brouska! Tito celoživotní přátelé spojí své hudební mistrovství na pódiu v táborském hotelu Palcát! Přijďte si užít večer plný virtuózní klavírní hry a nezapomenutelných melodií! \nJak by zněla „Osudová“\, kdyby byl Beethoven optimista? Proč pláčeme při banálním filmovém dialogu? Co je to „nevhodná“ hudba? Že se u klasické hudby nedá pořádně zasmát? Může mít „Souboj klavírů“ vítěze? \nNa tyto otázky vám stylově odpoví duo Brousek – Brzobohatý\, které připravilo nezapomenutelný večer plný hudebních vtipů s dvěma klavíry. \n„Celé představení si můžete naplno vychutnat\, díky korunnímu klenotu mezi koncertními klavíry C. Bechstein D 282.Tímto děkujeme našemu partnerovi C. Bechstein – www.bechstein.com za podporu akce.“ \n\nTento tip na kulturní akci v Tábor najdete v přehledu na KulturníRádce.cz spolu s dalšími koncerty\, festivaly a divadelními představeními.
URL:https://kulturniradce.cz/event/souboj-klaviru-v-tabore/
LOCATION:Hotel Palcát\, Tábor\, Hotel Palcát\, Tábor\, Česká republika
CATEGORIES:Koncert
ATTACH;FMTTYPE=image/jpeg:https://kulturniradce.cz/wp-content/uploads/2025/09/320-a6a56d0df9a147b0818d47ee826d7592.jpg
END:VEVENT
END:VCALENDAR