BEGIN:VCALENDAR
VERSION:2.0
PRODID:-//www.kulturniradce.cz - ECPv6.15.20//NONSGML v1.0//EN
CALSCALE:GREGORIAN
METHOD:PUBLISH
X-ORIGINAL-URL:https://kulturniradce.cz
X-WR-CALDESC:Akce na www.kulturniradce.cz
REFRESH-INTERVAL;VALUE=DURATION:PT1H
X-Robots-Tag:noindex
X-PUBLISHED-TTL:PT1H
BEGIN:VTIMEZONE
TZID:Europe/Prague
BEGIN:DAYLIGHT
TZOFFSETFROM:+0100
TZOFFSETTO:+0200
TZNAME:CEST
DTSTART:20240331T010000
END:DAYLIGHT
BEGIN:STANDARD
TZOFFSETFROM:+0200
TZOFFSETTO:+0100
TZNAME:CET
DTSTART:20241027T010000
END:STANDARD
BEGIN:DAYLIGHT
TZOFFSETFROM:+0100
TZOFFSETTO:+0200
TZNAME:CEST
DTSTART:20250330T010000
END:DAYLIGHT
BEGIN:STANDARD
TZOFFSETFROM:+0200
TZOFFSETTO:+0100
TZNAME:CET
DTSTART:20251026T010000
END:STANDARD
BEGIN:DAYLIGHT
TZOFFSETFROM:+0100
TZOFFSETTO:+0200
TZNAME:CEST
DTSTART:20260329T010000
END:DAYLIGHT
BEGIN:STANDARD
TZOFFSETFROM:+0200
TZOFFSETTO:+0100
TZNAME:CET
DTSTART:20261025T010000
END:STANDARD
END:VTIMEZONE
BEGIN:VEVENT
DTSTART;TZID=Europe/Prague:20251125T180000
DTEND;TZID=Europe/Prague:20251125T210000
DTSTAMP:20260420T003935
CREATED:20251015T081614Z
LAST-MODIFIED:20251015T081615Z
UID:5507-1764093600-1764104400@kulturniradce.cz
SUMMARY:Romantic Woman
DESCRIPTION:Romantic Woman se uskuteční dne 2025-11-25 v 18:00 v Milevsko\, Bazilika Navštívení Panny Marie Milevsko. \n🎟️ Koupit vstupenku \n\nRomantic Woman – originální seskupení zpěvaček vás zve na romantický vánoční koncert do Baziliky Navštívení Panny Marie v Milevsku. \nPřipravené hudební aranže naživo doprovodí smyčce a skotské dudy. V keltském stylu zazní největší světové hity jako Amazing Grace\, My Heart Will Go On\, Loch Lomond\, Nella Fantasia nebo vánoční O Holy Night\, Adeste Fideles a mnoho dalších. \nZpívají: Monika Sommerová\, Jana Štěpánková\, Barbora Konopásek Fialová a Veronika Vršecká  \nVečerem provází moderátor Honza Musil \n  \n\nTento tip na kulturní akci v Milevsko najdete v přehledu na KulturníRádce.cz spolu s dalšími koncerty\, festivaly a divadelními představeními.
URL:https://kulturniradce.cz/event/romantic-woman-2/
LOCATION:Bazilika Navštívení Panny Marie Milevsko\, Milevsko\, Bazilika Navštívení Panny Marie Milevsko\, Milevsko\, Česká republika
CATEGORIES:Koncert
ATTACH;FMTTYPE=image/jpeg:https://kulturniradce.cz/wp-content/uploads/2025/10/320-afecd654ba4947ea902220f809029a55.jpg
END:VEVENT
BEGIN:VEVENT
DTSTART;TZID=Europe/Prague:20251125T190000
DTEND;TZID=Europe/Prague:20251125T220000
DTSTAMP:20260420T003935
CREATED:20250923T175810Z
LAST-MODIFIED:20250923T175810Z
UID:1851-1764097200-1764108000@kulturniradce.cz
SUMMARY:Koncert filmové hudby | Ústí nad Labem
DESCRIPTION:Koncert filmové hudby | Ústí nad Labem se uskuteční dne 2025-11-25 v 19:00 v Ústí nad Labem\, Dům kultury. \n🎟️ Koupit vstupenku \n\nSmyčce Pražského filmového orchestru pod taktovkou dirigenta Jiřího Korynty přináší velkolepý koncert\, který představí v Ústí nad Labem! \nDiváci se mohou těšit na skladby z filmů Star Wars\, Pán Prstenů\, Games of Thrones\, Harry Potter\, Piráti z Karibiku a další známé melodie stříbrného plátna. \nKoncert bude bohatý na fantastickou filmovou hudbu od světově známých hudebních skladatelů\, jakými jsou např. John Williams\, Hans Zimmer\, Howard Shore nebo James Horner.  \n\nTento tip na kulturní akci v Ústí nad Labem najdete v přehledu na KulturníRádce.cz spolu s dalšími koncerty\, festivaly a divadelními představeními.
URL:https://kulturniradce.cz/event/koncert-filmove-hudby-usti-nad-labem/
LOCATION:Dům kultury\, Ústí nad Labem\, Dům kultury\, Ústí nad Labem\, Česká republika
CATEGORIES:Koncert
ATTACH;FMTTYPE=image/jpeg:https://kulturniradce.cz/wp-content/uploads/2025/09/320-774da0b888ac45c5802bdff5d913d198.jpg
END:VEVENT
BEGIN:VEVENT
DTSTART;TZID=Europe/Prague:20251125T190000
DTEND;TZID=Europe/Prague:20251125T220000
DTSTAMP:20260420T003935
CREATED:20250926T183544Z
LAST-MODIFIED:20250926T183545Z
UID:2738-1764097200-1764108000@kulturniradce.cz
SUMMARY:Filmová hudba Hanse Zimmera při svíčkách
DESCRIPTION:Filmová hudba Hanse Zimmera při svíčkách se uskuteční dne 2025-11-25 v 19:00 v Benešov\, KD Karlov. \n🎟️ Koupit vstupenku \n\nKoncert filmové hudby Hanse Zimmera při svíčkách! \nNenechte si ujít nezapomenutelný večer plný nejkrásnější filmové hudby\, během kterého zazní melodie jednoho z nejvýznamnějších skladatelů filmové hudby na světě\, Hanse Zimmera\, v podání mezinárodně uznávaného pianisty Alexandra Starého. Záře stovek svíček vytvoří nezapomenutelnou atmosféru koncertu. \nHans Zimmer je známý svou emocionální a dojemnou filmovou hudbou\, která dokonale podtrhuje děj na plátně. Během své téměř čtyřicetileté kariéry vytvořil ikonické soundtracky k mnoha slavným filmům\, jako jsou Gladiátor\, Počátek\, Interstellar\, Piráti z Karibiku\, Lví král a mnoho dalších. Jeho kompozice si získaly srdce milionů fanoušků po celém světě a jeho koncerty vyprodávají nejprestižnější koncertní sály. \nTento výjimečný koncert nabízí mnohem více než jen hudbu. Stovky mihotajících se svíček rozzáří celý prostor a vytvoří tajemnou a magickou atmosféru. Každá z nich přispěje k vytvoření nezapomenutelného hudebního zážitku. \nV rámci Evropské tour alternují také: František Panáček a Lucie Kubátová.  \nAkce je přístupná od 12 let. Každý účastník musí předložit platnou vstupenku  zakoupenou výhradně v síti SMS ticket. \n„Celé představení si můžete naplno vychutnat\, díky korunnímu klenotu mezi koncertními klavíry C. Bechstein D 282.Tímto děkujeme našemu partnerovi C. Bechstein – www.bechstein.com za podporu akce.“ \n\nTento tip na kulturní akci v Benešov najdete v přehledu na KulturníRádce.cz spolu s dalšími koncerty\, festivaly a divadelními představeními.
URL:https://kulturniradce.cz/event/filmova-hudba-hanse-zimmera-pri-svickach-3/
LOCATION:KD Karlov\, Benešov\, KD Karlov\, Benešov\, Česká republika
CATEGORIES:Koncert
ATTACH;FMTTYPE=image/jpeg:https://kulturniradce.cz/wp-content/uploads/2025/09/320-550ce121ea10480f8ff4665c741bcf8f.jpg
END:VEVENT
END:VCALENDAR