BEGIN:VCALENDAR
VERSION:2.0
PRODID:-//www.kulturniradce.cz - ECPv6.15.20//NONSGML v1.0//EN
CALSCALE:GREGORIAN
METHOD:PUBLISH
X-WR-CALNAME:www.kulturniradce.cz
X-ORIGINAL-URL:https://kulturniradce.cz
X-WR-CALDESC:Akce na www.kulturniradce.cz
REFRESH-INTERVAL;VALUE=DURATION:PT1H
X-Robots-Tag:noindex
X-PUBLISHED-TTL:PT1H
BEGIN:VTIMEZONE
TZID:Europe/Prague
BEGIN:DAYLIGHT
TZOFFSETFROM:+0100
TZOFFSETTO:+0200
TZNAME:CEST
DTSTART:20240331T010000
END:DAYLIGHT
BEGIN:STANDARD
TZOFFSETFROM:+0200
TZOFFSETTO:+0100
TZNAME:CET
DTSTART:20241027T010000
END:STANDARD
BEGIN:DAYLIGHT
TZOFFSETFROM:+0100
TZOFFSETTO:+0200
TZNAME:CEST
DTSTART:20250330T010000
END:DAYLIGHT
BEGIN:STANDARD
TZOFFSETFROM:+0200
TZOFFSETTO:+0100
TZNAME:CET
DTSTART:20251026T010000
END:STANDARD
BEGIN:DAYLIGHT
TZOFFSETFROM:+0100
TZOFFSETTO:+0200
TZNAME:CEST
DTSTART:20260329T010000
END:DAYLIGHT
BEGIN:STANDARD
TZOFFSETFROM:+0200
TZOFFSETTO:+0100
TZNAME:CET
DTSTART:20261025T010000
END:STANDARD
END:VTIMEZONE
BEGIN:VEVENT
DTSTART;TZID=Europe/Prague:20251126T190000
DTEND;TZID=Europe/Prague:20251126T220000
DTSTAMP:20260419T230523
CREATED:20250921T112206Z
LAST-MODIFIED:20250921T112207Z
UID:1203-1764183600-1764194400@kulturniradce.cz
SUMMARY:Film&Classic Music Chomutov "Kouzelné melodie"
DESCRIPTION:Film&Classic Music Chomutov „Kouzelné melodie“ se uskuteční dne 2025-11-26 v 19:00 v Chomutov\, Městské divadlo. \n🎟️ Koupit vstupenku \n\nZveme vás na čtvrtý ročník koncertu filmové a klasické hudby\, který slibuje jedinečný zážitek pro celou rodinu. Tentokrát se zaměříme na oblíbené skladby z pohádek\, rodinných a dobrodružných filmů\, které vás zavedou do kouzelného světa kinematografie. \nNa pódium se opět vrátí Komorní orchestr Českého rozhlasu\, který se může pyšnit svými precizními výkony a emocionálním projevem. K orchestru se přidají talentovaní sólisté\, jejichž výkony vás okouzlí a dotknou se vašich srdcí.  \nTento ročník přináší také novinku v podobě dalších instrumentů\, které obohatí zvukovou paletu a přinesou nové dimenze hudebního prožitku. Dětský sbor pak dodá koncertu na jedinečnosti a podtrhne kouzlo pohádkových melodií. \n  \nPřijďte si užít večer plný hudby\, emocí a krásných vzpomínek na vaše oblíbené filmy!  \nZazní skladby s filmů jako jsou Šrek\,  Madagaskar\, Tři oříšky pro Popelku\,  Alenka v říši divů\,  Letopisy Narnie\, Sám doma\, Cirkus Humberto a mnoho dalších. \n\nTento tip na kulturní akci v Chomutov najdete v přehledu na KulturníRádce.cz spolu s dalšími koncerty\, festivaly a divadelními představeními.
URL:https://kulturniradce.cz/event/filmclassic-music-chomutov-kouzelne-melodie/
LOCATION:Městské divadlo\, Chomutov\, Městské divadlo\, Chomutov\, Česká republika
CATEGORIES:Koncert
ATTACH;FMTTYPE=image/jpeg:https://kulturniradce.cz/wp-content/uploads/2025/09/320-8767a1aae9cb4876919399fbfe2c9f9c.jpg
END:VEVENT
BEGIN:VEVENT
DTSTART;TZID=Europe/Prague:20251126T190000
DTEND;TZID=Europe/Prague:20251126T220000
DTSTAMP:20260419T230523
CREATED:20250926T183546Z
LAST-MODIFIED:20250926T183546Z
UID:2742-1764183600-1764194400@kulturniradce.cz
SUMMARY:Filmová hudba Hanse Zimmera při svíčkách
DESCRIPTION:Filmová hudba Hanse Zimmera při svíčkách se uskuteční dne 2025-11-26 v 19:00 v Olomouc\, Reduta. \n🎟️ Koupit vstupenku \n\nKoncert filmové hudby Hanse Zimmera při svíčkách! \nNenechte si ujít nezapomenutelný večer plný nejkrásnější filmové hudby\, během kterého zazní melodie jednoho z nejvýznamnějších skladatelů filmové hudby na světě\, Hanse Zimmera\, v podání mezinárodně uznávaného pianisty Alexandra Starého. Záře stovek svíček vytvoří nezapomenutelnou atmosféru koncertu. \nHans Zimmer je známý svou emocionální a dojemnou filmovou hudbou\, která dokonale podtrhuje děj na plátně. Během své téměř čtyřicetileté kariéry vytvořil ikonické soundtracky k mnoha slavným filmům\, jako jsou Gladiátor\, Počátek\, Interstellar\, Piráti z Karibiku\, Lví král a mnoho dalších. Jeho kompozice si získaly srdce milionů fanoušků po celém světě a jeho koncerty vyprodávají nejprestižnější koncertní sály. \nTento výjimečný koncert nabízí mnohem více než jen hudbu. Stovky mihotajících se svíček rozzáří celý prostor a vytvoří tajemnou a magickou atmosféru. Každá z nich přispěje k vytvoření nezapomenutelného hudebního zážitku. \nV rámci Evropské tour alternují také: František Panáček a Lucie Kubátová.  \nAkce je přístupná od 12 let. Každý účastník musí předložit platnou vstupenku  zakoupenou výhradně v síti SMS ticket. \n\nTento tip na kulturní akci v Olomouc najdete v přehledu na KulturníRádce.cz spolu s dalšími koncerty\, festivaly a divadelními představeními.
URL:https://kulturniradce.cz/event/filmova-hudba-hanse-zimmera-pri-svickach-4/
LOCATION:Reduta\, Olomouc\, Reduta\, Olomouc\, Česká republika
CATEGORIES:Koncert
ATTACH;FMTTYPE=image/jpeg:https://kulturniradce.cz/wp-content/uploads/2025/09/320-aa96797be8014d55924c87251fdc065e.jpg
END:VEVENT
BEGIN:VEVENT
DTSTART;TZID=Europe/Prague:20251126T190000
DTEND;TZID=Europe/Prague:20251126T220000
DTSTAMP:20260419T230523
CREATED:20251001T144822Z
LAST-MODIFIED:20251001T144823Z
UID:3428-1764183600-1764194400@kulturniradce.cz
SUMMARY:Kouzelná hudba Adventu ve Staré Praze
DESCRIPTION:Kouzelná hudba Adventu ve Staré Praze se uskuteční dne 2025-11-26 v 19:00 v Praha\, Klementinum. \n🎟️ Koupit vstupenku \n\nKONCERT S PŘÍPITKEM / CONCERT WITH A WELCOME DRINK \nKouzelná hudba Adventu v Zrcadlové kapli Klementina. \nAdventní koncert klasické hudby přináší jedinečnou příležitost zpomalit v uspěchané předvánoční době a nechat se unést tóny mistrů\, jejichž díla naplňují srdce pokojem\, nadějí a radostí. \nRepertoár koncertu zahrnuje díla barokních a romantických skladatelů\, jejichž melodie dokonale odráží krásu a hloubku adventního období. Zazní skladby Johanna Sebastiana Bacha\, Antonia Vivaldiho či Wolfganga Amadea Mozarta\, které v sobě nesou duchovní poselství a hormonii\, jež je typická pro tento čas čekávání.  \nKlementinum – Zrcadlová kaple\, \n\nbarokní varhany (baroque organ)\, soprán\, tenor / baryton\, housle (violin)\, flétna (flute)\nProgram: J. Pachelbel\, A. Michna z Otradovic\, G.F. Haendel\, A. Dvořák\, H.I. Biber\, A. Vivaldi\,  P. Mascagni\, F. Schubert (změna programu vyhrazena)\n\n\nTento tip na kulturní akci v Praha najdete v přehledu na KulturníRádce.cz spolu s dalšími koncerty\, festivaly a divadelními představeními.
URL:https://kulturniradce.cz/event/kouzelna-hudba-adventu-ve-stare-praze/
LOCATION:Klementinum\, Praha\, Klementinum\, Praha\, Česká republika
CATEGORIES:Koncert
ATTACH;FMTTYPE=image/jpeg:https://kulturniradce.cz/wp-content/uploads/2025/10/320-3a7c13417fbf4af8a79b2a1c98a2cbea.jpg
END:VEVENT
BEGIN:VEVENT
DTSTART;TZID=Europe/Prague:20251126T193000
DTEND;TZID=Europe/Prague:20251126T223000
DTSTAMP:20260419T230523
CREATED:20250921T112204Z
LAST-MODIFIED:20250921T112205Z
UID:1189-1764185400-1764196200@kulturniradce.cz
SUMMARY:MICHAL HORÁK & Filharmonie Hradec Králové
DESCRIPTION:MICHAL HORÁK & Filharmonie Hradec Králové se uskuteční dne 2025-11-26 v 19:30 v Praha\, Divadlo Hybernia. \n🎟️ Koupit vstupenku \n\nMichal Horák\, jeden z nejtalentovanějších mladých písničkářů\, se po loňském dvojím vyprodání hradecké filharmonie vrací na pódium s dalšími velkolepými galakoncerty. \nZa doprovodu Filharmonie Hradec Králové pod taktovkou dirigenta Stanislava Vavřínka vystoupí 26. listopadu v Praze v divadle Hybernia. \n  \nTěšit se můžete na originální spojení autorských písní\, humoru a jedinečných aranží Jana Lstibůrka v doprovodu symfonického orchestru. Nechte se unést výjimečnou atmosférou a osobitým stylem Michala Horáka! \n\nTento tip na kulturní akci v Praha najdete v přehledu na KulturníRádce.cz spolu s dalšími koncerty\, festivaly a divadelními představeními.
URL:https://kulturniradce.cz/event/michal-horak-filharmonie-hradec-kralove/
LOCATION:Divadlo Hybernia\, Praha\, Divadlo Hybernia\, Praha\, Česká republika
CATEGORIES:Koncert
ATTACH;FMTTYPE=image/jpeg:https://kulturniradce.cz/wp-content/uploads/2025/09/320-d78bf61f403144eb80c62c5eaaa08a83.jpg
END:VEVENT
BEGIN:VEVENT
DTSTART;TZID=Europe/Prague:20251126T200000
DTEND;TZID=Europe/Prague:20251126T230000
DTSTAMP:20260419T230523
CREATED:20250922T073049Z
LAST-MODIFIED:20250922T073050Z
UID:1676-1764187200-1764198000@kulturniradce.cz
SUMMARY:Souboj Klavírů na Kladně
DESCRIPTION:Souboj Klavírů na Kladně se uskuteční dne 2025-11-26 v 20:00 v Kladno\, Dům kultury. \n🎟️ Koupit vstupenku \n\nZveme vás na jedinečný koncert dvou výjimečných klavíristů a hudebních skladatelů – Ondřeje Brzobohatého a Ondřeje Brouska! Tito celoživotní přátelé spojí své hudební mistrovství na pódiu v kladenském domě kultury! Přijďte si užít večer plný virtuózní klavírní hry a nezapomenutelných melodií! \nJak by zněla „Osudová“\, kdyby byl Beethoven optimista? Proč pláčeme při banálním filmovém dialogu? Co je to „nevhodná“ hudba? Že se u klasické hudby nedá pořádně zasmát? Může mít „Souboj klavírů“ vítěze? \nNa tyto otázky vám stylově odpoví duo Brousek – Brzobohatý\, které připravilo nezapomenutelný večer plný hudebních vtipů s dvěma klavíry. \n„Celé představení si můžete naplno vychutnat\, díky korunnímu klenotu mezi koncertními klavíry C. Bechstein D 282.Tímto děkujeme našemu partnerovi C. Bechstein – www.bechstein.com za podporu akce.“ \n\nTento tip na kulturní akci v Kladno najdete v přehledu na KulturníRádce.cz spolu s dalšími koncerty\, festivaly a divadelními představeními.
URL:https://kulturniradce.cz/event/souboj-klaviru-na-kladne/
LOCATION:Dům kultury\, Kladno\, Dům kultury\, Kladno\, Česká republika
CATEGORIES:Koncert
ATTACH;FMTTYPE=image/jpeg:https://kulturniradce.cz/wp-content/uploads/2025/09/320-625a0a0ea4eb4bbf9c775e3d62f80ae9.jpg
END:VEVENT
END:VCALENDAR