BEGIN:VCALENDAR
VERSION:2.0
PRODID:-//www.kulturniradce.cz - ECPv6.15.20//NONSGML v1.0//EN
CALSCALE:GREGORIAN
METHOD:PUBLISH
X-WR-CALNAME:www.kulturniradce.cz
X-ORIGINAL-URL:https://kulturniradce.cz
X-WR-CALDESC:Akce na www.kulturniradce.cz
REFRESH-INTERVAL;VALUE=DURATION:PT1H
X-Robots-Tag:noindex
X-PUBLISHED-TTL:PT1H
BEGIN:VTIMEZONE
TZID:Europe/Prague
BEGIN:DAYLIGHT
TZOFFSETFROM:+0100
TZOFFSETTO:+0200
TZNAME:CEST
DTSTART:20240331T010000
END:DAYLIGHT
BEGIN:STANDARD
TZOFFSETFROM:+0200
TZOFFSETTO:+0100
TZNAME:CET
DTSTART:20241027T010000
END:STANDARD
BEGIN:DAYLIGHT
TZOFFSETFROM:+0100
TZOFFSETTO:+0200
TZNAME:CEST
DTSTART:20250330T010000
END:DAYLIGHT
BEGIN:STANDARD
TZOFFSETFROM:+0200
TZOFFSETTO:+0100
TZNAME:CET
DTSTART:20251026T010000
END:STANDARD
BEGIN:DAYLIGHT
TZOFFSETFROM:+0100
TZOFFSETTO:+0200
TZNAME:CEST
DTSTART:20260329T010000
END:DAYLIGHT
BEGIN:STANDARD
TZOFFSETFROM:+0200
TZOFFSETTO:+0100
TZNAME:CET
DTSTART:20261025T010000
END:STANDARD
END:VTIMEZONE
BEGIN:VEVENT
DTSTART;TZID=Europe/Prague:20251128T190000
DTEND;TZID=Europe/Prague:20251128T220000
DTSTAMP:20260420T033532
CREATED:20250926T140036Z
LAST-MODIFIED:20250926T140037Z
UID:2579-1764356400-1764367200@kulturniradce.cz
SUMMARY:Hudba Bridgerton při svíčkách
DESCRIPTION:Hudba Bridgerton při svíčkách se uskuteční dne 2025-11-28 v 19:00 v Prostějov\, Společenský dům. \n🎟️ Koupit vstupenku \n\nNenechte si ujít večer plný romantiky a elegance\, kde zazní ty nejznámější melodie a písně z oblíbeného seriálu Bridgerton. Světlo stovky svíček vytvoří okouzlující atmosféru koncertu. \nProgram v jedinečném provedení smyčcového kvarteta představí výběr hudebních skladeb z tohoto populárního seriálu\, inspirovaných klasickými díly i moderními popovými melodiemi\, které si získaly srdce diváků po celém světě. \nTento koncert nabídne víc než jen hudbu; stovky svíček rozzáří prostor a vytvoří atmosféru plnou noblesy\, romantiky a neodolatelného kouzla historické doby. \n\nTento tip na kulturní akci v Prostějov najdete v přehledu na KulturníRádce.cz spolu s dalšími koncerty\, festivaly a divadelními představeními.
URL:https://kulturniradce.cz/event/hudba-bridgerton-pri-svickach-7/
LOCATION:Společenský dům\, Prostějov\, Společenský dům\, Prostějov\, Česká republika
CATEGORIES:Koncert
ATTACH;FMTTYPE=image/jpeg:https://kulturniradce.cz/wp-content/uploads/2025/09/320-66f0d478bb4148f3b76f2c6250bc6b4e.jpg
END:VEVENT
BEGIN:VEVENT
DTSTART;TZID=Europe/Prague:20251128T190000
DTEND;TZID=Europe/Prague:20251128T220000
DTSTAMP:20260420T033532
CREATED:20251102T123327Z
LAST-MODIFIED:20251102T123328Z
UID:5630-1764356400-1764367200@kulturniradce.cz
SUMMARY:Vilém Veverka\, Kateřina Englichová\, Karolína Berková
DESCRIPTION:Vilém Veverka\, Kateřina Englichová\, Karolína Berková se uskuteční dne 2025-11-28 v 19:00 v Tábor\, Kostel Sv. Filipa a Jakuba. \n🎟️ Koupit vstupenku \n\nTáborská rodačka\, mezzosopranistka Karolína Berková vystoupí spolu s harfenistkou Kateřinou Englichovou. Spojení s Vilémem Veverkou slibuje skvělý hudební zážitek. \n\nTento tip na kulturní akci v Tábor najdete v přehledu na KulturníRádce.cz spolu s dalšími koncerty\, festivaly a divadelními představeními.
URL:https://kulturniradce.cz/event/vilem-veverka-katerina-englichova-karolina-berkova/
LOCATION:Kostel Sv. Filipa a Jakuba\, Tábor\, Kostel Sv. Filipa a Jakuba\, Tábor\, Česká republika
CATEGORIES:Koncert
ATTACH;FMTTYPE=image/jpeg:https://kulturniradce.cz/wp-content/uploads/2025/11/320-b6cbd375bda342499e17329c21444613.jpg
END:VEVENT
END:VCALENDAR