BEGIN:VCALENDAR
VERSION:2.0
PRODID:-//www.kulturniradce.cz - ECPv6.15.20//NONSGML v1.0//EN
CALSCALE:GREGORIAN
METHOD:PUBLISH
X-ORIGINAL-URL:https://kulturniradce.cz
X-WR-CALDESC:Akce na www.kulturniradce.cz
REFRESH-INTERVAL;VALUE=DURATION:PT1H
X-Robots-Tag:noindex
X-PUBLISHED-TTL:PT1H
BEGIN:VTIMEZONE
TZID:Europe/Prague
BEGIN:DAYLIGHT
TZOFFSETFROM:+0100
TZOFFSETTO:+0200
TZNAME:CEST
DTSTART:20240331T010000
END:DAYLIGHT
BEGIN:STANDARD
TZOFFSETFROM:+0200
TZOFFSETTO:+0100
TZNAME:CET
DTSTART:20241027T010000
END:STANDARD
BEGIN:DAYLIGHT
TZOFFSETFROM:+0100
TZOFFSETTO:+0200
TZNAME:CEST
DTSTART:20250330T010000
END:DAYLIGHT
BEGIN:STANDARD
TZOFFSETFROM:+0200
TZOFFSETTO:+0100
TZNAME:CET
DTSTART:20251026T010000
END:STANDARD
BEGIN:DAYLIGHT
TZOFFSETFROM:+0100
TZOFFSETTO:+0200
TZNAME:CEST
DTSTART:20260329T010000
END:DAYLIGHT
BEGIN:STANDARD
TZOFFSETFROM:+0200
TZOFFSETTO:+0100
TZNAME:CET
DTSTART:20261025T010000
END:STANDARD
END:VTIMEZONE
BEGIN:VEVENT
DTSTART;TZID=Europe/Prague:20251129T190000
DTEND;TZID=Europe/Prague:20251129T220000
DTSTAMP:20260419T230550
CREATED:20250922T115808Z
LAST-MODIFIED:20250922T115810Z
UID:1714-1764442800-1764453600@kulturniradce.cz
SUMMARY:Adventní koncert - Pavel Šporcl & Gipsy Fire
DESCRIPTION:Adventní koncert – Pavel Šporcl & Gipsy Fire se uskuteční dne 2025-11-29 v 19:00 v Olomouc\, Reduta. \n🎟️ Koupit vstupenku \n\nNejúspěšnější a nejžádanější projekt Pavla Šporcla s jeho vlastní cikánskou cimbálovou kapelou Gipsy Way Ensemble \nProgram Gipsy Fire navazuje na stejnojmennou desku (Platinová deska Supraphonu)\, kterou v roce 2014 vydalo hudební vydavatelství Supraphon. Je pokračováním velmi zdařilého alba Gipsy Way\, prvního programu Pavla Šporcla s cikánskou tématikou. Spojuje velké mistrovství s temperamentem a cikánskou vroucí krví. Na rozdíl od prvotiny Gipsy Way nový projekt výrazněji sází na nevšední technickou vybavenost a osobitost primáše Pavla Šporcla. Ten se v programu představuje také jako aranžér a autor hudby\, mj. i titulní skladby Gipsy Fire. \nS cikánskou cimbálovou kapelou odehrál více než 400 koncertů v nejrůznějších zemích světa včetně Číny\, provedl úspěšná turné\, v rámci nichž třikrát zcela vyprodal legendární pražskou Lucernu (2009 – Gipsy Way\, 2011 – Gipsy Way Orchestral\, 2014 – Gipsy Fire). Z koncertu Gipsy Fire\, konaného v Lucerně\, byl Českou televizí pořízen a odvysílán záznam květnu 2015. https://youtu.be/wM40THAp104?si=hHaXHKFRaqZYNv1C \nV programu spolu s Pavlem Šporclem účinkují Gipsy Way Ensemble (cimbál\, viola\, kontrabas)\, případně Vojtech Szabó – akordeon j. h. \n\nTento tip na kulturní akci v Olomouc najdete v přehledu na KulturníRádce.cz spolu s dalšími koncerty\, festivaly a divadelními představeními.
URL:https://kulturniradce.cz/event/adventni-koncert-pavel-sporcl-gipsy-fire/
LOCATION:Reduta\, Olomouc\, Reduta\, Olomouc\, Česká republika
CATEGORIES:Koncert
ATTACH;FMTTYPE=image/jpeg:https://kulturniradce.cz/wp-content/uploads/2025/09/320-936924f6464d4eff81b1663d5a37bd4c.jpg
END:VEVENT
BEGIN:VEVENT
DTSTART;TZID=Europe/Prague:20251129T190000
DTEND;TZID=Europe/Prague:20251129T220000
DTSTAMP:20260419T230550
CREATED:20250923T175810Z
LAST-MODIFIED:20250923T175811Z
UID:1854-1764442800-1764453600@kulturniradce.cz
SUMMARY:Koncert filmové hudby | Mariánské Lázně
DESCRIPTION:Koncert filmové hudby | Mariánské Lázně se uskuteční dne 2025-11-29 v 19:00 v Mariánské Lázně\, Ensana Společenský dům CASINO. \n🎟️ Koupit vstupenku \n\nSmyčce Pražského filmového orchestru pod taktovkou dirigenta Jiřího Korynty přináší velkolepý koncert\, který představí v Mariánských Lázních! \nDiváci se mohou těšit na skladby z filmů Star Wars\, Pán Prstenů\, Games of Thrones\, Harry Potter\, Piráti z Karibiku a další známé melodie stříbrného plátna. \nKoncert bude bohatý na fantastickou filmovou hudbu od světově známých hudebních skladatelů\, jakými jsou např. John Williams\, Hans Zimmer\, Howard Shore nebo James Horner.  \nAkce je přístupná od 12 let. Každý účastník musí předložit platnou vstupenku  zakoupenou výhradně v síti SMS ticket. \n\nTento tip na kulturní akci v Mariánské Lázně najdete v přehledu na KulturníRádce.cz spolu s dalšími koncerty\, festivaly a divadelními představeními.
URL:https://kulturniradce.cz/event/koncert-filmove-hudby-marianske-lazne/
LOCATION:Ensana Společenský dům CASINO\, Mariánské Lázně\, Ensana Společenský dům CASINO\, Mariánské Lázně\, Česká republika
CATEGORIES:Koncert
ATTACH;FMTTYPE=image/jpeg:https://kulturniradce.cz/wp-content/uploads/2025/09/320-584afb631f3c43e28fe8bcc80c13ee47.jpg
END:VEVENT
END:VCALENDAR