BEGIN:VCALENDAR
VERSION:2.0
PRODID:-//www.kulturniradce.cz - ECPv6.15.20//NONSGML v1.0//EN
CALSCALE:GREGORIAN
METHOD:PUBLISH
X-ORIGINAL-URL:https://kulturniradce.cz
X-WR-CALDESC:Akce na www.kulturniradce.cz
REFRESH-INTERVAL;VALUE=DURATION:PT1H
X-Robots-Tag:noindex
X-PUBLISHED-TTL:PT1H
BEGIN:VTIMEZONE
TZID:Europe/Prague
BEGIN:DAYLIGHT
TZOFFSETFROM:+0100
TZOFFSETTO:+0200
TZNAME:CEST
DTSTART:20240331T010000
END:DAYLIGHT
BEGIN:STANDARD
TZOFFSETFROM:+0200
TZOFFSETTO:+0100
TZNAME:CET
DTSTART:20241027T010000
END:STANDARD
BEGIN:DAYLIGHT
TZOFFSETFROM:+0100
TZOFFSETTO:+0200
TZNAME:CEST
DTSTART:20250330T010000
END:DAYLIGHT
BEGIN:STANDARD
TZOFFSETFROM:+0200
TZOFFSETTO:+0100
TZNAME:CET
DTSTART:20251026T010000
END:STANDARD
BEGIN:DAYLIGHT
TZOFFSETFROM:+0100
TZOFFSETTO:+0200
TZNAME:CEST
DTSTART:20260329T010000
END:DAYLIGHT
BEGIN:STANDARD
TZOFFSETFROM:+0200
TZOFFSETTO:+0100
TZNAME:CET
DTSTART:20261025T010000
END:STANDARD
END:VTIMEZONE
BEGIN:VEVENT
DTSTART;TZID=Europe/Prague:20251130T183000
DTEND;TZID=Europe/Prague:20251130T213000
DTSTAMP:20260420T021126
CREATED:20250921T083134Z
LAST-MODIFIED:20250921T083135Z
UID:1132-1764527400-1764538200@kulturniradce.cz
SUMMARY:Adventní a muzikálové melodie
DESCRIPTION:Adventní a muzikálové melodie se uskuteční dne 2025-11-30 v 18:30 v České Budějovice\, DK Metropol . \n🎟️ Koupit vstupenku \n\nMalá scéna KD Metropol České Budějovice \nAdventní a muzikálové melodie \n  \nMUSICA FESTIVA  \nBronislava Tomanová – soprán\, Petr Štěpán – kytara \nŠárka Trávníčková – housle\, Gabriela Plachá – hoboj \n  \nPROGRAM: \nFANTOM OPERY – A. L. WEBER: Think of me \nFORREST GUMP – A. SILVESTRI: main theme \nBÍDNÍCI – M. SCHOENBERG: Knížka snů \nSÁM DOMA – J. WILLIAMS: Somewhere in my memory \nHALLELUJA ! – L. COHEN \nMISE – E. MORRICONE: Gabriel´s oboe \nLEGENDA O VÁŠNI – J. HORNER \nJ. F. WADE – Adeste Fideles \nG. P. TELEMANN – Allegro pro housle\, hoboj a kytaru \nfrancouzská koleda: „Les Angesdans nos campagnes“ (Gloria) \nG. BRAGA – Andělská serenáda \nFranz Xaver GRUBER: Tichá noc\, svatá noc \nR. BINGE (Anglie): Alžbětínská serenáda \nAdam Michna z Otradovic: „Vánoční noc“ (Chtíc\, aby spal) \nkrkonošská koleda „Pochválen buď Ježíš Kristus\, milej Matěji“ \nAnonym: „What Child is This?“ (Greensleeves) \nU betléma dnes Marie přečistá \nBratři\, já jsem slyšel z nebe hlas (z Benecka) \nHej\, hej\, povím Vám\, Co to ten slavíček \n(změna programu a účinkujících vyhrazena) \n\nTento tip na kulturní akci v České Budějovice najdete v přehledu na KulturníRádce.cz spolu s dalšími koncerty\, festivaly a divadelními představeními.
URL:https://kulturniradce.cz/event/adventni-a-muzikalove-melodie/
LOCATION:DK Metropol \, České Budějovice\, DK Metropol \, České Budějovice\, Česká republika
CATEGORIES:Koncert
ATTACH;FMTTYPE=image/jpeg:https://kulturniradce.cz/wp-content/uploads/2025/09/320-2753518e7137430ca16f376b0437c661.jpg
END:VEVENT
BEGIN:VEVENT
DTSTART;TZID=Europe/Prague:20251130T190000
DTEND;TZID=Europe/Prague:20251130T220000
DTSTAMP:20260420T021126
CREATED:20251001T144823Z
LAST-MODIFIED:20251001T144823Z
UID:3432-1764529200-1764540000@kulturniradce.cz
SUMMARY:Kouzelná hudba Adventu ve Staré Praze
DESCRIPTION:Kouzelná hudba Adventu ve Staré Praze se uskuteční dne 2025-11-30 v 19:00 v Praha\, Klementinum. \n🎟️ Koupit vstupenku \n\nKONCERT S PŘÍPITKEM / CONCERT WITH A WELCOME DRINK \nKouzelná hudba adventu v Zrcadlové kapli Klementina. \nAdventní koncert klasické hudby přináší jedinečnou příležitost zpomalit v uspěchané předvánoční době a nechat se unést tóny mistrů\, jejichž díla naplňují srdce pokojem\, nadějí a radostí. \nRepertoár koncertu zahrnuje díla barokních a romantických skladatelů\, jejichž melodie dokonale odráží krásu a hloubku adventního období. Zazní skladby Johanna Sebastiana Bacha\, Antonia Vivaldiho či Wolfganga Amadea Mozarta\, které v sobě nesou duchovní poselství a hormonii\, jež je typická pro tento čas čekávání.  \nKlementinum – Zrcadlová kaple\, \n\nbarokní varhany (baroque organ)\, soprán\, tenor / baryton\, housle (violin)\, flétna (flute)\nProgram: J. Pachelbel\, A. Michna z Otradovic\, G.F. Haendel\, A. Dvořák\, H.I. Biber\, A. Vivaldi\,  P. Mascagni\, F. Schubert (změna programu vyhrazena)\n\n\nTento tip na kulturní akci v Praha najdete v přehledu na KulturníRádce.cz spolu s dalšími koncerty\, festivaly a divadelními představeními.
URL:https://kulturniradce.cz/event/kouzelna-hudba-adventu-ve-stare-praze-2/
LOCATION:Klementinum\, Praha\, Klementinum\, Praha\, Česká republika
CATEGORIES:Koncert
ATTACH;FMTTYPE=image/jpeg:https://kulturniradce.cz/wp-content/uploads/2025/10/320-370ccfa3cb7f4d5b8ad239871f0599f7.jpg
END:VEVENT
END:VCALENDAR