BEGIN:VCALENDAR
VERSION:2.0
PRODID:-//www.kulturniradce.cz - ECPv6.15.20//NONSGML v1.0//EN
CALSCALE:GREGORIAN
METHOD:PUBLISH
X-WR-CALNAME:www.kulturniradce.cz
X-ORIGINAL-URL:https://kulturniradce.cz
X-WR-CALDESC:Akce na www.kulturniradce.cz
REFRESH-INTERVAL;VALUE=DURATION:PT1H
X-Robots-Tag:noindex
X-PUBLISHED-TTL:PT1H
BEGIN:VTIMEZONE
TZID:Europe/Prague
BEGIN:DAYLIGHT
TZOFFSETFROM:+0100
TZOFFSETTO:+0200
TZNAME:CEST
DTSTART:20240331T010000
END:DAYLIGHT
BEGIN:STANDARD
TZOFFSETFROM:+0200
TZOFFSETTO:+0100
TZNAME:CET
DTSTART:20241027T010000
END:STANDARD
BEGIN:DAYLIGHT
TZOFFSETFROM:+0100
TZOFFSETTO:+0200
TZNAME:CEST
DTSTART:20250330T010000
END:DAYLIGHT
BEGIN:STANDARD
TZOFFSETFROM:+0200
TZOFFSETTO:+0100
TZNAME:CET
DTSTART:20251026T010000
END:STANDARD
BEGIN:DAYLIGHT
TZOFFSETFROM:+0100
TZOFFSETTO:+0200
TZNAME:CEST
DTSTART:20260329T010000
END:DAYLIGHT
BEGIN:STANDARD
TZOFFSETFROM:+0200
TZOFFSETTO:+0100
TZNAME:CET
DTSTART:20261025T010000
END:STANDARD
END:VTIMEZONE
BEGIN:VEVENT
DTSTART;TZID=Europe/Prague:20251201T150000
DTEND;TZID=Europe/Prague:20251201T180000
DTSTAMP:20260419T214015
CREATED:20251001T144823Z
LAST-MODIFIED:20251001T144824Z
UID:3435-1764601200-1764612000@kulturniradce.cz
SUMMARY:Česká mše vánoční - Jakub Jan Ryba
DESCRIPTION:Česká mše vánoční – Jakub Jan Ryba se uskuteční dne 2025-12-01 v 15:00 v Praha\, Klementinum. \n🎟️ Koupit vstupenku \n\nKONCERT S PŘÍPITKEM / CONCERT WITH A WELCOME DRINK \nČeská mše vánoční v Zrcadlové kapli Klementina.  \nČeská mše vánoční\, také uváděná jako mše Hej mistře\, nebo lidově Rybovka\, (lat. Missa solemnis Festis Nativitatis D. J. Ch. acomodata in linguam bohemicam musicam – que redacta per Jac. Joa. Ryba\, či zkráceně jako Missa pastoralis bohemica) je česky psaná církevní skladba Jakuba Jana Ryby\, který je též autor jejího textu. Přestože je stavěná stejně jako latinská hudební mše (části Kyrie\, Gloria atd.)\, jedná se o pastorální hru aplikovanou na liturgii tradiční mše; příběh vypráví o zvěstování Kristova narození a příchodu pastýřů k jesličkám. Česká mše vánoční má ryze pastorální ráz\, je zasazená do českého prostředí\, pro svou prostotu i radostnou a svěží atmosféru byla a stále je srozumitelná a přístupná širokému obecenstvu. Na varhany zde několikrát zahrál i W. A. Mozart. \n  \n\nBarokní varhany (baroque organ)\, orchestr da camera Benedictus\, sbor Adalbert (12)\, solisté (sopran\, tenor\, alt\, bas)\nProgram: A. Corelli Vánoční koncert (10 min)\, J. J. Ryba Rozmilý slavíčku\, Česká mše vánoční (45 min)\n\n  \nKaple Zvěstování Panny Marie\, známější jako Zrcadlová kaple\, se nalézá v areálu Klementina v Praze na Starém Městě. Její interiér je pozoruhodnou ukázkou vrcholného baroka. Název Zrcadlová kaple získala díky velkému počtu zrcadel použitých při výzdobě stěn i klenby. Kaple dnes slouží především jako koncertní síň a je svým interiérem jedinečným barokním skvostem. Fresky\, umělé mramory\, zlacené štuky a vzácná zrcadla\, které kapli dala jméno\, ji řadí mezi naprosté unikáty. \n\nTento tip na kulturní akci v Praha najdete v přehledu na KulturníRádce.cz spolu s dalšími koncerty\, festivaly a divadelními představeními.
URL:https://kulturniradce.cz/event/ceska-mse-vanocni-jakub-jan-ryba/
LOCATION:Klementinum\, Praha\, Klementinum\, Praha\, Česká republika
CATEGORIES:Koncert
ATTACH;FMTTYPE=image/jpeg:https://kulturniradce.cz/wp-content/uploads/2025/10/320-5ae326e3cc4c437296a39c12decd9238.jpg
END:VEVENT
BEGIN:VEVENT
DTSTART;TZID=Europe/Prague:20251201T180000
DTEND;TZID=Europe/Prague:20251201T210000
DTSTAMP:20260419T214015
CREATED:20251001T190413Z
LAST-MODIFIED:20251001T190413Z
UID:3744-1764612000-1764622800@kulturniradce.cz
SUMMARY:Lenka Filipová
DESCRIPTION:Lenka Filipová se uskuteční dne 2025-12-01 v 18:00 v Čejkovice\, Kulturní dům Zemědělské a.s. Čejkovice. \n🎟️ Koupit vstupenku \n\nLenka Filipová je výjimečná česká zpěvačka\, šansoniérka\, kytaristka\, skladatelka a textařka . Pochází z umělecké rodiny – otec Adolf Filip byl operní pěvec a herec\, matka vyučovala hudební výchovu a hrála na kytaru.  \nU kytary začala už jako dítě a vystudovala ji na pražské konzervatoři (u Štěpána Urbana a Milana Zelenky) i na pařížské Mezinárodní hudební akademii klasické hudby. Je schopná zpívat a komponovat ve více jazycích – mluví česky\, francouzsky\, anglicky a rusky.  \nVe svých šestnácti letech absolvovala první zahraniční turné – s BROLN do USA a Kanady – a během studií už působila jako moderátorka a hostovala v divadle Semafor či v pořadech Karla Gotta. \nJejí průlomový singl „Zamilovaná“ z roku 1981 vznikl díky spolupráci s francouzským písničkářem Francisem Cabrelem\, český text napsal Zdeněk Rytíř. Debutové album mělo velký úspěch a získalo Zlatou desku. \nV osmdesátých letech vydala několik alb s hity jako „Věnování“\, „Za všechno může čas“ nebo „Řeka života“. Získala ocenění na mezinárodních festivalových soutěžích – Grand Prix na Antilách\, stříbrnou Bratislavskou lyru i ocenění v polských Sopotech. \nLenka Filipová je symbolem citlivé písničkářky s mistrovským citem pro kytaru\, intimní interpretace i nadčasová poetika. \n  \n\nTento tip na kulturní akci v Čejkovice najdete v přehledu na KulturníRádce.cz spolu s dalšími koncerty\, festivaly a divadelními představeními.
URL:https://kulturniradce.cz/event/lenka-filipova/
LOCATION:Kulturní dům Zemědělské a.s. Čejkovice\, Čejkovice\, Kulturní dům Zemědělské a.s. Čejkovice\, Čejkovice\, Česká republika
CATEGORIES:Koncert
ATTACH;FMTTYPE=image/jpeg:https://kulturniradce.cz/wp-content/uploads/2025/10/320-370b00c2cc2f44c584de6412c4701d9e.jpg
END:VEVENT
BEGIN:VEVENT
DTSTART;TZID=Europe/Prague:20251201T190000
DTEND;TZID=Europe/Prague:20251201T220000
DTSTAMP:20260419T214015
CREATED:20250926T185023Z
LAST-MODIFIED:20250926T185023Z
UID:2795-1764615600-1764626400@kulturniradce.cz
SUMMARY:Ludovico Einaudi Music | České Budějovice
DESCRIPTION:Ludovico Einaudi Music | České Budějovice se uskuteční dne 2025-12-01 v 19:00 v České Budějovice\, KD Vltava. \n🎟️ Koupit vstupenku \n\nNenechte si ujít nezapomenutelný večer krásné hudby\, kde zazní melodie jednoho z nejlepších pianistů a skladatelů na světe\, Ludovica Einaudiho v podání předního českého klavíristy Františka Panáčka. \nEinaudi je známý svými jednoduchými\, ale strašidelně krásnými minimalistickými díly pro klavír a ohromující filmovou hudbou. Za téměř třicet let své činnosti vydal řadu alb\, která se dostala na přední příčky poslechovosti\, vyprodává nejprestižnější koncertní sály po celém světě a jeho hudba zazněla v mnoha slavných filmech (Nedotknutelní\, Doktor Živago\, To je Anglie\, Nomadland a další). \nTento jedinečný koncert nabídne více než jen hudbu. Symfonie třpytivých svíček rozsvítí celý prostor a přidá na mystičnu a kouzlu večera. Každá svíčka přispěje k vytvoření kouzelného prostředí\, které dokonale doplní hudební zážitek. \nV rámci Evropské tour alternují také: Alexandr Starý a Lucie Kubátová.  \nAkce je přístupná od 12 let. Každý účastník musí předložit platnou vstupenku  zakoupenou výhradně v síti SMS ticket. \n\nTento tip na kulturní akci v České Budějovice najdete v přehledu na KulturníRádce.cz spolu s dalšími koncerty\, festivaly a divadelními představeními.
URL:https://kulturniradce.cz/event/ludovico-einaudi-music-ceske-budejovice/
LOCATION:KD Vltava\, České Budějovice\, KD Vltava\, České Budějovice\, Česká republika
CATEGORIES:Koncert
ATTACH;FMTTYPE=image/jpeg:https://kulturniradce.cz/wp-content/uploads/2025/09/320-47996d77b15f4a079a1cc8069d4a8584.jpg
END:VEVENT
END:VCALENDAR