BEGIN:VCALENDAR
VERSION:2.0
PRODID:-//www.kulturniradce.cz - ECPv6.15.20//NONSGML v1.0//EN
CALSCALE:GREGORIAN
METHOD:PUBLISH
X-WR-CALNAME:www.kulturniradce.cz
X-ORIGINAL-URL:https://kulturniradce.cz
X-WR-CALDESC:Akce na www.kulturniradce.cz
REFRESH-INTERVAL;VALUE=DURATION:PT1H
X-Robots-Tag:noindex
X-PUBLISHED-TTL:PT1H
BEGIN:VTIMEZONE
TZID:Europe/Prague
BEGIN:DAYLIGHT
TZOFFSETFROM:+0100
TZOFFSETTO:+0200
TZNAME:CEST
DTSTART:20240331T010000
END:DAYLIGHT
BEGIN:STANDARD
TZOFFSETFROM:+0200
TZOFFSETTO:+0100
TZNAME:CET
DTSTART:20241027T010000
END:STANDARD
BEGIN:DAYLIGHT
TZOFFSETFROM:+0100
TZOFFSETTO:+0200
TZNAME:CEST
DTSTART:20250330T010000
END:DAYLIGHT
BEGIN:STANDARD
TZOFFSETFROM:+0200
TZOFFSETTO:+0100
TZNAME:CET
DTSTART:20251026T010000
END:STANDARD
BEGIN:DAYLIGHT
TZOFFSETFROM:+0100
TZOFFSETTO:+0200
TZNAME:CEST
DTSTART:20260329T010000
END:DAYLIGHT
BEGIN:STANDARD
TZOFFSETFROM:+0200
TZOFFSETTO:+0100
TZNAME:CET
DTSTART:20261025T010000
END:STANDARD
END:VTIMEZONE
BEGIN:VEVENT
DTSTART;TZID=Europe/Prague:20251203T183000
DTEND;TZID=Europe/Prague:20251203T213000
DTSTAMP:20260419T214012
CREATED:20250928T190153Z
LAST-MODIFIED:20250928T190153Z
UID:3115-1764786600-1764797400@kulturniradce.cz
SUMMARY:Adventní koncert s komorním orchestrem
DESCRIPTION:Adventní koncert s komorním orchestrem se uskuteční dne 2025-12-03 v 18:30 v Praha\, Novogotická modlitebna církve československé. \n🎟️ Koupit vstupenku \n\n  \nPřijďte se naladit nejkrásnějšími adventně vánočními skladbami\, ale i koledami a vánočními písněmi do krásného prostoru vytápěné Evangelické kaple na Korunní ulici 60 v Praze na Vinohradech (spíše divadelní sál) – v podání komorního orchestru Consortium Pragense Orchestra. \nCONSORTIUM PRAGENSE ORCHESTRA8-členný komorní orchestr se sólisty:Štěpánka Heřmánková – soprán\, Miroslav Laštovka – trubka \n  \nPROGRAM: \nA. VIVALDI ZIMA (ze Čtvera ročních období):ČESKÉ BAROKNÍ KOLEDY \nA. CORELLI:  \nPASTORALE z Christmas Concerto \nAMAZING GRACE \nJ. I. LINEK:SINFONIA PASTORALIS \nWE WISH YOU A MERRY CHRISTMAS \nJ. S. BACH:AIR \nN. ROTA:THE GODFATHER \nL. COHEN:HALLELUJA \nJ. PACHALBEL:Canon v D-dur \nW. GOMEZ:AVE MARIA \nR. WILLIAMS:GREENSLEEVES \nS. NELSON:FROSTY the SNOW MAN \nJ. STYNE:LET IT SNOW! \nJ. LIVINGSTON:SILVER BELLS \nI. BERLIN:WHITE CHRISTMAS vánoční píseň         \nBIM BAMADESTE FIDELES \nF. GRUBER:TICHÁ NOC \nDÉLKA cca 65 minut(změna programu a účinkujících vyhrazena). \n\nTento tip na kulturní akci v Praha najdete v přehledu na KulturníRádce.cz spolu s dalšími koncerty\, festivaly a divadelními představeními.
URL:https://kulturniradce.cz/event/adventni-koncert-s-komornim-orchestrem/
LOCATION:Novogotická modlitebna církve československé\, Praha\, Novogotická modlitebna církve československé\, Praha\, Česká republika
CATEGORIES:Koncert
ATTACH;FMTTYPE=image/jpeg:https://kulturniradce.cz/wp-content/uploads/2025/09/320-63412b1bb2314bfbbb6d82619b784f47.jpg
END:VEVENT
BEGIN:VEVENT
DTSTART;TZID=Europe/Prague:20251203T190000
DTEND;TZID=Europe/Prague:20251203T220000
DTSTAMP:20260419T214012
CREATED:20250923T175811Z
LAST-MODIFIED:20250923T175811Z
UID:1857-1764788400-1764799200@kulturniradce.cz
SUMMARY:Koncert filmové hudby | Havlíčkův Brod
DESCRIPTION:Koncert filmové hudby | Havlíčkův Brod se uskuteční dne 2025-12-03 v 19:00 v Havlíčkův Brod\, Kulturní dům Ostrov. \n🎟️ Koupit vstupenku \n\nSmyčce Pražského filmového orchestru pod taktovkou dirigenta Jiřího Korynty přináší velkolepý koncert\, který představí v Havlíčkově Brodě! \nDiváci se mohou těšit na skladby z filmů Star Wars\, Pán Prstenů\, Games of Thrones\, Harry Potter\, Piráti z Karibiku a další známé melodie stříbrného plátna. \nKoncert bude bohatý na fantastickou filmovou hudbu od světově známých hudebních skladatelů\, jakými jsou např. John Williams\, Hans Zimmer\, Howard Shore nebo James Horner.  \n\nTento tip na kulturní akci v Havlíčkův Brod najdete v přehledu na KulturníRádce.cz spolu s dalšími koncerty\, festivaly a divadelními představeními.
URL:https://kulturniradce.cz/event/koncert-filmove-hudby-havlickuv-brod/
LOCATION:Kulturní dům Ostrov\, Havlíčkův Brod\, Kulturní dům Ostrov\, Havlíčkův Brod\, Česká republika
CATEGORIES:Koncert
ATTACH;FMTTYPE=image/jpeg:https://kulturniradce.cz/wp-content/uploads/2025/09/320-97cccb8ed1b9473799cfbe88ab25bdc9.jpg
END:VEVENT
BEGIN:VEVENT
DTSTART;TZID=Europe/Prague:20251203T190000
DTEND;TZID=Europe/Prague:20251203T220000
DTSTAMP:20260419T214012
CREATED:20250924T180741Z
LAST-MODIFIED:20250924T180742Z
UID:2171-1764788400-1764799200@kulturniradce.cz
SUMMARY:Adventní koncert - Pavel Šporcl & Gipsy Fire
DESCRIPTION:Adventní koncert – Pavel Šporcl & Gipsy Fire se uskuteční dne 2025-12-03 v 19:00 v Luhačovice\, Kulturní a kongresové centrum. \n🎟️ Koupit vstupenku \n\nNejúspěšnější a nejžádanější projekt Pavla Šporcla s jeho vlastní cikánskou cimbálovou kapelou Gipsy Way Ensemble \nProgram Gipsy Fire navazuje na stejnojmennou desku (Platinová deska Supraphonu)\, kterou v roce 2014 vydalo hudební vydavatelství Supraphon. Je pokračováním velmi zdařilého alba Gipsy Way\, prvního programu Pavla Šporcla s cikánskou tématikou. Spojuje velké mistrovství s temperamentem a cikánskou vroucí krví. Na rozdíl od prvotiny Gipsy Way nový projekt výrazněji sází na nevšední technickou vybavenost a osobitost primáše Pavla Šporcla. Ten se v programu představuje také jako aranžér a autor hudby\, mj. i titulní skladby Gipsy Fire. \nS cikánskou cimbálovou kapelou odehrál více než 400 koncertů v nejrůznějších zemích světa včetně Číny\, provedl úspěšná turné\, v rámci nichž třikrát zcela vyprodal legendární pražskou Lucernu (2009 – Gipsy Way\, 2011 – Gipsy Way Orchestral\, 2014 – Gipsy Fire). Z koncertu Gipsy Fire\, konaného v Lucerně\, byl Českou televizí pořízen a odvysílán záznam květnu 2015. https://youtu.be/wM40THAp104?si=hHaXHKFRaqZYNv1C \nV programu spolu s Pavlem Šporclem účinkují Gipsy Way Ensemble (cimbál\, viola\, kontrabas)\, případně Vojtech Szabó – akordeon j. h. \n\nTento tip na kulturní akci v Luhačovice najdete v přehledu na KulturníRádce.cz spolu s dalšími koncerty\, festivaly a divadelními představeními.
URL:https://kulturniradce.cz/event/adventni-koncert-pavel-sporcl-gipsy-fire-2/
LOCATION:Kulturní a kongresové centrum\, Luhačovice\, Kulturní a kongresové centrum\, Luhačovice\, Česká republika
CATEGORIES:Koncert
ATTACH;FMTTYPE=image/jpeg:https://kulturniradce.cz/wp-content/uploads/2025/09/320-8c9b7bbc7b564765bf85175951d29662.jpg
END:VEVENT
BEGIN:VEVENT
DTSTART;TZID=Europe/Prague:20251203T190000
DTEND;TZID=Europe/Prague:20251203T220000
DTSTAMP:20260419T214012
CREATED:20250926T183639Z
LAST-MODIFIED:20250926T183640Z
UID:2745-1764788400-1764799200@kulturniradce.cz
SUMMARY:Filmová hudba Hanse Zimmera při svíčkách
DESCRIPTION:Filmová hudba Hanse Zimmera při svíčkách se uskuteční dne 2025-12-03 v 19:00 v Jablonec nad Nisou\, Eurocentrum. \n🎟️ Koupit vstupenku \n\nKoncert filmové hudby Hanse Zimmera při svíčkách! \nNenechte si ujít nezapomenutelný večer plný nejkrásnější filmové hudby\, během kterého zazní melodie jednoho z nejvýznamnějších skladatelů filmové hudby na světě\, Hanse Zimmera\, v podání mezinárodně uznávaného pianisty Alexandra Starého. Záře stovek svíček vytvoří nezapomenutelnou atmosféru koncertu. \nHans Zimmer je známý svou emocionální a dojemnou filmovou hudbou\, která dokonale podtrhuje děj na plátně. Během své téměř čtyřicetileté kariéry vytvořil ikonické soundtracky k mnoha slavným filmům\, jako jsou Gladiátor\, Počátek\, Interstellar\, Piráti z Karibiku\, Lví král a mnoho dalších. Jeho kompozice si získaly srdce milionů fanoušků po celém světě a jeho koncerty vyprodávají nejprestižnější koncertní sály. \nTento výjimečný koncert nabízí mnohem více než jen hudbu. Stovky mihotajících se svíček rozzáří celý prostor a vytvoří tajemnou a magickou atmosféru. Každá z nich přispěje k vytvoření nezapomenutelného hudebního zážitku. \nV rámci Evropské tour alternují také: František Panáček a Lucie Kubátová.  \nAkce je přístupná od 12 let. Každý účastník musí předložit platnou vstupenku  zakoupenou výhradně v síti SMS ticket. \n„Celé představení si můžete naplno vychutnat\, díky korunnímu klenotu mezi koncertními klavíry C. Bechstein D 282.Tímto děkujeme našemu partnerovi C. Bechstein – www.bechstein.com za podporu akce.“ \n\nTento tip na kulturní akci v Jablonec nad Nisou najdete v přehledu na KulturníRádce.cz spolu s dalšími koncerty\, festivaly a divadelními představeními.
URL:https://kulturniradce.cz/event/filmova-hudba-hanse-zimmera-pri-svickach-5/
LOCATION:Eurocentrum\, Jablonec nad Nisou\, Eurocentrum\, Jablonec nad Nisou\, Česká republika
CATEGORIES:Koncert
ATTACH;FMTTYPE=image/jpeg:https://kulturniradce.cz/wp-content/uploads/2025/09/320-e7abd857771e4ed49524e67d31c2f7c2.jpg
END:VEVENT
BEGIN:VEVENT
DTSTART;TZID=Europe/Prague:20251203T190000
DTEND;TZID=Europe/Prague:20251203T220000
DTSTAMP:20260419T214012
CREATED:20250930T181907Z
LAST-MODIFIED:20250930T181908Z
UID:3399-1764788400-1764799200@kulturniradce.cz
SUMMARY:Ludovico Einaudi Music | Chrudim
DESCRIPTION:Ludovico Einaudi Music | Chrudim se uskuteční dne 2025-12-03 v 19:00 v Chrudim\, Muzeum – Fibichův sál. \n🎟️ Koupit vstupenku \n\nNenechte si ujít nezapomenutelný večer krásné hudby\, kde zazní melodie jednoho z nejlepších pianistů a skladatelů na světe\, Ludovica Einaudiho v podání předního českého klavíristy Františka Panáčka. \nEinaudi je známý svými jednoduchými\, ale strašidelně krásnými minimalistickými díly pro klavír a ohromující filmovou hudbou. Za téměř třicet let své činnosti vydal řadu alb\, která se dostala na přední příčky poslechovosti\, vyprodává nejprestižnější koncertní sály po celém světě a jeho hudba zazněla v mnoha slavných filmech (Nedotknutelní\, Doktor Živago\, To je Anglie\, Nomadland a další). \nTento jedinečný koncert nabídne více než jen hudbu. Symfonie třpytivých svíček rozsvítí celý prostor a přidá na mystičnu a kouzlu večera. Každá svíčka přispěje k vytvoření kouzelného prostředí\, které dokonale doplní hudební zážitek. \nV rámci Evropské tour alternují také: Alexandr Starý a Lucie Kubátová.  \nAkce je přístupná od 12 let. Každý účastník musí předložit platnou vstupenku  zakoupenou výhradně v síti SMS ticket. \n\nTento tip na kulturní akci v Chrudim najdete v přehledu na KulturníRádce.cz spolu s dalšími koncerty\, festivaly a divadelními představeními.
URL:https://kulturniradce.cz/event/ludovico-einaudi-music-chrudim/
LOCATION:Muzeum – Fibichův sál\, Chrudim\, Muzeum - Fibichův sál\, Chrudim\, Česká republika
CATEGORIES:Koncert
ATTACH;FMTTYPE=image/jpeg:https://kulturniradce.cz/wp-content/uploads/2025/09/320-ef6042e970164b759632e024410177b5.jpg
END:VEVENT
BEGIN:VEVENT
DTSTART;TZID=Europe/Prague:20251203T190000
DTEND;TZID=Europe/Prague:20251203T220000
DTSTAMP:20260419T214012
CREATED:20251006T160942Z
LAST-MODIFIED:20251006T160943Z
UID:4844-1764788400-1764799200@kulturniradce.cz
SUMMARY:Petr Tomeček / Vánoční Panova flétna
DESCRIPTION:Petr Tomeček / Vánoční Panova flétna se uskuteční dne 2025-12-03 v 19:00 v Plzeň\, Stará synagoga. \n🎟️ Koupit vstupenku \n\nZveme vás na nezapomenutelný hudební zážitek\, který propojí kouzlo adventního času\, ojedinělého hudebního nástroje a jedinečné atmosféry historického místa. \nPetr Tomeček\, přední český interpret hry na Panovu flétnu\, Vás provede večerem naplněným něhou\, vnitřním klidem a zvukovou krásou\, kterou tento starobylý nástroj nabízí. \nKoncert se uskuteční v prostorách Staré synagogy v Plzni\, místa s hlubokou historií a neopakovatelným geniem loci. Právě zde se snoubí s duchem místa a vytvoří tak atmosféru\, která Vás doslova pohltí. \nPřijďte se zastavit v adventním čase a dopřejte si večer plný klidu\, krásy a hudební hloubky. \n  \n\nTento tip na kulturní akci v Plzeň najdete v přehledu na KulturníRádce.cz spolu s dalšími koncerty\, festivaly a divadelními představeními.
URL:https://kulturniradce.cz/event/petr-tomecek-vanocni-panova-fletna/
LOCATION:Stará synagoga\, Plzeň\, Stará synagoga\, Plzeň\, Česká republika
CATEGORIES:Koncert
ATTACH;FMTTYPE=image/jpeg:https://kulturniradce.cz/wp-content/uploads/2025/10/320-cf5afeaa0ea84f2a99576fa1af54d8e6.jpg
END:VEVENT
END:VCALENDAR