BEGIN:VCALENDAR
VERSION:2.0
PRODID:-//www.kulturniradce.cz - ECPv6.15.20//NONSGML v1.0//EN
CALSCALE:GREGORIAN
METHOD:PUBLISH
X-ORIGINAL-URL:https://kulturniradce.cz
X-WR-CALDESC:Akce na www.kulturniradce.cz
REFRESH-INTERVAL;VALUE=DURATION:PT1H
X-Robots-Tag:noindex
X-PUBLISHED-TTL:PT1H
BEGIN:VTIMEZONE
TZID:Europe/Prague
BEGIN:DAYLIGHT
TZOFFSETFROM:+0100
TZOFFSETTO:+0200
TZNAME:CEST
DTSTART:20240331T010000
END:DAYLIGHT
BEGIN:STANDARD
TZOFFSETFROM:+0200
TZOFFSETTO:+0100
TZNAME:CET
DTSTART:20241027T010000
END:STANDARD
BEGIN:DAYLIGHT
TZOFFSETFROM:+0100
TZOFFSETTO:+0200
TZNAME:CEST
DTSTART:20250330T010000
END:DAYLIGHT
BEGIN:STANDARD
TZOFFSETFROM:+0200
TZOFFSETTO:+0100
TZNAME:CET
DTSTART:20251026T010000
END:STANDARD
BEGIN:DAYLIGHT
TZOFFSETFROM:+0100
TZOFFSETTO:+0200
TZNAME:CEST
DTSTART:20260329T010000
END:DAYLIGHT
BEGIN:STANDARD
TZOFFSETFROM:+0200
TZOFFSETTO:+0100
TZNAME:CET
DTSTART:20261025T010000
END:STANDARD
END:VTIMEZONE
BEGIN:VEVENT
DTSTART;TZID=Europe/Prague:20251205T170000
DTEND;TZID=Europe/Prague:20251205T200000
DTSTAMP:20260419T214132
CREATED:20251129T060003Z
LAST-MODIFIED:20251129T060003Z
UID:6607-1764954000-1764964800@kulturniradce.cz
SUMMARY:Ludovico Einaudi Music | Praha
DESCRIPTION:Ludovico Einaudi Music | Praha se uskuteční dne 2025-12-05 v 17:00 v Praha\, Kostel sv. Šimona a Judy. \n🎟️ Koupit vstupenku \n\nNenechte si ujít nezapomenutelný večer krásné hudby\, kde zazní melodie jednoho z nejlepších pianistů a skladatelů na světe\, Ludovica Einaudiho v podání předního českého klavíristy Alexandra Starého. \nEinaudi je známý svými jednoduchými\, ale strašidelně krásnými minimalistickými díly pro klavír a ohromující filmovou hudbou. Za téměř třicet let své činnosti vydal řadu alb\, která se dostala na přední příčky poslechovosti\, vyprodává nejprestižnější koncertní sály po celém světě a jeho hudba zazněla v mnoha slavných filmech (Nedotknutelní\, Doktor Živago\, To je Anglie\, Nomadland a další). \nTento jedinečný koncert nabídne více než jen hudbu. Symfonie třpytivých svíček rozsvítí celý prostor a přidá na mystičnu a kouzlu večera. Každá svíčka přispěje k vytvoření kouzelného prostředí\, které dokonale doplní hudební zážitek. \nV rámci Evropské tour alternují také: Alexandr Starý a Lucie Kubátová.  \nAkce je přístupná od 12 let. Každý účastník musí předložit platnou vstupenku  zakoupenou výhradně v síti smsticket. \n\nTento tip na kulturní akci v Praha najdete v přehledu na KulturníRádce.cz spolu s dalšími koncerty\, festivaly a divadelními představeními.
URL:https://kulturniradce.cz/event/ludovico-einaudi-music-praha-2/
LOCATION:Kostel sv. Šimona a Judy\, Praha\, Kostel sv. Šimona a Judy\, Praha\, Česká republika
CATEGORIES:Koncert
ATTACH;FMTTYPE=image/jpeg:https://kulturniradce.cz/wp-content/uploads/2025/11/320-33787e7889d84ed6ba5cb55dd2c4f237.jpg
END:VEVENT
BEGIN:VEVENT
DTSTART;TZID=Europe/Prague:20251205T190000
DTEND;TZID=Europe/Prague:20251205T220000
DTSTAMP:20260419T214132
CREATED:20250926T185022Z
LAST-MODIFIED:20250926T185023Z
UID:2792-1764961200-1764972000@kulturniradce.cz
SUMMARY:Ludovico Einaudi Music | Praha
DESCRIPTION:Ludovico Einaudi Music | Praha se uskuteční dne 2025-12-05 v 19:00 v Praha\, Kostel sv. Šimona a Judy. \n🎟️ Koupit vstupenku \n\nNenechte si ujít nezapomenutelný večer krásné hudby\, kde zazní melodie jednoho z nejlepších pianistů a skladatelů na světe\, Ludovica Einaudiho v podání předního českého klavíristy Františka Panáčka. \nEinaudi je známý svými jednoduchými\, ale strašidelně krásnými minimalistickými díly pro klavír a ohromující filmovou hudbou. Za téměř třicet let své činnosti vydal řadu alb\, která se dostala na přední příčky poslechovosti\, vyprodává nejprestižnější koncertní sály po celém světě a jeho hudba zazněla v mnoha slavných filmech (Nedotknutelní\, Doktor Živago\, To je Anglie\, Nomadland a další). \nTento jedinečný koncert nabídne více než jen hudbu. Symfonie třpytivých svíček rozsvítí celý prostor a přidá na mystičnu a kouzlu večera. Každá svíčka přispěje k vytvoření kouzelného prostředí\, které dokonale doplní hudební zážitek. \nV rámci Evropské tour alternují také: Alexandr Starý a Lucie Kubátová.  \nAkce je přístupná od 12 let. Každý účastník musí předložit platnou vstupenku  zakoupenou výhradně v síti SMS ticket. \n\nTento tip na kulturní akci v Praha najdete v přehledu na KulturníRádce.cz spolu s dalšími koncerty\, festivaly a divadelními představeními.
URL:https://kulturniradce.cz/event/ludovico-einaudi-music-praha/
LOCATION:Kostel sv. Šimona a Judy\, Praha\, Kostel sv. Šimona a Judy\, Praha\, Česká republika
CATEGORIES:Koncert
ATTACH;FMTTYPE=image/jpeg:https://kulturniradce.cz/wp-content/uploads/2025/09/320-82ecabc5a2c44ca7863ed495bbfa31af.jpg
END:VEVENT
BEGIN:VEVENT
DTSTART;TZID=Europe/Prague:20251205T210000
DTEND;TZID=Europe/Prague:20251206T000000
DTSTAMP:20260419T214132
CREATED:20250929T105427Z
LAST-MODIFIED:20250929T105428Z
UID:3177-1764968400-1764979200@kulturniradce.cz
SUMMARY:Yann Tiersen Music | Praha
DESCRIPTION:Yann Tiersen Music | Praha se uskuteční dne 2025-12-05 v 21:00 v Praha\, Kostel sv. Šimona a Judy. \n🎟️ Koupit vstupenku \n\nNenechte si ujít nezapomenutelný večer plný emocí a krásné hudby\, kde zazní ikonické melodie světoznámého skladatele Yanna Tiersena v podání předního českého klavíristy Františka Panáčka. \nYann Tiersen si získal srdce posluchačů po celém světě díky svým poetickým a zasněným skladbám\, které proslavily například filmy jako Amélie z Montmartru nebo Good Bye Lenin!. Jeho hudba je plná jemnosti\, melancholie a magické atmosféry\, která vás vtáhne od prvního tónu. \nTento výjimečný koncert však nabídne víc než jen hudbu. Prostor zaplaví stovky třpytivých svíček\, které vytvoří kouzelnou a intimní atmosféru. Každá svíčka podtrhne jedinečný hudební zážitek a umocní večer plný emocí a hlubokého prožitku. \nV rámci Evropské tour alternují také: Alexandr Starý a Lucie Kubátová.  \n\nTento tip na kulturní akci v Praha najdete v přehledu na KulturníRádce.cz spolu s dalšími koncerty\, festivaly a divadelními představeními.
URL:https://kulturniradce.cz/event/yann-tiersen-music-praha/
LOCATION:Kostel sv. Šimona a Judy\, Praha\, Kostel sv. Šimona a Judy\, Praha\, Česká republika
CATEGORIES:Koncert
ATTACH;FMTTYPE=image/jpeg:https://kulturniradce.cz/wp-content/uploads/2025/09/320-10030f9e51fe49b0b4aaeab48571c0f9.jpg
END:VEVENT
END:VCALENDAR