BEGIN:VCALENDAR
VERSION:2.0
PRODID:-//www.kulturniradce.cz - ECPv6.15.20//NONSGML v1.0//EN
CALSCALE:GREGORIAN
METHOD:PUBLISH
X-WR-CALNAME:www.kulturniradce.cz
X-ORIGINAL-URL:https://kulturniradce.cz
X-WR-CALDESC:Akce na www.kulturniradce.cz
REFRESH-INTERVAL;VALUE=DURATION:PT1H
X-Robots-Tag:noindex
X-PUBLISHED-TTL:PT1H
BEGIN:VTIMEZONE
TZID:Europe/Prague
BEGIN:DAYLIGHT
TZOFFSETFROM:+0100
TZOFFSETTO:+0200
TZNAME:CEST
DTSTART:20240331T010000
END:DAYLIGHT
BEGIN:STANDARD
TZOFFSETFROM:+0200
TZOFFSETTO:+0100
TZNAME:CET
DTSTART:20241027T010000
END:STANDARD
BEGIN:DAYLIGHT
TZOFFSETFROM:+0100
TZOFFSETTO:+0200
TZNAME:CEST
DTSTART:20250330T010000
END:DAYLIGHT
BEGIN:STANDARD
TZOFFSETFROM:+0200
TZOFFSETTO:+0100
TZNAME:CET
DTSTART:20251026T010000
END:STANDARD
BEGIN:DAYLIGHT
TZOFFSETFROM:+0100
TZOFFSETTO:+0200
TZNAME:CEST
DTSTART:20260329T010000
END:DAYLIGHT
BEGIN:STANDARD
TZOFFSETFROM:+0200
TZOFFSETTO:+0100
TZNAME:CET
DTSTART:20261025T010000
END:STANDARD
END:VTIMEZONE
BEGIN:VEVENT
DTSTART;TZID=Europe/Prague:20251206T190000
DTEND;TZID=Europe/Prague:20251206T220000
DTSTAMP:20260419T214016
CREATED:20251110T094025Z
LAST-MODIFIED:20251110T094026Z
UID:5898-1765047600-1765058400@kulturniradce.cz
SUMMARY:Vánoční koncert Jakub Smolík s hostem Heidi
DESCRIPTION:Vánoční koncert Jakub Smolík s hostem Heidi se uskuteční dne 2025-12-06 v 19:00 v Moravské Budějovice\, MKS Beseda\, velký sál. \n🎟️ Koupit vstupenku \n\nVánoční koncert věčného romantika s doprovodnou skupinou opět v našem městě. Tradiční zábavně koncertní vystoupení současné\, umělecko-interpretační osobnosti\, jež svými písněmi oslňuje zejména něžnou část publika. J. Smolík v minulém roce oslavil své 65. narozeniny\, a tak se chce se svými fanoušky poohlédnout i trochu proti proudu času a zavzpomínat. Koncert tak nabídne vedle hitů a vánočních melodií tohoto umělce i poohlédnutí na ty\, se kterými spolupracoval a na jevišti působil. Fanoušci budou mít i možnost si zakoupit nejen poslední album „Proto právě vám teď zpívám „ z roku 2020 a zbrusu nové album s názvem „Duety“. \nHost večera – Heidi Janků  \n\nTento tip na kulturní akci v Moravské Budějovice najdete v přehledu na KulturníRádce.cz spolu s dalšími koncerty\, festivaly a divadelními představeními.
URL:https://kulturniradce.cz/event/vanocni-koncert-jakub-smolik-s-hostem-heidi/
LOCATION:MKS Beseda\, velký sál\, Moravské Budějovice\, MKS Beseda\, velký sál\, Moravské Budějovice\, Česká republika
CATEGORIES:Koncert
ATTACH;FMTTYPE=image/jpeg:https://kulturniradce.cz/wp-content/uploads/2025/11/320-b6832255581b47b6945c172826ddf325.jpg
END:VEVENT
BEGIN:VEVENT
DTSTART;TZID=Europe/Prague:20251206T190000
DTEND;TZID=Europe/Prague:20251206T220000
DTSTAMP:20260419T214016
CREATED:20251110T094113Z
LAST-MODIFIED:20251110T094114Z
UID:5922-1765047600-1765058400@kulturniradce.cz
SUMMARY:Vánoční koncert
DESCRIPTION:Vánoční koncert se uskuteční dne 2025-12-06 v 19:00 v Plzeň\, Husův Chrám. \n🎟️ Koupit vstupenku \n\n  \nVánoční koncert při svíčkách – hudba\, která vás naladí na sváteční čas 🎄 \nZapomeňte na předvánoční shon a přijďte se zastavit v záplavě světel tisíců svíček. Krása Quartet vás provede večerem plným kouzelných melodií\, které k Vánocům neodmyslitelně patří. \nUslyšíte něžné Vánoční pastorále Arcangela Corelliho\, pohádkové tóny z Čajkovského Louskáčka\, rozvernou Tratsch polku Johanna Strausse\, slavnostní Adeste fideles či dojemnou O Holy Night. Chybět nebudou ani české koledy\, při kterých si budete chtít tiše prozpěvovat\, a další skladby\, které pohladí duši. \nDélka koncertu: 65 minutÚčinkuje: Krása Quartet (smyčcový kvartet) \nPřijďte se naladit na Vánoce hudbou\, která zahřeje u srdce a připomene nám\, co je na tomto svátečním čase nejkrásnější – klid\, radost a společné chvíle. \n\nTento tip na kulturní akci v Plzeň najdete v přehledu na KulturníRádce.cz spolu s dalšími koncerty\, festivaly a divadelními představeními.
URL:https://kulturniradce.cz/event/vanocni-koncert-2/
LOCATION:Husův Chrám\, Plzeň\, Husův Chrám\, Plzeň\, Česká republika
CATEGORIES:Koncert
ATTACH;FMTTYPE=image/jpeg:https://kulturniradce.cz/wp-content/uploads/2025/11/320-90deebe8d7ff4337b4c22682cc2b9104.jpg
END:VEVENT
BEGIN:VEVENT
DTSTART;TZID=Europe/Prague:20251206T190000
DTEND;TZID=Europe/Prague:20251206T220000
DTSTAMP:20260419T214016
CREATED:20251110T095213Z
LAST-MODIFIED:20251110T095214Z
UID:6027-1765047600-1765058400@kulturniradce.cz
SUMMARY:Vánoční koncert
DESCRIPTION:Vánoční koncert se uskuteční dne 2025-12-06 v 19:00 v Brno\, Červený kostel. \n🎟️ Koupit vstupenku \n\nVánoční koncert při svíčkách – hudba\, která vás naladí na sváteční čas  \nZapomeňte na předvánoční shon a přijďte se zastavit v záplavě světel tisíců svíček. Olomouc Quartet vás provede večerem plným kouzelných melodií\, které k Vánocům neodmyslitelně patří. \nUslyšíte něžnou Vánoční pastorále Arcangela Corelliho\, pohádkové tóny z Čajkovského Louskáčka\, rozvernou Tratsch polku Johanna Strausse\, slavnostní Adeste fideles či dojemnou O Holy Night. Chybět nebudou ani české koledy\, při kterých si budete chtít tiše prozpěvovat\, a další skladby\, které pohladí duši. \nDélka koncertu: 65 minutÚčinkuje: Olomouc Quartet \nPřijďte se naladit na Vánoce hudbou\, která zahřeje u srdce a připomene nám\, co je na tomto svátečním čase nejkrásnější – klid\, radost a společné chvíle. \n\nTento tip na kulturní akci v Brno najdete v přehledu na KulturníRádce.cz spolu s dalšími koncerty\, festivaly a divadelními představeními.
URL:https://kulturniradce.cz/event/vanocni-koncert-5/
LOCATION:Červený kostel\, Brno\, Červený kostel\, Brno\, Česká republika
CATEGORIES:Koncert
ATTACH;FMTTYPE=image/jpeg:https://kulturniradce.cz/wp-content/uploads/2025/11/320-805362b39c2d4da980b27f2b38669ec1.jpg
END:VEVENT
END:VCALENDAR