BEGIN:VCALENDAR
VERSION:2.0
PRODID:-//www.kulturniradce.cz - ECPv6.15.20//NONSGML v1.0//EN
CALSCALE:GREGORIAN
METHOD:PUBLISH
X-WR-CALNAME:www.kulturniradce.cz
X-ORIGINAL-URL:https://kulturniradce.cz
X-WR-CALDESC:Akce na www.kulturniradce.cz
REFRESH-INTERVAL;VALUE=DURATION:PT1H
X-Robots-Tag:noindex
X-PUBLISHED-TTL:PT1H
BEGIN:VTIMEZONE
TZID:Europe/Prague
BEGIN:DAYLIGHT
TZOFFSETFROM:+0100
TZOFFSETTO:+0200
TZNAME:CEST
DTSTART:20240331T010000
END:DAYLIGHT
BEGIN:STANDARD
TZOFFSETFROM:+0200
TZOFFSETTO:+0100
TZNAME:CET
DTSTART:20241027T010000
END:STANDARD
BEGIN:DAYLIGHT
TZOFFSETFROM:+0100
TZOFFSETTO:+0200
TZNAME:CEST
DTSTART:20250330T010000
END:DAYLIGHT
BEGIN:STANDARD
TZOFFSETFROM:+0200
TZOFFSETTO:+0100
TZNAME:CET
DTSTART:20251026T010000
END:STANDARD
BEGIN:DAYLIGHT
TZOFFSETFROM:+0100
TZOFFSETTO:+0200
TZNAME:CEST
DTSTART:20260329T010000
END:DAYLIGHT
BEGIN:STANDARD
TZOFFSETFROM:+0200
TZOFFSETTO:+0100
TZNAME:CET
DTSTART:20261025T010000
END:STANDARD
END:VTIMEZONE
BEGIN:VEVENT
DTSTART;TZID=Europe/Prague:20251215T190000
DTEND;TZID=Europe/Prague:20251215T220000
DTSTAMP:20260419T230523
CREATED:20251008T112340Z
LAST-MODIFIED:20251008T112341Z
UID:5169-1765825200-1765836000@kulturniradce.cz
SUMMARY:Petr Tomeček / Vánoční Panova flétna
DESCRIPTION:Petr Tomeček / Vánoční Panova flétna se uskuteční dne 2025-12-15 v 19:00 v Praha\, Atrium na Žižkově. \n🎟️ Koupit vstupenku \n\nZveme Vás na výjimečný vánoční koncert\, který rozezní prostor nádherného Atria na Žižkově něžnou krásou Panovy flétny – nástroje s tisíciletou historií a podmanivě křišťálovým zvukem\, jenž dokáže rozehrát i ta nejskrytější zákoutí duše. \nVirtuózní hráč na Panovu flétnu Petr Tomeček přináší do Prahy sváteční repertoár plný známých vánočních melodií a klasických skladeb\, které v tomto neobvyklém podání zazní s nečekanou hloubkou\, čistotou a emocí. \nHudební dialog Panovy flétny s klavírem v podání vynikajícího Václava Metoděje Uhlíře vytvoří jemnou rovnováhu mezi starobylostí a moderní interpretací\, mezi tichou radostí a slavnostní vznešeností. \nPřijďte prožít adventní čas jinak – v komorní a přesto vznešené atmosféře\, kde se propojí kouzlo hudby\, genius loci Atria a jedinečný zážitek\, který zahřeje srdce i duši. \n\nTento tip na kulturní akci v Praha najdete v přehledu na KulturníRádce.cz spolu s dalšími koncerty\, festivaly a divadelními představeními.
URL:https://kulturniradce.cz/event/petr-tomecek-vanocni-panova-fletna-2/
LOCATION:Atrium na Žižkově\, Praha\, Atrium na Žižkově\, Praha\, Česká republika
CATEGORIES:Koncert
ATTACH;FMTTYPE=image/jpeg:https://kulturniradce.cz/wp-content/uploads/2025/10/320-f352d70f952d4451944034c93b6806c1.jpg
END:VEVENT
END:VCALENDAR