BEGIN:VCALENDAR
VERSION:2.0
PRODID:-//www.kulturniradce.cz - ECPv6.15.20//NONSGML v1.0//EN
CALSCALE:GREGORIAN
METHOD:PUBLISH
X-ORIGINAL-URL:https://kulturniradce.cz
X-WR-CALDESC:Akce na www.kulturniradce.cz
REFRESH-INTERVAL;VALUE=DURATION:PT1H
X-Robots-Tag:noindex
X-PUBLISHED-TTL:PT1H
BEGIN:VTIMEZONE
TZID:Europe/Prague
BEGIN:DAYLIGHT
TZOFFSETFROM:+0100
TZOFFSETTO:+0200
TZNAME:CEST
DTSTART:20240331T010000
END:DAYLIGHT
BEGIN:STANDARD
TZOFFSETFROM:+0200
TZOFFSETTO:+0100
TZNAME:CET
DTSTART:20241027T010000
END:STANDARD
BEGIN:DAYLIGHT
TZOFFSETFROM:+0100
TZOFFSETTO:+0200
TZNAME:CEST
DTSTART:20250330T010000
END:DAYLIGHT
BEGIN:STANDARD
TZOFFSETFROM:+0200
TZOFFSETTO:+0100
TZNAME:CET
DTSTART:20251026T010000
END:STANDARD
BEGIN:DAYLIGHT
TZOFFSETFROM:+0100
TZOFFSETTO:+0200
TZNAME:CEST
DTSTART:20260329T010000
END:DAYLIGHT
BEGIN:STANDARD
TZOFFSETFROM:+0200
TZOFFSETTO:+0100
TZNAME:CET
DTSTART:20261025T010000
END:STANDARD
END:VTIMEZONE
BEGIN:VEVENT
DTSTART;TZID=Europe/Prague:20251217T190000
DTEND;TZID=Europe/Prague:20251217T220000
DTSTAMP:20260419T214031
CREATED:20250926T140037Z
LAST-MODIFIED:20250926T140038Z
UID:2585-1765998000-1766008800@kulturniradce.cz
SUMMARY:Hudba Bridgerton při svíčkách
DESCRIPTION:Hudba Bridgerton při svíčkách se uskuteční dne 2025-12-17 v 19:00 v Prachatice\, Kongresové centrum. \n🎟️ Koupit vstupenku \n\nNenechte si ujít večer plný romantiky a elegance\, kde zazní ty nejznámější melodie a písně z oblíbeného seriálu Bridgerton. Světlo stovky svíček vytvoří okouzlující atmosféru koncertu. \nProgram v jedinečném provedení smyčcového kvarteta představí výběr hudebních skladeb z tohoto populárního seriálu\, inspirovaných klasickými díly i moderními popovými melodiemi\, které si získaly srdce diváků po celém světě. \nTento koncert nabídne víc než jen hudbu; stovky svíček rozzáří prostor a vytvoří atmosféru plnou noblesy\, romantiky a neodolatelného kouzla historické doby. \nAkce je přístupná od 12 let. Každý účastník musí předložit platnou vstupenku  zakoupenou výhradně v síti SMS ticket. \n\nTento tip na kulturní akci v Prachatice najdete v přehledu na KulturníRádce.cz spolu s dalšími koncerty\, festivaly a divadelními představeními.
URL:https://kulturniradce.cz/event/hudba-bridgerton-pri-svickach-9/
LOCATION:Kongresové centrum\, Prachatice\, Kongresové centrum\, Prachatice\, Česká republika
CATEGORIES:Koncert
ATTACH;FMTTYPE=image/jpeg:https://kulturniradce.cz/wp-content/uploads/2025/09/320-ca3588e64274408195e9894f690a6362.jpg
END:VEVENT
BEGIN:VEVENT
DTSTART;TZID=Europe/Prague:20251217T190000
DTEND;TZID=Europe/Prague:20251217T220000
DTSTAMP:20260419T214031
CREATED:20250926T183640Z
LAST-MODIFIED:20250926T183641Z
UID:2748-1765998000-1766008800@kulturniradce.cz
SUMMARY:Filmová hudba Hanse Zimmera při svíčkách
DESCRIPTION:Filmová hudba Hanse Zimmera při svíčkách se uskuteční dne 2025-12-17 v 19:00 v Ostrava\, Poklad\, Ostrava-Poruba. \n🎟️ Koupit vstupenku \n\nKoncert filmové hudby Hanse Zimmera při svíčkách! \nNenechte si ujít nezapomenutelný večer plný nejkrásnější filmové hudby\, během kterého zazní melodie jednoho z nejvýznamnějších skladatelů filmové hudby na světě\, Hanse Zimmera\, v podání mezinárodně uznávaného pianisty Alexandra Starého. Záře stovek svíček vytvoří nezapomenutelnou atmosféru koncertu. \nHans Zimmer je známý svou emocionální a dojemnou filmovou hudbou\, která dokonale podtrhuje děj na plátně. Během své téměř čtyřicetileté kariéry vytvořil ikonické soundtracky k mnoha slavným filmům\, jako jsou Gladiátor\, Počátek\, Interstellar\, Piráti z Karibiku\, Lví král a mnoho dalších. Jeho kompozice si získaly srdce milionů fanoušků po celém světě a jeho koncerty vyprodávají nejprestižnější koncertní sály. \nTento výjimečný koncert nabízí mnohem více než jen hudbu. Stovky mihotajících se svíček rozzáří celý prostor a vytvoří tajemnou a magickou atmosféru. Každá z nich přispěje k vytvoření nezapomenutelného hudebního zážitku. \nV rámci Evropské tour alternují také: František Panáček a Lucie Kubátová.  \nAkce je přístupná od 12 let. Každý účastník musí předložit platnou vstupenku  zakoupenou výhradně v síti smsticket. \n\nTento tip na kulturní akci v Ostrava najdete v přehledu na KulturníRádce.cz spolu s dalšími koncerty\, festivaly a divadelními představeními.
URL:https://kulturniradce.cz/event/filmova-hudba-hanse-zimmera-pri-svickach-6/
LOCATION:Poklad\, Ostrava-Poruba\, Ostrava\, Poklad\, Ostrava-Poruba\, Ostrava\, Česká republika
CATEGORIES:Koncert
ATTACH;FMTTYPE=image/jpeg:https://kulturniradce.cz/wp-content/uploads/2025/09/320-986370f9b1514a6f83c6c72095e02683.jpg
END:VEVENT
BEGIN:VEVENT
DTSTART;TZID=Europe/Prague:20251217T190000
DTEND;TZID=Europe/Prague:20251217T220000
DTSTAMP:20260419T214031
CREATED:20251001T185357Z
LAST-MODIFIED:20251001T185358Z
UID:3617-1765998000-1766008800@kulturniradce.cz
SUMMARY:Dagmar Pecková a Musica Bohemica Vánoční koncert
DESCRIPTION:Dagmar Pecková a Musica Bohemica Vánoční koncert se uskuteční dne 2025-12-17 v 19:00 v Český Krumlov\, Zámecká jízdárna. \n🎟️ Koupit vstupenku \n\nSpolečný Vánoční koncert operní zpěvačky Dagmar Peckové a historického hudebního uskupení Musica Bohemica. \n\nTento tip na kulturní akci v Český Krumlov najdete v přehledu na KulturníRádce.cz spolu s dalšími koncerty\, festivaly a divadelními představeními.
URL:https://kulturniradce.cz/event/dagmar-peckova-a-musica-bohemica-vanocni-koncert/
LOCATION:Zámecká jízdárna\, Český Krumlov\, Zámecká jízdárna\, Český Krumlov\, Česká republika
CATEGORIES:Koncert
ATTACH;FMTTYPE=image/jpeg:https://kulturniradce.cz/wp-content/uploads/2025/10/320-347f59c81f37414e8c86b18c28a00cd6.jpg
END:VEVENT
END:VCALENDAR