BEGIN:VCALENDAR
VERSION:2.0
PRODID:-//www.kulturniradce.cz - ECPv6.15.20//NONSGML v1.0//EN
CALSCALE:GREGORIAN
METHOD:PUBLISH
X-ORIGINAL-URL:https://kulturniradce.cz
X-WR-CALDESC:Akce na www.kulturniradce.cz
REFRESH-INTERVAL;VALUE=DURATION:PT1H
X-Robots-Tag:noindex
X-PUBLISHED-TTL:PT1H
BEGIN:VTIMEZONE
TZID:Europe/Prague
BEGIN:DAYLIGHT
TZOFFSETFROM:+0100
TZOFFSETTO:+0200
TZNAME:CEST
DTSTART:20240331T010000
END:DAYLIGHT
BEGIN:STANDARD
TZOFFSETFROM:+0200
TZOFFSETTO:+0100
TZNAME:CET
DTSTART:20241027T010000
END:STANDARD
BEGIN:DAYLIGHT
TZOFFSETFROM:+0100
TZOFFSETTO:+0200
TZNAME:CEST
DTSTART:20250330T010000
END:DAYLIGHT
BEGIN:STANDARD
TZOFFSETFROM:+0200
TZOFFSETTO:+0100
TZNAME:CET
DTSTART:20251026T010000
END:STANDARD
BEGIN:DAYLIGHT
TZOFFSETFROM:+0100
TZOFFSETTO:+0200
TZNAME:CEST
DTSTART:20260329T010000
END:DAYLIGHT
BEGIN:STANDARD
TZOFFSETFROM:+0200
TZOFFSETTO:+0100
TZNAME:CET
DTSTART:20261025T010000
END:STANDARD
END:VTIMEZONE
BEGIN:VEVENT
DTSTART;TZID=Europe/Prague:20251218T170000
DTEND;TZID=Europe/Prague:20251218T200000
DTSTAMP:20260419T214131
CREATED:20251211T064615Z
LAST-MODIFIED:20251211T064624Z
UID:7798-1766077200-1766088000@kulturniradce.cz
SUMMARY:Petr Tomeček / Vánoční Panova flétna
DESCRIPTION:Petr Tomeček / Vánoční Panova flétna se uskuteční dne 2025-12-18 v 17:00 v Olomouc\, Kaple Božího Těla. \n🎟️ Koupit vstupenku \n\nPřijměte pozvání na kouzelný vánoční večer\, kde se jemné tóny Panovy flétny propojí s působivým geniem loci jedinečné Kaple Božího Těla v srdci Olomouce. V této architektonické perle zazní známé klasické i sváteční melodie\, které Vás pohladí po duši a přenesou do atmosféry klidu\, světla a naděje. \nVirtuóz Petr Tomeček rozezní svůj dechový nástroj s něžností a hloubkou\, která v sobě nese vzpomínky\, sny i vánoční zázraky. Repertoár koncertu nabídne oblíbené vánoční skladby a tradiční koledy\, které v tomto podání dostávají zcela nový\, niterný rozměr. \nCelým večerem bude citlivě provázet brilantní klavírní doprovod Václava Metoděje Uhlíře\, jehož hudební vnímavost a technická vytříbenost dodají koncertu slavnostní i intimní atmosféru. \nNechte se unést krásou hudby\, kouzlem Vánoc a jedinečným zážitkem v prostoru\, který jakoby byl stvořen právě pro takový okamžik… \n\nTento tip na kulturní akci v Olomouc najdete v přehledu na KulturníRádce.cz spolu s dalšími koncerty\, festivaly a divadelními představeními.
URL:https://kulturniradce.cz/event/petr-tomecek-vanocni-panova-fletna-8/
LOCATION:Kaple Božího Těla\, Olomouc\, Kaple Božího Těla\, Olomouc\, Česká republika
CATEGORIES:Koncert
ATTACH;FMTTYPE=image/jpeg:https://kulturniradce.cz/wp-content/uploads/2025/12/320-f58054807b424a0099f4f5f423100f87.jpg
END:VEVENT
BEGIN:VEVENT
DTSTART;TZID=Europe/Prague:20251218T190000
DTEND;TZID=Europe/Prague:20251218T220000
DTSTAMP:20260419T214131
CREATED:20250926T184451Z
LAST-MODIFIED:20250926T184451Z
UID:2770-1766084400-1766095200@kulturniradce.cz
SUMMARY:Hudba Harryho Pottera při svíčkách | Karlovy Vary
DESCRIPTION:Hudba Harryho Pottera při svíčkách | Karlovy Vary se uskuteční dne 2025-12-18 v 19:00 v Karlovy Vary\, Hotel Thermal. \n🎟️ Koupit vstupenku \n\nNenechte si ujít večer plný magické hudby\, kde zazní ty nejznámější melodie a písně ze všech filmů Harryho Pottera. Světlo stovky svíček vytvoří nezapomenutelnou atmosféru koncertu. \nProgram v jedinečném klavírním provedení představuje výběr filmových skladeb od pětinásobného oscarového skladatele Johna Williamse společně s díly Patricka Doyla\, Nicolase Hoopera a Alexandra Desplata\, držitele Oscara\, a nabízí to nejlepší z hudby Harryho Pottera. \nTento magický koncert nabídne víc než jen hudbu; stovky svíček rozzáří prostor a přidají na tajemné atmosféře plné mystiky a kouzel. \nMůžete se těšit na známé melodie a písně z filmů Harryho Pottera\, upravené pro klavírní koncert a to v podání předního českého klavíristy Alexandra Starého. \nV rámci Evropské tour alternují také: František Panáček a Lucie Kubátová.  \nAkce je přístupná od 12 let. Každý účastník musí předložit platnou vstupenku  zakoupenou výhradně v síti smsticket. \n  \n\nTento tip na kulturní akci v Karlovy Vary najdete v přehledu na KulturníRádce.cz spolu s dalšími koncerty\, festivaly a divadelními představeními.
URL:https://kulturniradce.cz/event/hudba-harryho-pottera-pri-svickach-karlovy-vary/
LOCATION:Hotel Thermal\, Karlovy Vary\, Hotel Thermal\, Karlovy Vary\, Česká republika
CATEGORIES:Koncert
ATTACH;FMTTYPE=image/jpeg:https://kulturniradce.cz/wp-content/uploads/2025/09/320-15b02ebfdbda410b84c07af4efcb81e7.jpg
END:VEVENT
BEGIN:VEVENT
DTSTART;TZID=Europe/Prague:20251218T190000
DTEND;TZID=Europe/Prague:20251218T220000
DTSTAMP:20260419T214131
CREATED:20251110T094111Z
LAST-MODIFIED:20251110T094111Z
UID:5910-1766084400-1766095200@kulturniradce.cz
SUMMARY:Petr Tomeček / Vánoční Panova flétna
DESCRIPTION:Petr Tomeček / Vánoční Panova flétna se uskuteční dne 2025-12-18 v 19:00 v Olomouc\, Kaple Božího Těla. \n🎟️ Koupit vstupenku \n\nPřijměte pozvání na kouzelný vánoční večer\, kde se jemné tóny Panovy flétny propojí s působivým geniem loci jedinečné Kaple Božího Těla v srdci Olomouce. V této architektonické perle zazní známé klasické i sváteční melodie\, které Vás pohladí po duši a přenesou do atmosféry klidu\, světla a naděje. \nVirtuóz Petr Tomeček rozezní svůj dechový nástroj s něžností a hloubkou\, která v sobě nese vzpomínky\, sny i vánoční zázraky. Repertoár koncertu nabídne oblíbené vánoční skladby a tradiční koledy\, které v tomto podání dostávají zcela nový\, niterný rozměr. \nCelým večerem bude citlivě provázet brilantní klavírní doprovod Václava Metoděje Uhlíře\, jehož hudební vnímavost a technická vytříbenost dodají koncertu slavnostní i intimní atmosféru. \nNechte se unést krásou hudby\, kouzlem Vánoc a jedinečným zážitkem v prostoru\, který jakoby byl stvořen právě pro takový okamžik… \n\nTento tip na kulturní akci v Olomouc najdete v přehledu na KulturníRádce.cz spolu s dalšími koncerty\, festivaly a divadelními představeními.
URL:https://kulturniradce.cz/event/petr-tomecek-vanocni-panova-fletna-5/
LOCATION:Kaple Božího Těla\, Olomouc\, Kaple Božího Těla\, Olomouc\, Česká republika
CATEGORIES:Koncert
ATTACH;FMTTYPE=image/jpeg:https://kulturniradce.cz/wp-content/uploads/2025/11/320-ef02ef4870b24b55b8f2f598278b7457.jpg
END:VEVENT
END:VCALENDAR