BEGIN:VCALENDAR
VERSION:2.0
PRODID:-//www.kulturniradce.cz - ECPv6.15.20//NONSGML v1.0//EN
CALSCALE:GREGORIAN
METHOD:PUBLISH
X-WR-CALNAME:www.kulturniradce.cz
X-ORIGINAL-URL:https://kulturniradce.cz
X-WR-CALDESC:Akce na www.kulturniradce.cz
REFRESH-INTERVAL;VALUE=DURATION:PT1H
X-Robots-Tag:noindex
X-PUBLISHED-TTL:PT1H
BEGIN:VTIMEZONE
TZID:Europe/Prague
BEGIN:DAYLIGHT
TZOFFSETFROM:+0100
TZOFFSETTO:+0200
TZNAME:CEST
DTSTART:20240331T010000
END:DAYLIGHT
BEGIN:STANDARD
TZOFFSETFROM:+0200
TZOFFSETTO:+0100
TZNAME:CET
DTSTART:20241027T010000
END:STANDARD
BEGIN:DAYLIGHT
TZOFFSETFROM:+0100
TZOFFSETTO:+0200
TZNAME:CEST
DTSTART:20250330T010000
END:DAYLIGHT
BEGIN:STANDARD
TZOFFSETFROM:+0200
TZOFFSETTO:+0100
TZNAME:CET
DTSTART:20251026T010000
END:STANDARD
BEGIN:DAYLIGHT
TZOFFSETFROM:+0100
TZOFFSETTO:+0200
TZNAME:CEST
DTSTART:20260329T010000
END:DAYLIGHT
BEGIN:STANDARD
TZOFFSETFROM:+0200
TZOFFSETTO:+0100
TZNAME:CET
DTSTART:20261025T010000
END:STANDARD
END:VTIMEZONE
BEGIN:VEVENT
DTSTART;TZID=Europe/Prague:20251220T130000
DTEND;TZID=Europe/Prague:20251220T160000
DTSTAMP:20260419T214015
CREATED:20251001T144903Z
LAST-MODIFIED:20251001T144904Z
UID:3447-1766235600-1766246400@kulturniradce.cz
SUMMARY:Česká mše vánoční - Jakub Jan Ryba
DESCRIPTION:Česká mše vánoční – Jakub Jan Ryba se uskuteční dne 2025-12-20 v 13:00 v Praha\, Klementinum. \n🎟️ Koupit vstupenku \n\nKONCERT S PŘÍPITKEM / CONCERT WITH A WELCOME DRINK \nČeská mše vánoční v Zrcadlové kapli Klementina.  \nČeská mše vánoční\, také uváděná jako mše Hej mistře\, nebo lidově Rybovka\, (lat. Missa solemnis Festis Nativitatis D. J. Ch. acomodata in linguam bohemicam musicam – que redacta per Jac. Joa. Ryba\, či zkráceně jako Missa pastoralis bohemica) je česky psaná církevní skladba Jakuba Jana Ryby\, který je též autor jejího textu. Přestože je stavěná stejně jako latinská hudební mše (části Kyrie\, Gloria atd.)\, jedná se o pastorální hru aplikovanou na liturgii tradiční mše; příběh vypráví o zvěstování Kristova narození a příchodu pastýřů k jesličkám. Česká mše vánoční má ryze pastorální ráz\, je zasazená do českého prostředí\, pro svou prostotu i radostnou a svěží atmosféru byla a stále je srozumitelná a přístupná širokému obecenstvu. Na varhany zde několikrát zahrál i W. A. Mozart. \n  \n\nBarokní varhany (baroque organ)\, orchestr da camera Benedictus\, sbor Adalbert (12)\, solisté (sopran\, tenor\, alt\, bas)\nProgram: A. Corelli Vánoční koncert (10 min)\, J. J. Ryba Rozmilý slavíčku\, Česká mše vánoční (45 min)\n\n  \nKaple Zvěstování Panny Marie\, známější jako Zrcadlová kaple\, se nalézá v areálu Klementina v Praze na Starém Městě. Její interiér je pozoruhodnou ukázkou vrcholného baroka. Název Zrcadlová kaple získala díky velkému počtu zrcadel použitých při výzdobě stěn i klenby. Kaple dnes slouží především jako koncertní síň a je svým interiérem jedinečným barokním skvostem. Fresky\, umělé mramory\, zlacené štuky a vzácná zrcadla\, které kapli dala jméno\, ji řadí mezi naprosté unikáty. \n  \n\nTento tip na kulturní akci v Praha najdete v přehledu na KulturníRádce.cz spolu s dalšími koncerty\, festivaly a divadelními představeními.
URL:https://kulturniradce.cz/event/ceska-mse-vanocni-jakub-jan-ryba-3/
LOCATION:Klementinum\, Praha\, Klementinum\, Praha\, Česká republika
CATEGORIES:Koncert
ATTACH;FMTTYPE=image/jpeg:https://kulturniradce.cz/wp-content/uploads/2025/10/320-cd46742e585d4c7384b209e373d1fbf9.jpg
END:VEVENT
BEGIN:VEVENT
DTSTART;TZID=Europe/Prague:20251220T190000
DTEND;TZID=Europe/Prague:20251220T220000
DTSTAMP:20260419T214015
CREATED:20251214T072755Z
LAST-MODIFIED:20251214T072756Z
UID:8133-1766257200-1766268000@kulturniradce.cz
SUMMARY:Vánoční koncert
DESCRIPTION:Vánoční koncert se uskuteční dne 2025-12-20 v 19:00 v Lovosice\, Kostel sv. Václava. \n🎟️ Koupit vstupenku \n\nZazní úpravy českých i anglických koled a písní. \nVystoupí: \nLovosický žesťový kvintet pod vedením Zděnka Honců \nPěvecký sbor Českolipský Evergreen pod vedením sbormistra Václava Filipa. \nSmyčcový kvartet ve složení: \nAdéla Dragounová – housle\, Bui Thi Thuy Dung – housle\, \nBarbara Pospíšilová – viola\, Ladislav Březnovský – violoncello \nKlavírní doprovod: Alena Kolaříková\, Pavlína Forejtová \nFlétna: Ludmila Tesaříková \n\nTento tip na kulturní akci v Lovosice najdete v přehledu na KulturníRádce.cz spolu s dalšími koncerty\, festivaly a divadelními představeními.
URL:https://kulturniradce.cz/event/vanocni-koncert-8/
LOCATION:Kostel sv. Václava\, Lovosice\, Kostel sv. Václava\, Lovosice\, Česká republika
CATEGORIES:Koncert
ATTACH;FMTTYPE=image/jpeg:https://kulturniradce.cz/wp-content/uploads/2025/12/320-4f7f2085cb3745a082221bcc5e6cde31.jpg
END:VEVENT
END:VCALENDAR