BEGIN:VCALENDAR
VERSION:2.0
PRODID:-//www.kulturniradce.cz - ECPv6.15.20//NONSGML v1.0//EN
CALSCALE:GREGORIAN
METHOD:PUBLISH
X-ORIGINAL-URL:https://kulturniradce.cz
X-WR-CALDESC:Akce na www.kulturniradce.cz
REFRESH-INTERVAL;VALUE=DURATION:PT1H
X-Robots-Tag:noindex
X-PUBLISHED-TTL:PT1H
BEGIN:VTIMEZONE
TZID:Europe/Prague
BEGIN:DAYLIGHT
TZOFFSETFROM:+0100
TZOFFSETTO:+0200
TZNAME:CEST
DTSTART:20240331T010000
END:DAYLIGHT
BEGIN:STANDARD
TZOFFSETFROM:+0200
TZOFFSETTO:+0100
TZNAME:CET
DTSTART:20241027T010000
END:STANDARD
BEGIN:DAYLIGHT
TZOFFSETFROM:+0100
TZOFFSETTO:+0200
TZNAME:CEST
DTSTART:20250330T010000
END:DAYLIGHT
BEGIN:STANDARD
TZOFFSETFROM:+0200
TZOFFSETTO:+0100
TZNAME:CET
DTSTART:20251026T010000
END:STANDARD
BEGIN:DAYLIGHT
TZOFFSETFROM:+0100
TZOFFSETTO:+0200
TZNAME:CEST
DTSTART:20260329T010000
END:DAYLIGHT
BEGIN:STANDARD
TZOFFSETFROM:+0200
TZOFFSETTO:+0100
TZNAME:CET
DTSTART:20261025T010000
END:STANDARD
END:VTIMEZONE
BEGIN:VEVENT
DTSTART;TZID=Europe/Prague:20251228T170000
DTEND;TZID=Europe/Prague:20251228T200000
DTSTAMP:20260419T214132
CREATED:20251214T074635Z
LAST-MODIFIED:20251214T074636Z
UID:8193-1766941200-1766952000@kulturniradce.cz
SUMMARY:Vánoční koncert Dej Nám Akord – DNA
DESCRIPTION:Vánoční koncert Dej Nám Akord – DNA se uskuteční dne 2025-12-28 v 17:00 v Rajhrad\, Benediktinské opatství Rajhrad. \n🎟️ Koupit vstupenku \n\nZažijte kouzlo Vánoc v čistých tónech lidského hlasu. Skupina Dej Nám Akord – DNA Brno je vokálním (a cappella) souborem\, který do rajhradského kláštera přichází s programem skladeb oslavujících vánoční radostnou zvěst. Program koncertu tvoří skladby Adama Michny z Otradovic\, autorské kompozice Tomáše Přikryla a výběr lidových koled\, které společně vytvářejí hudební oslavu radostné zvěsti Vánoc. \n\nTento tip na kulturní akci v Rajhrad najdete v přehledu na KulturníRádce.cz spolu s dalšími koncerty\, festivaly a divadelními představeními.
URL:https://kulturniradce.cz/event/vanocni-koncert-dej-nam-akord-dna/
LOCATION:Benediktinské opatství Rajhrad\, Rajhrad\, Benediktinské opatství Rajhrad\, Rajhrad\, Česká republika
CATEGORIES:Koncert
ATTACH;FMTTYPE=image/jpeg:https://kulturniradce.cz/wp-content/uploads/2025/12/320-07b8de59b833457c82299152c4ff5ce0.jpg
END:VEVENT
END:VCALENDAR