BEGIN:VCALENDAR
VERSION:2.0
PRODID:-//www.kulturniradce.cz - ECPv6.15.20//NONSGML v1.0//EN
CALSCALE:GREGORIAN
METHOD:PUBLISH
X-WR-CALNAME:www.kulturniradce.cz
X-ORIGINAL-URL:https://kulturniradce.cz
X-WR-CALDESC:Akce na www.kulturniradce.cz
REFRESH-INTERVAL;VALUE=DURATION:PT1H
X-Robots-Tag:noindex
X-PUBLISHED-TTL:PT1H
BEGIN:VTIMEZONE
TZID:Europe/Prague
BEGIN:DAYLIGHT
TZOFFSETFROM:+0100
TZOFFSETTO:+0200
TZNAME:CEST
DTSTART:20240331T010000
END:DAYLIGHT
BEGIN:STANDARD
TZOFFSETFROM:+0200
TZOFFSETTO:+0100
TZNAME:CET
DTSTART:20241027T010000
END:STANDARD
BEGIN:DAYLIGHT
TZOFFSETFROM:+0100
TZOFFSETTO:+0200
TZNAME:CEST
DTSTART:20250330T010000
END:DAYLIGHT
BEGIN:STANDARD
TZOFFSETFROM:+0200
TZOFFSETTO:+0100
TZNAME:CET
DTSTART:20251026T010000
END:STANDARD
BEGIN:DAYLIGHT
TZOFFSETFROM:+0100
TZOFFSETTO:+0200
TZNAME:CEST
DTSTART:20260329T010000
END:DAYLIGHT
BEGIN:STANDARD
TZOFFSETFROM:+0200
TZOFFSETTO:+0100
TZNAME:CET
DTSTART:20261025T010000
END:STANDARD
END:VTIMEZONE
BEGIN:VEVENT
DTSTART;TZID=Europe/Prague:20251229T190000
DTEND;TZID=Europe/Prague:20251229T220000
DTSTAMP:20260419T201807
CREATED:20251110T094232Z
LAST-MODIFIED:20251110T094234Z
UID:5925-1767034800-1767045600@kulturniradce.cz
SUMMARY:Vánoční koncert
DESCRIPTION:Vánoční koncert se uskuteční dne 2025-12-29 v 19:00 v Praha\, Kostel U Salvátora. \n🎟️ Koupit vstupenku \n\n  \nVánoční koncert při svíčkách – hudba\, která vás naladí na sváteční čas 🎄 \nZapomeňte na předvánoční shon a přijďte se zastavit v záplavě světel tisíců svíček. Krása Quartet vás provede večerem plným kouzelných melodií\, které k Vánocům neodmyslitelně patří. \nUslyšíte něžnou Vánoční pastorále Arcangela Corelliho\, pohádkové tóny z Čajkovského Louskáčka\, rozvernou Tratsch polku Johanna Strausse\, slavnostní Adeste fideles či dojemnou O Holy Night. Chybět nebudou ani české koledy\, při kterých si budete chtít tiše prozpěvovat\, a další skladby\, které pohladí duši. \nDélka koncertu: 65 minutÚčinkuje: Krása Quartet  \nPřijďte se naladit na Vánoce hudbou\, která zahřeje u srdce a připomene nám\, co je na tomto svátečním čase nejkrásnější – klid\, radost a společné chvíle. \n\nTento tip na kulturní akci v Praha najdete v přehledu na KulturníRádce.cz spolu s dalšími koncerty\, festivaly a divadelními představeními.
URL:https://kulturniradce.cz/event/vanocni-koncert-3/
LOCATION:Kostel U Salvátora\, Praha\, Kostel U Salvátora\, Praha\, Česká republika
CATEGORIES:Koncert
ATTACH;FMTTYPE=image/jpeg:https://kulturniradce.cz/wp-content/uploads/2025/11/320-a78e4f847f0e4a38a6f8386b54fbd28e.jpg
END:VEVENT
END:VCALENDAR