BEGIN:VCALENDAR
VERSION:2.0
PRODID:-//www.kulturniradce.cz - ECPv6.15.20//NONSGML v1.0//EN
CALSCALE:GREGORIAN
METHOD:PUBLISH
X-ORIGINAL-URL:https://kulturniradce.cz
X-WR-CALDESC:Akce na www.kulturniradce.cz
REFRESH-INTERVAL;VALUE=DURATION:PT1H
X-Robots-Tag:noindex
X-PUBLISHED-TTL:PT1H
BEGIN:VTIMEZONE
TZID:Europe/Prague
BEGIN:DAYLIGHT
TZOFFSETFROM:+0100
TZOFFSETTO:+0200
TZNAME:CEST
DTSTART:20250330T010000
END:DAYLIGHT
BEGIN:STANDARD
TZOFFSETFROM:+0200
TZOFFSETTO:+0100
TZNAME:CET
DTSTART:20251026T010000
END:STANDARD
BEGIN:DAYLIGHT
TZOFFSETFROM:+0100
TZOFFSETTO:+0200
TZNAME:CEST
DTSTART:20260329T010000
END:DAYLIGHT
BEGIN:STANDARD
TZOFFSETFROM:+0200
TZOFFSETTO:+0100
TZNAME:CET
DTSTART:20261025T010000
END:STANDARD
BEGIN:DAYLIGHT
TZOFFSETFROM:+0100
TZOFFSETTO:+0200
TZNAME:CEST
DTSTART:20270328T010000
END:DAYLIGHT
BEGIN:STANDARD
TZOFFSETFROM:+0200
TZOFFSETTO:+0100
TZNAME:CET
DTSTART:20271031T010000
END:STANDARD
END:VTIMEZONE
BEGIN:VEVENT
DTSTART;TZID=Europe/Prague:20260101T160000
DTEND;TZID=Europe/Prague:20260101T190000
DTSTAMP:20260419T214033
CREATED:20250928T185945Z
LAST-MODIFIED:20250928T185945Z
UID:3093-1767283200-1767294000@kulturniradce.cz
SUMMARY:Novoroční swingový koncert: Velikáni swingu
DESCRIPTION:Novoroční swingový koncert: Velikáni swingu se uskuteční dne 2026-01-01 v 16:00 v Praha\, Novogotická modlitebna církve československé. \n🎟️ Koupit vstupenku \n\nvystoupí: Swing Big Band Pražského salónního orchestru (18 vystupujících) \nprůvodní slovo a zpěv: Václav Vomáčka\, dirigent orchestru: Zdeněk Foit \nDélka koncertu: cca 75 minut\, objekt je vytápěný. \n  \nPROGRAM: \nGlenn MILLER                   American Patrol \nH. Warren/G.MILLER        At Last \nH. Warren/G.MILLER        Chattanooga Choo Choo \nW.C. HANDY/G.MILLER   St. Louis Blues \nS. WYCHE/M.Watts          All Right\, O.K. \nGlenn MILLER/MEDLEY   Moonlight Serenade \nJ. GARLAND/G.MILLER    In The Mood \nIrving BERLIN                    Alexander´s Ragtime Band \nGeorge GERSHWIN          Fascinating Rhythm \nGeorge GERSHWIN          They can´t take that away from me \nGeorge GERSHWIN          Summertime \nCole PORTER                    Too Darn Hot \n Bob THIELE                      What A Wonderful World \nDuke ELLINGTON             Caravan \nRichard RODGERS           Harlem Nocturno \n  \nkoncert trvá asi 75 minut \n(změna programu a účinkujících vyhrazena). \n  \n  \n\nTento tip na kulturní akci v Praha najdete v přehledu na KulturníRádce.cz spolu s dalšími koncerty\, festivaly a divadelními představeními.
URL:https://kulturniradce.cz/event/novorocni-swingovy-koncert-velikani-swingu/
LOCATION:Novogotická modlitebna církve československé\, Praha\, Novogotická modlitebna církve československé\, Praha\, Česká republika
CATEGORIES:Koncert
ATTACH;FMTTYPE=image/jpeg:https://kulturniradce.cz/wp-content/uploads/2025/09/320-23816d6c77134a779b8383b5f88262e8.jpg
END:VEVENT
END:VCALENDAR