BEGIN:VCALENDAR
VERSION:2.0
PRODID:-//www.kulturniradce.cz - ECPv6.15.20//NONSGML v1.0//EN
CALSCALE:GREGORIAN
METHOD:PUBLISH
X-ORIGINAL-URL:https://kulturniradce.cz
X-WR-CALDESC:Akce na www.kulturniradce.cz
REFRESH-INTERVAL;VALUE=DURATION:PT1H
X-Robots-Tag:noindex
X-PUBLISHED-TTL:PT1H
BEGIN:VTIMEZONE
TZID:Europe/Prague
BEGIN:DAYLIGHT
TZOFFSETFROM:+0100
TZOFFSETTO:+0200
TZNAME:CEST
DTSTART:20250330T010000
END:DAYLIGHT
BEGIN:STANDARD
TZOFFSETFROM:+0200
TZOFFSETTO:+0100
TZNAME:CET
DTSTART:20251026T010000
END:STANDARD
BEGIN:DAYLIGHT
TZOFFSETFROM:+0100
TZOFFSETTO:+0200
TZNAME:CEST
DTSTART:20260329T010000
END:DAYLIGHT
BEGIN:STANDARD
TZOFFSETFROM:+0200
TZOFFSETTO:+0100
TZNAME:CET
DTSTART:20261025T010000
END:STANDARD
BEGIN:DAYLIGHT
TZOFFSETFROM:+0100
TZOFFSETTO:+0200
TZNAME:CEST
DTSTART:20270328T010000
END:DAYLIGHT
BEGIN:STANDARD
TZOFFSETFROM:+0200
TZOFFSETTO:+0100
TZNAME:CET
DTSTART:20271031T010000
END:STANDARD
END:VTIMEZONE
BEGIN:VEVENT
DTSTART;TZID=Europe/Prague:20260103T160000
DTEND;TZID=Europe/Prague:20260103T190000
DTSTAMP:20260419T201913
CREATED:20250928T080611Z
LAST-MODIFIED:20250928T080612Z
UID:2920-1767456000-1767466800@kulturniradce.cz
SUMMARY:Novoroční koncert Noema Erba a Andrea Kalivodová
DESCRIPTION:Novoroční koncert Noema Erba a Andrea Kalivodová se uskuteční dne 2026-01-03 v 16:00 v Pardubice\, Pardubická radnice. \n🎟️ Koupit vstupenku \n\nPo úspěšných koncertech Noemy a Andrey nejen v České republice\, ale i v Itálii dámy zavítají i do Pardubic. Čeká Vás welcome drink a spousta krásných melodií.  \nNa klavír bude doprovázet i hrát sólově vynikající Kristina Marková.  \nPřijměte srdečné pozvání na již třetí koncert pořádaný naší agenturou do tohoto krásného sálu v centru Pardubic. \n  \n  \n\nTento tip na kulturní akci v Pardubice najdete v přehledu na KulturníRádce.cz spolu s dalšími koncerty\, festivaly a divadelními představeními.
URL:https://kulturniradce.cz/event/novorocni-koncert-noema-erba-a-andrea-kalivodova/
LOCATION:Pardubická radnice\, Pardubice\, Pardubická radnice\, Pardubice\, Česká republika
CATEGORIES:Koncert
ATTACH;FMTTYPE=image/jpeg:https://kulturniradce.cz/wp-content/uploads/2025/09/320-5bc293ef6f324a29be185a1eab032466.jpg
END:VEVENT
BEGIN:VEVENT
DTSTART;TZID=Europe/Prague:20260103T190000
DTEND;TZID=Europe/Prague:20260103T220000
DTSTAMP:20260419T201913
CREATED:20251002T164317Z
LAST-MODIFIED:20251002T164321Z
UID:4354-1767466800-1767477600@kulturniradce.cz
SUMMARY:Novoroční retro párty
DESCRIPTION:Novoroční retro párty  se uskuteční dne 2026-01-03 v 19:00 v Český Krumlov\, Zámecká jízdárna. \n🎟️ Koupit vstupenku \n\nNovoroční retro party! Kostýmy nepodceňte!!! V ceně: wellcome drink\, občerstvení\, obložené talíře\, půlnoční přípitek\, SKVĚLÁ RETRO ZÁBAVA. \nPřijďte vstoupit do roku 2026 ve stylu našeho oblíbeného RETRO!!! \n  \n\nTento tip na kulturní akci v Český Krumlov najdete v přehledu na KulturníRádce.cz spolu s dalšími koncerty\, festivaly a divadelními představeními.
URL:https://kulturniradce.cz/event/novorocni-retro-party/
LOCATION:Zámecká jízdárna\, Český Krumlov\, Zámecká jízdárna\, Český Krumlov\, Česká republika
CATEGORIES:Zábava
ATTACH;FMTTYPE=image/jpeg:https://kulturniradce.cz/wp-content/uploads/2025/10/320-302aeb9a79d84ce3bb1e8bd1a3aea85e.jpg
END:VEVENT
END:VCALENDAR