BEGIN:VCALENDAR
VERSION:2.0
PRODID:-//www.kulturniradce.cz - ECPv6.15.20//NONSGML v1.0//EN
CALSCALE:GREGORIAN
METHOD:PUBLISH
X-WR-CALNAME:www.kulturniradce.cz
X-ORIGINAL-URL:https://kulturniradce.cz
X-WR-CALDESC:Akce na www.kulturniradce.cz
REFRESH-INTERVAL;VALUE=DURATION:PT1H
X-Robots-Tag:noindex
X-PUBLISHED-TTL:PT1H
BEGIN:VTIMEZONE
TZID:Europe/Prague
BEGIN:DAYLIGHT
TZOFFSETFROM:+0100
TZOFFSETTO:+0200
TZNAME:CEST
DTSTART:20250330T010000
END:DAYLIGHT
BEGIN:STANDARD
TZOFFSETFROM:+0200
TZOFFSETTO:+0100
TZNAME:CET
DTSTART:20251026T010000
END:STANDARD
BEGIN:DAYLIGHT
TZOFFSETFROM:+0100
TZOFFSETTO:+0200
TZNAME:CEST
DTSTART:20260329T010000
END:DAYLIGHT
BEGIN:STANDARD
TZOFFSETFROM:+0200
TZOFFSETTO:+0100
TZNAME:CET
DTSTART:20261025T010000
END:STANDARD
BEGIN:DAYLIGHT
TZOFFSETFROM:+0100
TZOFFSETTO:+0200
TZNAME:CEST
DTSTART:20270328T010000
END:DAYLIGHT
BEGIN:STANDARD
TZOFFSETFROM:+0200
TZOFFSETTO:+0100
TZNAME:CET
DTSTART:20271031T010000
END:STANDARD
END:VTIMEZONE
BEGIN:VEVENT
DTSTART;TZID=Europe/Prague:20260106T190000
DTEND;TZID=Europe/Prague:20260106T220000
DTSTAMP:20260419T201726
CREATED:20250921T061157Z
LAST-MODIFIED:20250921T061549Z
UID:501-1767726000-1767736800@kulturniradce.cz
SUMMARY:Hudba Bridgerton při svíčkách
DESCRIPTION:Hudba Bridgerton při svíčkách se uskuteční dne 2026-01-06 v 19:00 v Karlovy Vary\, Hotel Thermal. \n🎟️ Koupit vstupenku \n\nNenechte si ujít večer plný romantiky a elegance\, kde zazní ty nejznámější melodie a písně z oblíbeného seriálu Bridgerton. Světlo stovky svíček vytvoří okouzlující atmosféru koncertu. \nProgram v jedinečném provedení smyčcového kvarteta představí výběr hudebních skladeb z tohoto populárního seriálu\, inspirovaných klasickými díly i moderními popovými melodiemi\, které si získaly srdce diváků po celém světě. \nTento koncert nabídne víc než jen hudbu; stovky svíček rozzáří prostor a vytvoří atmosféru plnou noblesy\, romantiky a neodolatelného kouzla historické doby. \nAkce je přístupná od 12 let. Každý účastník musí předložit platnou vstupenku  zakoupenou výhradně v síti SMS ticket. \n\nTento tip na kulturní akci v Karlovy Vary najdete v přehledu na KulturníRádce.cz spolu s dalšími koncerty\, festivaly a divadelními představeními.
URL:https://kulturniradce.cz/event/hudba-bridgerton-pri-svickach/
LOCATION:Hotel Thermal\, Karlovy Vary\, Hotel Thermal\, Karlovy Vary\, Česká republika
CATEGORIES:Koncert
ATTACH;FMTTYPE=image/jpeg:https://kulturniradce.cz/wp-content/uploads/2025/09/320-e6c1bf7312ae4733b1ccfbe6dc96d2d0.jpg
END:VEVENT
BEGIN:VEVENT
DTSTART;TZID=Europe/Prague:20260106T190000
DTEND;TZID=Europe/Prague:20260106T220000
DTSTAMP:20260419T201726
CREATED:20251214T083008Z
LAST-MODIFIED:20251214T083008Z
UID:8355-1767726000-1767736800@kulturniradce.cz
SUMMARY:Petr Tomeček / Novoroční Panova flétna
DESCRIPTION:Petr Tomeček / Novoroční Panova flétna se uskuteční dne 2026-01-06 v 19:00 v Praha\, Libeňský zámek / Obřadní síň. \n🎟️ Koupit vstupenku \n\nSrdečně Vás zveme na slavnostní novoroční koncert\, který rozezní jedinečné prostory historického Libeňského zámku. V jejich výjimečné atmosféře se ponese okouzlující zvuk Panovy flétny – nástroje s tajemným a nadčasovým kouzlem\, jenž dokáže probouzet nejjemnější emoce. \nNa klavír zazní brilantní doprovod Václava Metoděje Uhlíře\, který svým mistrovstvím a citem pro romantickou melodiku podtrhne kouzlo tohoto mimořádného večera. \nProgram nabídne výběr českých i světových melodií\, v nichž se snoubí romantika\, krása a novoroční naděje. \nPřijďte s námi přivítat nový rok v duchu hudby\, která inspiruje a těší duši. \n\nTento tip na kulturní akci v Praha najdete v přehledu na KulturníRádce.cz spolu s dalšími koncerty\, festivaly a divadelními představeními.
URL:https://kulturniradce.cz/event/petr-tomecek-novorocni-panova-fletna/
LOCATION:Libeňský zámek / Obřadní síň\, Praha\, Libeňský zámek / Obřadní síň\, Praha\, Česká republika
CATEGORIES:Koncert
ATTACH;FMTTYPE=image/jpeg:https://kulturniradce.cz/wp-content/uploads/2025/12/320-02a1b90a25974f0782df04bc0ea043e0.jpg
END:VEVENT
END:VCALENDAR