BEGIN:VCALENDAR
VERSION:2.0
PRODID:-//www.kulturniradce.cz - ECPv6.15.20//NONSGML v1.0//EN
CALSCALE:GREGORIAN
METHOD:PUBLISH
X-WR-CALNAME:www.kulturniradce.cz
X-ORIGINAL-URL:https://kulturniradce.cz
X-WR-CALDESC:Akce na www.kulturniradce.cz
REFRESH-INTERVAL;VALUE=DURATION:PT1H
X-Robots-Tag:noindex
X-PUBLISHED-TTL:PT1H
BEGIN:VTIMEZONE
TZID:Europe/Prague
BEGIN:DAYLIGHT
TZOFFSETFROM:+0100
TZOFFSETTO:+0200
TZNAME:CEST
DTSTART:20250330T010000
END:DAYLIGHT
BEGIN:STANDARD
TZOFFSETFROM:+0200
TZOFFSETTO:+0100
TZNAME:CET
DTSTART:20251026T010000
END:STANDARD
BEGIN:DAYLIGHT
TZOFFSETFROM:+0100
TZOFFSETTO:+0200
TZNAME:CEST
DTSTART:20260329T010000
END:DAYLIGHT
BEGIN:STANDARD
TZOFFSETFROM:+0200
TZOFFSETTO:+0100
TZNAME:CET
DTSTART:20261025T010000
END:STANDARD
BEGIN:DAYLIGHT
TZOFFSETFROM:+0100
TZOFFSETTO:+0200
TZNAME:CEST
DTSTART:20270328T010000
END:DAYLIGHT
BEGIN:STANDARD
TZOFFSETFROM:+0200
TZOFFSETTO:+0100
TZNAME:CET
DTSTART:20271031T010000
END:STANDARD
END:VTIMEZONE
BEGIN:VEVENT
DTSTART;TZID=Europe/Prague:20260109T190000
DTEND;TZID=Europe/Prague:20260109T220000
DTSTAMP:20260419T201801
CREATED:20250922T160929Z
LAST-MODIFIED:20250922T160930Z
UID:1799-1767985200-1767996000@kulturniradce.cz
SUMMARY:Pavel Šporcl - Rebel with the blue violin
DESCRIPTION:Pavel Šporcl – Rebel with the blue violin se uskuteční dne 2026-01-09 v 19:00 v Zbýšov\, Kino Horník. \n🎟️ Koupit vstupenku \n\nNejnovější program plný rockových hitů \nPavel Šporcl se v tomto zbrusu novém projektu poprvé představuje jako rockový houslista. \nPřipravte se na neuvěřitelnou jízdu plnou známých rockových hitů\, jejichž interpretace vás zvedne ze židle. To vše v podání našeho nejvýznamnějšího houslisty a jeho nové kapely spojující špičkové interprety z oblasti jazzu a rocku. Na vybraných vystoupení se mimo jiné se představí nejlepší virtuóz současnosti na Hammondovy klávesy Američan Brian Charette\, nominovaný na Cenu Grammy\, vyhledávaný bubeník Otto Hejnic\, a kytarista Sebastian Skalitzky. \n\nTento tip na kulturní akci v Zbýšov najdete v přehledu na KulturníRádce.cz spolu s dalšími koncerty\, festivaly a divadelními představeními.
URL:https://kulturniradce.cz/event/pavel-sporcl-rebel-with-the-blue-violin/
LOCATION:Kino Horník\, Zbýšov\, Kino Horník\, Zbýšov\, Česká republika
CATEGORIES:Koncert
ATTACH;FMTTYPE=image/jpeg:https://kulturniradce.cz/wp-content/uploads/2025/09/320-88ccae53500b4bcea121be49a0f2783e.jpg
END:VEVENT
BEGIN:VEVENT
DTSTART;TZID=Europe/Prague:20260109T190000
DTEND;TZID=Europe/Prague:20260109T220000
DTSTAMP:20260419T201801
CREATED:20251209T185259Z
LAST-MODIFIED:20251209T185259Z
UID:7351-1767985200-1767996000@kulturniradce.cz
SUMMARY:Hudba Coldplay při svíčkách
DESCRIPTION:Hudba Coldplay při svíčkách se uskuteční dne 2026-01-09 v 19:00 v Žatec\, KD Moskva. \n🎟️ Koupit vstupenku \n\nNenechte si ujít večer plný energie a emocí\, kde zazní ty největší hity britské kapely Coldplay. Světlo stovky svíček vytvoří nezapomenutelnou atmosféru tohoto jedinečného koncertu. \nProgram v podání smyčcového kvarteta nabídne výběr těch nejznámějších skladeb Coldplay\, včetně hitů jako „Fix You“\, „Yellow“ či „Viva La Vida“\, které si získaly srdce fanoušků po celém světě. \nTento koncert přinese víc než jen hudbu; stovky svíček rozzáří prostor a vytvoří atmosféru plnou emocí\, melancholie a nezapomenutelných melodií\, které vás vezmou na hudební cestu s Coldplay. \nAkce je přístupná od 12 let. Každý účastník musí předložit platnou vstupenku  zakoupenou výhradně v síti smsticket. \n\nTento tip na kulturní akci v Žatec najdete v přehledu na KulturníRádce.cz spolu s dalšími koncerty\, festivaly a divadelními představeními.
URL:https://kulturniradce.cz/event/hudba-coldplay-pri-svickach-15/
LOCATION:KD Moskva\, Žatec\, KD Moskva\, Žatec\, Česká republika
CATEGORIES:Koncert
ATTACH;FMTTYPE=image/jpeg:https://kulturniradce.cz/wp-content/uploads/2025/12/320-cb02defe464247dcaa8de3a6b91ea3d4.jpg
END:VEVENT
BEGIN:VEVENT
DTSTART;TZID=Europe/Prague:20260109T190000
DTEND;TZID=Europe/Prague:20260109T220000
DTSTAMP:20260419T201801
CREATED:20251214T083008Z
LAST-MODIFIED:20251214T083009Z
UID:8359-1767985200-1767996000@kulturniradce.cz
SUMMARY:Petr Tomeček / Novoroční Panova flétna
DESCRIPTION:Petr Tomeček / Novoroční Panova flétna se uskuteční dne 2026-01-09 v 19:00 v Blansko\, Zámek. \n🎟️ Koupit vstupenku \n\nSrdečně Vás zveme na slavnostní novoroční koncert\, který rozezní jedinečné prostory historického Blanenského zámku. V jejich výjimečné atmosféře se ponese okouzlující zvuk Panovy flétny – nástroje s tajemným a nadčasovým kouzlem\, jenž dokáže probouzet nejjemnější emoce. \nNa klavír zazní brilantní doprovod Václava Metoděje Uhlíře\, který svým mistrovstvím a citem pro romantickou melodiku podtrhne kouzlo tohoto mimořádného večera. \nProgram nabídne výběr českých i světových melodií\, v nichž se snoubí romantika\, krása a novoroční naděje. \nPřijďte s námi přivítat nový rok v duchu hudby\, která inspiruje a těší duši. \n\nTento tip na kulturní akci v Blansko najdete v přehledu na KulturníRádce.cz spolu s dalšími koncerty\, festivaly a divadelními představeními.
URL:https://kulturniradce.cz/event/petr-tomecek-novorocni-panova-fletna-2/
LOCATION:Zámek\, Blansko\, Zámek\, Blansko\, Česká republika
CATEGORIES:Koncert
ATTACH;FMTTYPE=image/jpeg:https://kulturniradce.cz/wp-content/uploads/2025/12/320-b46efe78818c4d9e80c892ca5fe268cf.jpg
END:VEVENT
END:VCALENDAR