BEGIN:VCALENDAR
VERSION:2.0
PRODID:-//www.kulturniradce.cz - ECPv6.15.20//NONSGML v1.0//EN
CALSCALE:GREGORIAN
METHOD:PUBLISH
X-ORIGINAL-URL:https://kulturniradce.cz
X-WR-CALDESC:Akce na www.kulturniradce.cz
REFRESH-INTERVAL;VALUE=DURATION:PT1H
X-Robots-Tag:noindex
X-PUBLISHED-TTL:PT1H
BEGIN:VTIMEZONE
TZID:Europe/Prague
BEGIN:DAYLIGHT
TZOFFSETFROM:+0100
TZOFFSETTO:+0200
TZNAME:CEST
DTSTART:20250330T010000
END:DAYLIGHT
BEGIN:STANDARD
TZOFFSETFROM:+0200
TZOFFSETTO:+0100
TZNAME:CET
DTSTART:20251026T010000
END:STANDARD
BEGIN:DAYLIGHT
TZOFFSETFROM:+0100
TZOFFSETTO:+0200
TZNAME:CEST
DTSTART:20260329T010000
END:DAYLIGHT
BEGIN:STANDARD
TZOFFSETFROM:+0200
TZOFFSETTO:+0100
TZNAME:CET
DTSTART:20261025T010000
END:STANDARD
BEGIN:DAYLIGHT
TZOFFSETFROM:+0100
TZOFFSETTO:+0200
TZNAME:CEST
DTSTART:20270328T010000
END:DAYLIGHT
BEGIN:STANDARD
TZOFFSETFROM:+0200
TZOFFSETTO:+0100
TZNAME:CET
DTSTART:20271031T010000
END:STANDARD
END:VTIMEZONE
BEGIN:VEVENT
DTSTART;TZID=Europe/Prague:20260110T160000
DTEND;TZID=Europe/Prague:20260110T190000
DTSTAMP:20260419T201813
CREATED:20251209T190004Z
LAST-MODIFIED:20251209T190004Z
UID:7467-1768060800-1768071600@kulturniradce.cz
SUMMARY:Galakoncert HOUSLE & AKORDEON J. Svěcený\, M. Laštovičková
DESCRIPTION:Galakoncert HOUSLE & AKORDEON J. Svěcený\, M. Laštovičková se uskuteční dne 2026-01-10 v 16:00 v Jaroměřice nad Rokytnou\, Kostel sv. Markéty. \n🎟️ Koupit vstupenku \n\nSrdečně vás zveme na galakoncert jižanských rytmů v podání houslisty JAROSLAVA SVĚCENÉHO za nevšedního doprovodu akordeonu\, který rozezní MARKÉTA LAŠTOVIČKOVÁ.  \nPřijďte se zaposlouchat do propojení tónů houslí a akordeonu pod mistrovskými prsty v tak výjimečném prostoru\, jakým je barokní Perla Vysočiny.  \nPředprodej vstupenek od 4. října 2025 online přes portál smsticket a na pokladně kostela. \n  \n\nTento tip na kulturní akci v Jaroměřice nad Rokytnou najdete v přehledu na KulturníRádce.cz spolu s dalšími koncerty\, festivaly a divadelními představeními.
URL:https://kulturniradce.cz/event/galakoncert-housle-akordeon-j-sveceny-m-lastovickova/
LOCATION:Kostel sv. Markéty\, Jaroměřice nad Rokytnou\, Kostel sv. Markéty\, Jaroměřice nad Rokytnou\, Česká republika
CATEGORIES:Koncert
ATTACH;FMTTYPE=image/jpeg:https://kulturniradce.cz/wp-content/uploads/2025/12/320-fc3d0ddf70b445da97bd4d4ba331e443.jpg
END:VEVENT
END:VCALENDAR