BEGIN:VCALENDAR
VERSION:2.0
PRODID:-//www.kulturniradce.cz - ECPv6.15.20//NONSGML v1.0//EN
CALSCALE:GREGORIAN
METHOD:PUBLISH
X-WR-CALNAME:www.kulturniradce.cz
X-ORIGINAL-URL:https://kulturniradce.cz
X-WR-CALDESC:Akce na www.kulturniradce.cz
REFRESH-INTERVAL;VALUE=DURATION:PT1H
X-Robots-Tag:noindex
X-PUBLISHED-TTL:PT1H
BEGIN:VTIMEZONE
TZID:Europe/Prague
BEGIN:DAYLIGHT
TZOFFSETFROM:+0100
TZOFFSETTO:+0200
TZNAME:CEST
DTSTART:20250330T010000
END:DAYLIGHT
BEGIN:STANDARD
TZOFFSETFROM:+0200
TZOFFSETTO:+0100
TZNAME:CET
DTSTART:20251026T010000
END:STANDARD
BEGIN:DAYLIGHT
TZOFFSETFROM:+0100
TZOFFSETTO:+0200
TZNAME:CEST
DTSTART:20260329T010000
END:DAYLIGHT
BEGIN:STANDARD
TZOFFSETFROM:+0200
TZOFFSETTO:+0100
TZNAME:CET
DTSTART:20261025T010000
END:STANDARD
BEGIN:DAYLIGHT
TZOFFSETFROM:+0100
TZOFFSETTO:+0200
TZNAME:CEST
DTSTART:20270328T010000
END:DAYLIGHT
BEGIN:STANDARD
TZOFFSETFROM:+0200
TZOFFSETTO:+0100
TZNAME:CET
DTSTART:20271031T010000
END:STANDARD
END:VTIMEZONE
BEGIN:VEVENT
DTSTART;TZID=Europe/Prague:20260111T190000
DTEND;TZID=Europe/Prague:20260111T220000
DTSTAMP:20260419T213959
CREATED:20251209T191014Z
LAST-MODIFIED:20251209T191014Z
UID:7610-1768158000-1768168800@kulturniradce.cz
SUMMARY:Novoroční koncert
DESCRIPTION:Novoroční koncert se uskuteční dne 2026-01-11 v 19:00 v Loket\, Kulturní dům Dvorana. \n🎟️ Koupit vstupenku \n\nVstupte do nového roku s koncertem plným krásné hudby a silných emocí. Zazní oblíbené melodie z oper\, muzikálů i filmů v podání předních operních umělců. \nÚčinkují: Soňa Godarská\, Miguelangelo Cavalcanti\, Lenka Navrátilová\, Jolana Slavíková. \n  \nMiguelangelo Cavalcanti  \nBarytonista Miguelangelo Cavalcanti je mimořádně talentovaný zpěvák\, mezinárodního významu\, který svou kariéru vybudoval na silných základech klasické hudby a opery. Jeho hluboký\, charismatický hlas a emotivní interpretace upoutávají nejen publikum\, ale i odbornou veřejnost. Miguelangelo s bohatým repertoárem a zkušenostmi z domácích i zahraničních scén přispívá k bohatství české hudební scény a je respektovanou osobností v operním světě. \nSoňa Godarská \nVítězka prestižní ceny Thálie\, která je výjimečnou interpretkou české operní tradice. Její hlasová krása\, okouzlující přednes a schopnost vyjádřit hluboké emoce jsou neoddělitelnou součástí každého jejího vystoupení. Spolupráce s dirigenty a mezinárodními umělci ji posouvá směrem k stále vyšším uměleckým metám. \nLenka Navrátilová                                                  \nVynikající klavíristka\, která je nenahraditelnou součástí těchto vystoupení. Její precizní hra a citlivá spolupráce s barytonem a sopránem vytvářejí harmonické a emotivní spojení\, které obohacuje celé představení. Společně tvoří MiguelangeloCavalcanti\, Soňa Godarská a Lenka Navrátilová jedinečné trio\, které poskytuje nezapomenutelný kulturní zážitek a přispívá k rozvoji české klasické hudby\, opery\, pop opery\, filmové a muzikálové písně. \nJolana Slavíková \nMezzosopranistka\, která si buduje mezinárodní renomé jako představitelka silných ženských postav. V sezoně 2024/25 debutuje v titulní roli Carmen v Budapešťské státní opeře a Wrocławské opeře\, představí se také jako Olga (Evžen Oněgin) a Suzuki (Madama Butterfly). Za roli Evy v Myslivečkově oratoriu Adamo ed Eva získala širší nominaci na Cenu Thálie 2024. Působila jako sólistka Drážďanské operety\, hostovala mimo jiné ve frankfurtské opeře\, Théâtre du Capitole v Toulouse či ve Výmaru. Je držitelkou tří cen z Mezinárodní soutěže Évy Marton v Budapešti\, finalistkou International Vocal Competition v s’Hertogenboschi a laureátkou řady dalších ocenění doma i v zahraničí. \n\nTento tip na kulturní akci v Loket najdete v přehledu na KulturníRádce.cz spolu s dalšími koncerty\, festivaly a divadelními představeními.
URL:https://kulturniradce.cz/event/novorocni-koncert/
LOCATION:Kulturní dům Dvorana\, Loket\, Kulturní dům Dvorana\, Loket\, Česká republika
CATEGORIES:Koncert
ATTACH;FMTTYPE=image/jpeg:https://kulturniradce.cz/wp-content/uploads/2025/12/320-f7d1cf92576f40279b0e06cb0a96632e.jpg
END:VEVENT
END:VCALENDAR