BEGIN:VCALENDAR
VERSION:2.0
PRODID:-//www.kulturniradce.cz - ECPv6.15.20//NONSGML v1.0//EN
CALSCALE:GREGORIAN
METHOD:PUBLISH
X-WR-CALNAME:www.kulturniradce.cz
X-ORIGINAL-URL:https://kulturniradce.cz
X-WR-CALDESC:Akce na www.kulturniradce.cz
REFRESH-INTERVAL;VALUE=DURATION:PT1H
X-Robots-Tag:noindex
X-PUBLISHED-TTL:PT1H
BEGIN:VTIMEZONE
TZID:Europe/Prague
BEGIN:DAYLIGHT
TZOFFSETFROM:+0100
TZOFFSETTO:+0200
TZNAME:CEST
DTSTART:20250330T010000
END:DAYLIGHT
BEGIN:STANDARD
TZOFFSETFROM:+0200
TZOFFSETTO:+0100
TZNAME:CET
DTSTART:20251026T010000
END:STANDARD
BEGIN:DAYLIGHT
TZOFFSETFROM:+0100
TZOFFSETTO:+0200
TZNAME:CEST
DTSTART:20260329T010000
END:DAYLIGHT
BEGIN:STANDARD
TZOFFSETFROM:+0200
TZOFFSETTO:+0100
TZNAME:CET
DTSTART:20261025T010000
END:STANDARD
BEGIN:DAYLIGHT
TZOFFSETFROM:+0100
TZOFFSETTO:+0200
TZNAME:CEST
DTSTART:20270328T010000
END:DAYLIGHT
BEGIN:STANDARD
TZOFFSETFROM:+0200
TZOFFSETTO:+0100
TZNAME:CET
DTSTART:20271031T010000
END:STANDARD
END:VTIMEZONE
BEGIN:VEVENT
DTSTART;TZID=Europe/Prague:20260120T190000
DTEND;TZID=Europe/Prague:20260120T220000
DTSTAMP:20260419T201723
CREATED:20250921T075526Z
LAST-MODIFIED:20250921T075526Z
UID:760-1768935600-1768946400@kulturniradce.cz
SUMMARY:Koncert filmové hudby Hanse Zimmera
DESCRIPTION:Koncert filmové hudby Hanse Zimmera se uskuteční dne 2026-01-20 v 19:00 v Kolín\, MSD. \n🎟️ Koupit vstupenku \n\nPřipravte se na jedinečný večer\, který vás zavede do světa nejikoničtější filmové hudby. Městský společenský dům Kolín přivítá symfonický orchestr Grande Orchestra\, který představí mistrovská díla slavného skladatele Hansa Zimmera v rámci exkluzivního koncertu. \nTento koncert je povinností pro všechny milovníky filmové hudby! Přijďte si užít nezapomenutelný večer plný emocí a hudebních skvostů\, které definovaly moderní kinematografii. \nHans Zimmer je německý hudební skladatel\, který se proslavil díky své práci na filmových soundtrackech. Je známý svou schopností přinést intenzitu a emocionální hloubku do filmového vyprávění prostřednictvím hudby. Mezi jeho nejúspěšnější filmy patří Počátek\, Interstellar\, Duna či Gladiátor\, které získaly srdce publika po celém světě. Zimmerova tvorba mu vynesla řadu ocenění\, včetně dvou oscarů\, tří zlatých glóbů\, čtyř Grammy – celkem 37 ocenění. \nNenechte si ujít tuto jedinečnou příležitost prožít hudbu Hansa Zimmera naživo v podání skvělého orchestru GRANDE ORCHESTRA! Vstupenky jsou již v prodeji. Zajistěte si svá místa a připravte se na hudební zážitek\, který nikdy nezapomenete. \nAkce je přístupná od 12 let. Každý účastník musí předložit platnou vstupenku  zakoupenou výhradně v síti SMS ticket. \n\nTento tip na kulturní akci v Kolín najdete v přehledu na KulturníRádce.cz spolu s dalšími koncerty\, festivaly a divadelními představeními.
URL:https://kulturniradce.cz/event/koncert-filmove-hudby-hanse-zimmera/
LOCATION:MSD\, Kolín\, MSD\, Kolín\, Česká republika
CATEGORIES:Koncert
ATTACH;FMTTYPE=image/jpeg:https://kulturniradce.cz/wp-content/uploads/2025/09/320-02ac4513f49b449f98eeed422c8d166f-1.jpg
END:VEVENT
BEGIN:VEVENT
DTSTART;TZID=Europe/Prague:20260120T190000
DTEND;TZID=Europe/Prague:20260120T220000
DTSTAMP:20260419T201723
CREATED:20251129T055643Z
LAST-MODIFIED:20251129T055643Z
UID:6590-1768935600-1768946400@kulturniradce.cz
SUMMARY:Hudba Bridgerton při svíčkách
DESCRIPTION:Hudba Bridgerton při svíčkách se uskuteční dne 2026-01-20 v 19:00 v Chomutov\, Městské divadlo. \n🎟️ Koupit vstupenku \n\nNenechte si ujít večer plný romantiky a elegance\, kde zazní ty nejznámější melodie a písně z oblíbeného seriálu Bridgerton. Světlo stovky svíček vytvoří okouzlující atmosféru koncertu. \nProgram v jedinečném provedení smyčcového kvarteta představí výběr hudebních skladeb z tohoto populárního seriálu\, inspirovaných klasickými díly i moderními popovými melodiemi\, které si získaly srdce diváků po celém světě. \nTento koncert nabídne víc než jen hudbu; stovky svíček rozzáří prostor a vytvoří atmosféru plnou noblesy\, romantiky a neodolatelného kouzla historické doby. \nAkce je přístupná od 12 let. Každý účastník musí předložit platnou vstupenku  zakoupenou výhradně v síti SMS ticket. \n\nTento tip na kulturní akci v Chomutov najdete v přehledu na KulturníRádce.cz spolu s dalšími koncerty\, festivaly a divadelními představeními.
URL:https://kulturniradce.cz/event/hudba-bridgerton-pri-svickach-14/
LOCATION:Městské divadlo\, Chomutov\, Městské divadlo\, Chomutov\, Česká republika
CATEGORIES:Koncert
ATTACH;FMTTYPE=image/jpeg:https://kulturniradce.cz/wp-content/uploads/2025/11/320-1c8a2733fcd94aefa96ec3a736e16f8d.jpg
END:VEVENT
BEGIN:VEVENT
DTSTART;TZID=Europe/Prague:20260120T190000
DTEND;TZID=Europe/Prague:20260120T220000
DTSTAMP:20260419T201723
CREATED:20251129T065622Z
LAST-MODIFIED:20251129T065624Z
UID:6727-1768935600-1768946400@kulturniradce.cz
SUMMARY:Filmová hudba Hanse Zimmera při svíčkách
DESCRIPTION:Filmová hudba Hanse Zimmera při svíčkách se uskuteční dne 2026-01-20 v 19:00 v Brno\, Sál Milosrdných bratří. \n🎟️ Koupit vstupenku \n\nKoncert filmové hudby Hanse Zimmera při svíčkách! \nNenechte si ujít nezapomenutelný večer plný nejkrásnější filmové hudby\, během kterého zazní melodie jednoho z nejvýznamnějších skladatelů filmové hudby na světě\, Hanse Zimmera\, v podání mezinárodně uznávaného pianisty Alexandra Starého. Záře stovek svíček vytvoří nezapomenutelnou atmosféru koncertu. \nHans Zimmer je známý svou emocionální a dojemnou filmovou hudbou\, která dokonale podtrhuje děj na plátně. Během své téměř čtyřicetileté kariéry vytvořil ikonické soundtracky k mnoha slavným filmům\, jako jsou Gladiátor\, Počátek\, Interstellar\, Piráti z Karibiku\, Lví král a mnoho dalších. Jeho kompozice si získaly srdce milionů fanoušků po celém světě a jeho koncerty vyprodávají nejprestižnější koncertní sály. \nTento výjimečný koncert nabízí mnohem více než jen hudbu. Stovky mihotajících se svíček rozzáří celý prostor a vytvoří tajemnou a magickou atmosféru. Každá z nich přispěje k vytvoření nezapomenutelného hudebního zážitku. \nV rámci Evropské tour alternují také: František Panáček a Lucie Kubátová.  \nAkce je přístupná od 12 let. Každý účastník musí předložit platnou vstupenku  zakoupenou výhradně v síti smsticket. \n\nTento tip na kulturní akci v Brno najdete v přehledu na KulturníRádce.cz spolu s dalšími koncerty\, festivaly a divadelními představeními.
URL:https://kulturniradce.cz/event/filmova-hudba-hanse-zimmera-pri-svickach-8/
LOCATION:Sál Milosrdných bratří\, Brno\, Sál Milosrdných bratří\, Brno\, Česká republika
CATEGORIES:Koncert
ATTACH;FMTTYPE=image/jpeg:https://kulturniradce.cz/wp-content/uploads/2025/11/320-50e39a5e78a7455a9c014ebe77971524.jpg
END:VEVENT
BEGIN:VEVENT
DTSTART;TZID=Europe/Prague:20260120T190000
DTEND;TZID=Europe/Prague:20260120T220000
DTSTAMP:20260419T201723
CREATED:20251207T193807Z
LAST-MODIFIED:20251207T193808Z
UID:7122-1768935600-1768946400@kulturniradce.cz
SUMMARY:Hudba Bridgerton při svíčkách
DESCRIPTION:Hudba Bridgerton při svíčkách se uskuteční dne 2026-01-20 v 19:00 v Bohumín\, K3 Bohumín – Kino. \n🎟️ Koupit vstupenku \n\nNenechte si ujít večer plný romantiky a elegance\, kde zazní ty nejznámější melodie a písně z oblíbeného seriálu Bridgerton. Světlo stovky svíček vytvoří okouzlující atmosféru koncertu. \nProgram v jedinečném provedení smyčcového kvarteta představí výběr hudebních skladeb z tohoto populárního seriálu\, inspirovaných klasickými díly i moderními popovými melodiemi\, které si získaly srdce diváků po celém světě. \nTento koncert nabídne víc než jen hudbu; stovky svíček rozzáří prostor a vytvoří atmosféru plnou noblesy\, romantiky a neodolatelného kouzla historické doby. \nAkce je přístupná od 12 let. Každý účastník musí předložit platnou vstupenku  zakoupenou výhradně v síti smsticket. \n\nTento tip na kulturní akci v Bohumín najdete v přehledu na KulturníRádce.cz spolu s dalšími koncerty\, festivaly a divadelními představeními.
URL:https://kulturniradce.cz/event/hudba-bridgerton-pri-svickach-18/
LOCATION:K3 Bohumín – Kino\, Bohumín\, K3 Bohumín - Kino\, Bohumín\, Česká republika
CATEGORIES:Koncert
ATTACH;FMTTYPE=image/jpeg:https://kulturniradce.cz/wp-content/uploads/2025/12/320-e6647da1e48c4358ba93d284be72be9c.jpg
END:VEVENT
BEGIN:VEVENT
DTSTART;TZID=Europe/Prague:20260120T210000
DTEND;TZID=Europe/Prague:20260121T000000
DTSTAMP:20260419T201723
CREATED:20251209T185258Z
LAST-MODIFIED:20251209T185259Z
UID:7348-1768942800-1768953600@kulturniradce.cz
SUMMARY:Ludovico Einaudi Music | Brno
DESCRIPTION:Ludovico Einaudi Music | Brno se uskuteční dne 2026-01-20 v 21:00 v Brno\, Sál Milosrdných bratří. \n🎟️ Koupit vstupenku \n\nNenechte si ujít nezapomenutelný večer krásné hudby\, kde zazní melodie jednoho z nejlepších pianistů a skladatelů na světe\, Ludovica Einaudiho v podání přední české klavíristky Lucie Kubátové. \nEinaudi je známý svými jednoduchými\, ale strašidelně krásnými minimalistickými díly pro klavír a ohromující filmovou hudbou. Za téměř třicet let své činnosti vydal řadu alb\, která se dostala na přední příčky poslechovosti\, vyprodává nejprestižnější koncertní sály po celém světě a jeho hudba zazněla v mnoha slavných filmech (Nedotknutelní\, Doktor Živago\, To je Anglie\, Nomadland a další). \nTento jedinečný koncert nabídne více než jen hudbu. Symfonie třpytivých svíček rozsvítí celý prostor a přidá na mystičnu a kouzlu večera. Každá svíčka přispěje k vytvoření kouzelného prostředí\, které dokonale doplní hudební zážitek. \nV rámci Evropské tour alternují také: Alexandr Starý a František Panáček.  \nAkce je přístupná od 12 let. Každý účastník musí předložit platnou vstupenku  zakoupenou výhradně v síti smsticket. \n\nTento tip na kulturní akci v Brno najdete v přehledu na KulturníRádce.cz spolu s dalšími koncerty\, festivaly a divadelními představeními.
URL:https://kulturniradce.cz/event/ludovico-einaudi-music-brno-2/
LOCATION:Sál Milosrdných bratří\, Brno\, Sál Milosrdných bratří\, Brno\, Česká republika
CATEGORIES:Koncert
ATTACH;FMTTYPE=image/jpeg:https://kulturniradce.cz/wp-content/uploads/2025/12/320-ab379b735cca4493ae90ef527b9d162e.jpg
END:VEVENT
END:VCALENDAR