BEGIN:VCALENDAR
VERSION:2.0
PRODID:-//www.kulturniradce.cz - ECPv6.15.20//NONSGML v1.0//EN
CALSCALE:GREGORIAN
METHOD:PUBLISH
X-WR-CALNAME:www.kulturniradce.cz
X-ORIGINAL-URL:https://kulturniradce.cz
X-WR-CALDESC:Akce na www.kulturniradce.cz
REFRESH-INTERVAL;VALUE=DURATION:PT1H
X-Robots-Tag:noindex
X-PUBLISHED-TTL:PT1H
BEGIN:VTIMEZONE
TZID:Europe/Prague
BEGIN:DAYLIGHT
TZOFFSETFROM:+0100
TZOFFSETTO:+0200
TZNAME:CEST
DTSTART:20250330T010000
END:DAYLIGHT
BEGIN:STANDARD
TZOFFSETFROM:+0200
TZOFFSETTO:+0100
TZNAME:CET
DTSTART:20251026T010000
END:STANDARD
BEGIN:DAYLIGHT
TZOFFSETFROM:+0100
TZOFFSETTO:+0200
TZNAME:CEST
DTSTART:20260329T010000
END:DAYLIGHT
BEGIN:STANDARD
TZOFFSETFROM:+0200
TZOFFSETTO:+0100
TZNAME:CET
DTSTART:20261025T010000
END:STANDARD
BEGIN:DAYLIGHT
TZOFFSETFROM:+0100
TZOFFSETTO:+0200
TZNAME:CEST
DTSTART:20270328T010000
END:DAYLIGHT
BEGIN:STANDARD
TZOFFSETFROM:+0200
TZOFFSETTO:+0100
TZNAME:CET
DTSTART:20271031T010000
END:STANDARD
END:VTIMEZONE
BEGIN:VEVENT
DTSTART;TZID=Europe/Prague:20260122T183000
DTEND;TZID=Europe/Prague:20260122T213000
DTSTAMP:20260419T201720
CREATED:20251110T095728Z
LAST-MODIFIED:20251110T095729Z
UID:6084-1769106600-1769117400@kulturniradce.cz
SUMMARY:Slavné filmové melodie české i světové
DESCRIPTION:Slavné filmové melodie české i světové se uskuteční dne 2026-01-22 v 18:30 v Praha\, Novogotická modlitebna církve československé. \n🎟️ Koupit vstupenku \n\nPojďte si užít zbrusu nové nastudování krásných filmových melodií českých a zahraničních s přesahem do muzikálů a dalších žánrů do vytápěného sále Novogotické kaple ČCE (spíše divadelní sál). \n  \nKvinteto Dobře naladěni \nAnna Pacvoňová – housle\, Jana Hachranová – flétna\, Jana Rambousková – klavír\, Jan Čoňka – kytara\, Václav Hořák – kontrabas/baskytara \n. \nPROGRAM: \nGLADIÁTOR \nDOBYTÍ RÁJE \nLIMONÁDOVÝ JOE \nPANNA A NETVOR \nADÉLA JEŠTĚ NEVEČEŘELA \nDotýkat se hvězd \nTAJEMSTVÍ HRADU V KARPATECH \nPELÍŠKY – Čerešně \nFANTOM OPERY \nHERCULE POIROT \nSCHINDLERŮV SEZNAM \nCHICAGO – Hot honey rag \nTENKRÁT NA ZÁPADĚ \nSTAR WARS – Theme song \nVZPOMÍNKY NA AFRIKU \nNĚKDO TO RÁD HORKÉ \nCROCODILE ROCK \nABSOLVENT – Sound of silence \ndélka programu cca 65 minut\, změna programu vyhrazena \nUkázka: https://youtu.be/bdSUw3vyjH0?si=PkVyDvtL7iha-SlU \n  \n\nTento tip na kulturní akci v Praha najdete v přehledu na KulturníRádce.cz spolu s dalšími koncerty\, festivaly a divadelními představeními.
URL:https://kulturniradce.cz/event/slavne-filmove-melodie-ceske-i-svetove/
LOCATION:Novogotická modlitebna církve československé\, Praha\, Novogotická modlitebna církve československé\, Praha\, Česká republika
CATEGORIES:Koncert
ATTACH;FMTTYPE=image/jpeg:https://kulturniradce.cz/wp-content/uploads/2025/11/320-4e944a193d59482fb77f9c65f1954608.jpg
END:VEVENT
BEGIN:VEVENT
DTSTART;TZID=Europe/Prague:20260122T190000
DTEND;TZID=Europe/Prague:20260122T220000
DTSTAMP:20260419T201720
CREATED:20251002T171042Z
LAST-MODIFIED:20251002T171042Z
UID:4678-1769108400-1769119200@kulturniradce.cz
SUMMARY:Ludovico Einaudi Music | Olomouc
DESCRIPTION:Ludovico Einaudi Music | Olomouc se uskuteční dne 2026-01-22 v 19:00 v Olomouc\, Reduta. \n🎟️ Koupit vstupenku \n\nNenechte si ujít nezapomenutelný večer krásné hudby\, kde zazní melodie jednoho z nejlepších pianistů a skladatelů na světe\, Ludovica Einaudiho v podání předního českého klavíristy Františka Panáčka. \nEinaudi je známý svými jednoduchými\, ale strašidelně krásnými minimalistickými díly pro klavír a ohromující filmovou hudbou. Za téměř třicet let své činnosti vydal řadu alb\, která se dostala na přední příčky poslechovosti\, vyprodává nejprestižnější koncertní sály po celém světě a jeho hudba zazněla v mnoha slavných filmech (Nedotknutelní\, Doktor Živago\, To je Anglie\, Nomadland a další). \nTento jedinečný koncert nabídne více než jen hudbu. Symfonie třpytivých svíček rozsvítí celý prostor a přidá na mystičnu a kouzlu večera. Každá svíčka přispěje k vytvoření kouzelného prostředí\, které dokonale doplní hudební zážitek. \nV rámci Evropské tour alternují také: Alexandr Starý a Lucie Kubátová.  \nAkce je přístupná od 12 let. Každý účastník musí předložit platnou vstupenku  zakoupenou výhradně v síti SMS ticket. \n\nTento tip na kulturní akci v Olomouc najdete v přehledu na KulturníRádce.cz spolu s dalšími koncerty\, festivaly a divadelními představeními.
URL:https://kulturniradce.cz/event/ludovico-einaudi-music-olomouc/
LOCATION:Reduta\, Olomouc\, Reduta\, Olomouc\, Česká republika
CATEGORIES:Koncert
ATTACH;FMTTYPE=image/jpeg:https://kulturniradce.cz/wp-content/uploads/2025/10/320-08d18617b5c945719bde9b928d07dca5.jpg
END:VEVENT
BEGIN:VEVENT
DTSTART;TZID=Europe/Prague:20260122T200000
DTEND;TZID=Europe/Prague:20260122T230000
DTSTAMP:20260419T201720
CREATED:20251129T062752Z
LAST-MODIFIED:20251129T062753Z
UID:6687-1769112000-1769122800@kulturniradce.cz
SUMMARY:Hudba Coldplay při svíčkách
DESCRIPTION:Hudba Coldplay při svíčkách se uskuteční dne 2026-01-22 v 20:00 v Plzeň\, Měšťanská beseda. \n🎟️ Koupit vstupenku \n\nNenechte si ujít večer plný energie a emocí\, kde zazní ty největší hity britské kapely Coldplay. Světlo stovky svíček vytvoří nezapomenutelnou atmosféru tohoto jedinečného koncertu. \nProgram v podání smyčcového kvarteta nabídne výběr těch nejznámějších skladeb Coldplay\, včetně hitů jako „Fix You“\, „Yellow“ či „Viva La Vida“\, které si získaly srdce fanoušků po celém světě. \nTento koncert přinese víc než jen hudbu; stovky svíček rozzáří prostor a vytvoří atmosféru plnou emocí\, melancholie a nezapomenutelných melodií\, které vás vezmou na hudební cestu s Coldplay. \nAkce je přístupná od 12 let. Každý účastník musí předložit platnou vstupenku  zakoupenou výhradně v síti SMS ticket. \n\nTento tip na kulturní akci v Plzeň najdete v přehledu na KulturníRádce.cz spolu s dalšími koncerty\, festivaly a divadelními představeními.
URL:https://kulturniradce.cz/event/hudba-coldplay-pri-svickach-12/
LOCATION:Měšťanská beseda\, Plzeň\, Měšťanská beseda\, Plzeň\, Česká republika
CATEGORIES:Koncert
ATTACH;FMTTYPE=image/jpeg:https://kulturniradce.cz/wp-content/uploads/2025/11/320-ab69067e76424d3a9259f56ab341ae61.jpg
END:VEVENT
END:VCALENDAR