BEGIN:VCALENDAR
VERSION:2.0
PRODID:-//www.kulturniradce.cz - ECPv6.15.20//NONSGML v1.0//EN
CALSCALE:GREGORIAN
METHOD:PUBLISH
X-WR-CALNAME:www.kulturniradce.cz
X-ORIGINAL-URL:https://kulturniradce.cz
X-WR-CALDESC:Akce na www.kulturniradce.cz
REFRESH-INTERVAL;VALUE=DURATION:PT1H
X-Robots-Tag:noindex
X-PUBLISHED-TTL:PT1H
BEGIN:VTIMEZONE
TZID:Europe/Prague
BEGIN:DAYLIGHT
TZOFFSETFROM:+0100
TZOFFSETTO:+0200
TZNAME:CEST
DTSTART:20250330T010000
END:DAYLIGHT
BEGIN:STANDARD
TZOFFSETFROM:+0200
TZOFFSETTO:+0100
TZNAME:CET
DTSTART:20251026T010000
END:STANDARD
BEGIN:DAYLIGHT
TZOFFSETFROM:+0100
TZOFFSETTO:+0200
TZNAME:CEST
DTSTART:20260329T010000
END:DAYLIGHT
BEGIN:STANDARD
TZOFFSETFROM:+0200
TZOFFSETTO:+0100
TZNAME:CET
DTSTART:20261025T010000
END:STANDARD
BEGIN:DAYLIGHT
TZOFFSETFROM:+0100
TZOFFSETTO:+0200
TZNAME:CEST
DTSTART:20270328T010000
END:DAYLIGHT
BEGIN:STANDARD
TZOFFSETFROM:+0200
TZOFFSETTO:+0100
TZNAME:CET
DTSTART:20271031T010000
END:STANDARD
END:VTIMEZONE
BEGIN:VEVENT
DTSTART;TZID=Europe/Prague:20260131T180000
DTEND;TZID=Europe/Prague:20260131T210000
DTSTAMP:20260419T185100
CREATED:20260124T191803Z
LAST-MODIFIED:20260124T191803Z
UID:9624-1769882400-1769893200@kulturniradce.cz
SUMMARY:Novoroční koncert klasické hudby - Daniela a Adam Grygarovi
DESCRIPTION:Novoroční koncert klasické hudby – Daniela a Adam Grygarovi se uskuteční dne 2026-01-31 v 18:00 v Horní Bečva\, Obecní dům. \n🎟️ Koupit vstupenku \n\nNovoroční koncert klasické hudby \n31. 1. 2026\, 18:00\, Obecní dům Horní Bečva \nDaniela Grygarová – housle \nAdam Grygar – klavír \nNa programu: \nVirtuózní a filmové melodie: ABBA\, Brahms\, Cohen\, Dvořák\, Monti\, Morricone\, Paganini\, Sarasate\, Svoboda\, Williams a další. \n\nTento tip na kulturní akci v Horní Bečva najdete v přehledu na KulturníRádce.cz spolu s dalšími koncerty\, festivaly a divadelními představeními.
URL:https://kulturniradce.cz/event/novorocni-koncert-klasicke-hudby-daniela-a-adam-grygarovi/
LOCATION:Obecní dům\, Horní Bečva\, Obecní dům\, Horní Bečva\, Česká republika
CATEGORIES:Koncert
ATTACH;FMTTYPE=image/jpeg:https://kulturniradce.cz/wp-content/uploads/2026/01/320-f1a65a8a9a5b43f3863cadc6a0fff40d.jpg
END:VEVENT
END:VCALENDAR