BEGIN:VCALENDAR
VERSION:2.0
PRODID:-//www.kulturniradce.cz - ECPv6.15.20//NONSGML v1.0//EN
CALSCALE:GREGORIAN
METHOD:PUBLISH
X-WR-CALNAME:www.kulturniradce.cz
X-ORIGINAL-URL:https://kulturniradce.cz
X-WR-CALDESC:Akce na www.kulturniradce.cz
REFRESH-INTERVAL;VALUE=DURATION:PT1H
X-Robots-Tag:noindex
X-PUBLISHED-TTL:PT1H
BEGIN:VTIMEZONE
TZID:Europe/Prague
BEGIN:DAYLIGHT
TZOFFSETFROM:+0100
TZOFFSETTO:+0200
TZNAME:CEST
DTSTART:20250330T010000
END:DAYLIGHT
BEGIN:STANDARD
TZOFFSETFROM:+0200
TZOFFSETTO:+0100
TZNAME:CET
DTSTART:20251026T010000
END:STANDARD
BEGIN:DAYLIGHT
TZOFFSETFROM:+0100
TZOFFSETTO:+0200
TZNAME:CEST
DTSTART:20260329T010000
END:DAYLIGHT
BEGIN:STANDARD
TZOFFSETFROM:+0200
TZOFFSETTO:+0100
TZNAME:CET
DTSTART:20261025T010000
END:STANDARD
BEGIN:DAYLIGHT
TZOFFSETFROM:+0100
TZOFFSETTO:+0200
TZNAME:CEST
DTSTART:20270328T010000
END:DAYLIGHT
BEGIN:STANDARD
TZOFFSETFROM:+0200
TZOFFSETTO:+0100
TZNAME:CET
DTSTART:20271031T010000
END:STANDARD
END:VTIMEZONE
BEGIN:VEVENT
DTSTART;TZID=Europe/Prague:20260211T190000
DTEND;TZID=Europe/Prague:20260211T220000
DTSTAMP:20260419T185111
CREATED:20251207T080621Z
LAST-MODIFIED:20251207T080622Z
UID:7039-1770836400-1770847200@kulturniradce.cz
SUMMARY:Hudba Coldplay při svíčkách
DESCRIPTION:Hudba Coldplay při svíčkách se uskuteční dne 2026-02-11 v 19:00 v Blansko\, Dělnický dům. \n🎟️ Koupit vstupenku \n\nNenechte si ujít večer plný energie a emocí\, kde zazní ty největší hity britské kapely Coldplay. Světlo stovky svíček vytvoří nezapomenutelnou atmosféru tohoto jedinečného koncertu. \nProgram v podání smyčcového kvarteta nabídne výběr těch nejznámějších skladeb Coldplay\, včetně hitů jako „Fix You“\, „Yellow“ či „Viva La Vida“\, které si získaly srdce fanoušků po celém světě. \nTento koncert přinese víc než jen hudbu; stovky svíček rozzáří prostor a vytvoří atmosféru plnou emocí\, melancholie a nezapomenutelných melodií\, které vás vezmou na hudební cestu s Coldplay. \nAkce je přístupná od 12 let. Každý účastník musí předložit platnou vstupenku  zakoupenou výhradně v síti SMS ticket. \n\nTento tip na kulturní akci v Blansko najdete v přehledu na KulturníRádce.cz spolu s dalšími koncerty\, festivaly a divadelními představeními.
URL:https://kulturniradce.cz/event/hudba-coldplay-pri-svickach-14/
LOCATION:Dělnický dům\, Blansko\, Dělnický dům\, Blansko\, Česká republika
CATEGORIES:Koncert
ATTACH;FMTTYPE=image/jpeg:https://kulturniradce.cz/wp-content/uploads/2025/12/320-03258f134eda440b93ad5d23b67ace05.jpg
END:VEVENT
BEGIN:VEVENT
DTSTART;TZID=Europe/Prague:20260211T190000
DTEND;TZID=Europe/Prague:20260211T220000
DTSTAMP:20260419T185111
CREATED:20251214T072756Z
LAST-MODIFIED:20251214T072756Z
UID:8137-1770836400-1770847200@kulturniradce.cz
SUMMARY:Ludovico Einaudi Music | Kuřim
DESCRIPTION:Ludovico Einaudi Music | Kuřim se uskuteční dne 2026-02-11 v 19:00 v Kuřim\, Společenské a kulturní centrum. \n🎟️ Koupit vstupenku \n\nNenechte si ujít nezapomenutelný večer krásné hudby\, kde zazní melodie jednoho z nejlepších pianistů a skladatelů na světe\, Ludovica Einaudiho v podání přední české klavíristky Lucie Kubátové. \nEinaudi je známý svými jednoduchými\, ale strašidelně krásnými minimalistickými díly pro klavír a ohromující filmovou hudbou. Za téměř třicet let své činnosti vydal řadu alb\, která se dostala na přední příčky poslechovosti\, vyprodává nejprestižnější koncertní sály po celém světě a jeho hudba zazněla v mnoha slavných filmech (Nedotknutelní\, Doktor Živago\, To je Anglie\, Nomadland a další). \nTento jedinečný koncert nabídne více než jen hudbu. Symfonie třpytivých svíček rozsvítí celý prostor a přidá na mystičnu a kouzlu večera. Každá svíčka přispěje k vytvoření kouzelného prostředí\, které dokonale doplní hudební zážitek. \nV rámci Evropské tour alternují také: Miroslav Beinhauer\, František Panáček a Alexand Starý.  \nAkce je přístupná od 12 let. Každý účastník musí předložit platnou vstupenku  zakoupenou výhradně v síti smsticket. \n\nTento tip na kulturní akci v Kuřim najdete v přehledu na KulturníRádce.cz spolu s dalšími koncerty\, festivaly a divadelními představeními.
URL:https://kulturniradce.cz/event/ludovico-einaudi-music-kurim/
LOCATION:Společenské a kulturní centrum\, Kuřim\, Společenské a kulturní centrum\, Kuřim\, Česká republika
CATEGORIES:Koncert
ATTACH;FMTTYPE=image/jpeg:https://kulturniradce.cz/wp-content/uploads/2025/12/320-fb4d7ca4e8254f56b8daeff36a6091ff.jpg
END:VEVENT
BEGIN:VEVENT
DTSTART;TZID=Europe/Prague:20260211T190000
DTEND;TZID=Europe/Prague:20260211T220000
DTSTAMP:20260419T185111
CREATED:20260130T151748Z
LAST-MODIFIED:20260130T151748Z
UID:10024-1770836400-1770847200@kulturniradce.cz
SUMMARY:Will Wilde (UK) & The Bladderstones (CZ)
DESCRIPTION:Will Wilde (UK) & The Bladderstones (CZ) se uskuteční dne 2026-02-11 v 19:00 v Znojmo\, Sklepení U císaře Zikmunda. \n🎟️ Koupit vstupenku \n\nOpravdové bluesové eso z Velké Británie. Díky svému unikátnímu ladění bluesové harmoniky je zpěvák Will Wilde jedním z nejosobitějších britských umělců. Jeho styl čerpá ze hry Jimmyho Page\, Ritchieho Blackmorea či Sonnyho Boye Williamsona\, a pro fanouška klasického blues může být překvapením\, ovšem příjemným. Nepropásněte jedinečnou šanci vidět účastníka legendárního festivalu Legendary Rhythm & Blues Cruise v doprovodu českého art-bluesového tria The Bladderstones! \nÚčinkující: \nWill Wilde (UK) – zpěv\, kytara\, harmonikaTomáš Frolík – kytara\, zpěvJohnny Judl – baskytara\, zpěvMichael Nosek – bicí\, zpěv \n\nTento tip na kulturní akci v Znojmo najdete v přehledu na KulturníRádce.cz spolu s dalšími koncerty\, festivaly a divadelními představeními.
URL:https://kulturniradce.cz/event/will-wilde-uk-the-bladderstones-cz/
LOCATION:Sklepení U císaře Zikmunda\, Znojmo\, Sklepení U císaře Zikmunda\, Znojmo\, Česká republika
CATEGORIES:Festival
ATTACH;FMTTYPE=image/jpeg:https://kulturniradce.cz/wp-content/uploads/2026/01/320-44ac993db6984449a85915bcd13af1b6.jpg
END:VEVENT
BEGIN:VEVENT
DTSTART;TZID=Europe/Prague:20260211T200000
DTEND;TZID=Europe/Prague:20260211T230000
DTSTAMP:20260419T185111
CREATED:20251002T084029Z
LAST-MODIFIED:20251002T084030Z
UID:3837-1770840000-1770850800@kulturniradce.cz
SUMMARY:Souboj Klavírů v Ostravě
DESCRIPTION:Souboj Klavírů v Ostravě se uskuteční dne 2026-02-11 v 20:00 v Ostrava\, Multifunkční aula Gong. \n🎟️ Koupit vstupenku \n\nZveme vás na jedinečný koncert dvou výjimečných klavíristů a hudebních skladatelů – Ondřeje Brzobohatého a Ondřeje Brouska! Tito celoživotní přátelé spojí své hudební mistrovství na pódiu Multifunkční auly Gong v Ostravě! Přijďte si užít večer plný virtuózní klavírní hry a nezapomenutelných melodií! \nJak by zněla „Osudová“\, kdyby byl Beethoven optimista? Proč pláčeme při banálním filmovém dialogu? Co je to „nevhodná“ hudba? Že se u klasické hudby nedá pořádně zasmát? Může mít „Souboj klavírů“ vítěze? \nNa tyto otázky vám stylově odpoví duo Brousek – Brzobohatý\, které připravilo nezapomenutelný večer plný hudebních vtipů s dvěma klavíry. \n\nTento tip na kulturní akci v Ostrava najdete v přehledu na KulturníRádce.cz spolu s dalšími koncerty\, festivaly a divadelními představeními.
URL:https://kulturniradce.cz/event/souboj-klaviru-v-ostrave/
LOCATION:Multifunkční aula Gong\, Ostrava\, Multifunkční aula Gong\, Ostrava\, Česká republika
CATEGORIES:Koncert
ATTACH;FMTTYPE=image/jpeg:https://kulturniradce.cz/wp-content/uploads/2025/10/320-0d9db9aa4f604f969cd2cc4b63719bd1.jpg
END:VEVENT
END:VCALENDAR