BEGIN:VCALENDAR
VERSION:2.0
PRODID:-//www.kulturniradce.cz - ECPv6.15.20//NONSGML v1.0//EN
CALSCALE:GREGORIAN
METHOD:PUBLISH
X-WR-CALNAME:www.kulturniradce.cz
X-ORIGINAL-URL:https://kulturniradce.cz
X-WR-CALDESC:Akce na www.kulturniradce.cz
REFRESH-INTERVAL;VALUE=DURATION:PT1H
X-Robots-Tag:noindex
X-PUBLISHED-TTL:PT1H
BEGIN:VTIMEZONE
TZID:Europe/Prague
BEGIN:DAYLIGHT
TZOFFSETFROM:+0100
TZOFFSETTO:+0200
TZNAME:CEST
DTSTART:20250330T010000
END:DAYLIGHT
BEGIN:STANDARD
TZOFFSETFROM:+0200
TZOFFSETTO:+0100
TZNAME:CET
DTSTART:20251026T010000
END:STANDARD
BEGIN:DAYLIGHT
TZOFFSETFROM:+0100
TZOFFSETTO:+0200
TZNAME:CEST
DTSTART:20260329T010000
END:DAYLIGHT
BEGIN:STANDARD
TZOFFSETFROM:+0200
TZOFFSETTO:+0100
TZNAME:CET
DTSTART:20261025T010000
END:STANDARD
BEGIN:DAYLIGHT
TZOFFSETFROM:+0100
TZOFFSETTO:+0200
TZNAME:CEST
DTSTART:20270328T010000
END:DAYLIGHT
BEGIN:STANDARD
TZOFFSETFROM:+0200
TZOFFSETTO:+0100
TZNAME:CET
DTSTART:20271031T010000
END:STANDARD
END:VTIMEZONE
BEGIN:VEVENT
DTSTART;TZID=Europe/Prague:20260215T000000
DTEND;TZID=Europe/Prague:20260215T030000
DTSTAMP:20260419T185109
CREATED:20260208T142858Z
LAST-MODIFIED:20260208T142859Z
UID:10604-1771113600-1771124400@kulturniradce.cz
SUMMARY:6 večerů s Mozartem - hud. festival „Poklady klasické hudby”
DESCRIPTION:6 večerů s Mozartem – hud. festival „Poklady klasické hudby” se uskuteční dne 2026-02-15 v 00:00 v Praha\, Gymnázium a Hudební škola hl.města Prahy. \n🎟️ Koupit vstupenku \n\n**6 KOMORNÍCH VEČERŮ S MOZARTEM** \nJedinečný cyklus k 270. výročí narození W. A. Mozarta \nNeděle od 17 hod. na Gymnáziu a Hudební škole hl.města Prahy (Komenského nám.400/9\, Praha 3) \n  \n**INTERPRETI:** \nMarie Magdalena Fuxová – housle \nJoanna Jimin Lee – klavír \nZávěrečný koncert: Anna Paulová – klarinet & Pražákovo kvarteto \n  \n**PROGRAM:** \n  \n**1. KONCERT – 15.2.2026: „Mladý Mozart na cestách“** \nMannheimsko-pařížský cyklus sonát \n– Sonáta C dur\, KV 296 \n– Sonáta G dur\, KV 301 \n– Sonáta Es dur\, KV 302 \n– Sonáta C dur\, KV 303 \n  \n**2. KONCERT – 8.3.2026: „Paříž 1788: světlo a stín“** \n– Sonáta e moll\, KV 304 \n– Sonáta A dur\, KV 305 \n– Sonáta D dur\, KV 306 \n  \n**3. KONCERT – 19.4.2026: „Mozart ve Vídni“** \n– Sonáta F dur\, KV 376 \n– Sonáta F dur\, KV 377 \n– Sonáta B dur\, KV 378 \n  \n**4. KONCERT – 27.9.2026: „Mozart – Génius“** \n– Sonáta G dur\, KV 379 \n– Sonáta Es dur\, KV 380 \n– Sonáta B dur\, KV 454 \n  \n**5. KONCERT – 15.11.2026: „Mozart – Mistr“** \n– Sonáta Es dur\, KV 481 \n– Sonáta A dur\, KV 526 \n– Sonáta F dur\, KV 547 \n  \n**6. KONCERT – 13.12.2026: „Mozart a 6 nálad“** \n– Smyčcový kvartet d moll\, KV 421 \n– V. Ambros – 6 nálad \n– Klarinetový kvintet A dur\, KV 581 \n  \n**MÍSTO KONÁNÍ:** \nKoncertní sál Gymnázia a Hudební školy hl. města Prahy \nKomenského náměstí 400/9\, Praha 3 \n  \n**PŘEDPRODEJ:** \nwww.smsticket.cz \nZvýhodněné předplatné celého cyklu \nZměna termínů a programu vyhrazena! \n\nTento tip na kulturní akci v Praha najdete v přehledu na KulturníRádce.cz spolu s dalšími koncerty\, festivaly a divadelními představeními.
URL:https://kulturniradce.cz/event/6-veceru-s-mozartem-hud-festival-poklady-klasicke-hudby/
LOCATION:Gymnázium a Hudební škola hl.města Prahy\, Praha\, Gymnázium a Hudební škola hl.města Prahy\, Praha\, Česká republika
CATEGORIES:Koncert
ATTACH;FMTTYPE=image/jpeg:https://kulturniradce.cz/wp-content/uploads/2026/02/320-2abfe13b294f493d99689bbef0b92ecf.jpg
END:VEVENT
END:VCALENDAR