BEGIN:VCALENDAR
VERSION:2.0
PRODID:-//www.kulturniradce.cz - ECPv6.15.20//NONSGML v1.0//EN
CALSCALE:GREGORIAN
METHOD:PUBLISH
X-WR-CALNAME:www.kulturniradce.cz
X-ORIGINAL-URL:https://kulturniradce.cz
X-WR-CALDESC:Akce na www.kulturniradce.cz
REFRESH-INTERVAL;VALUE=DURATION:PT1H
X-Robots-Tag:noindex
X-PUBLISHED-TTL:PT1H
BEGIN:VTIMEZONE
TZID:Europe/Prague
BEGIN:DAYLIGHT
TZOFFSETFROM:+0100
TZOFFSETTO:+0200
TZNAME:CEST
DTSTART:20250330T010000
END:DAYLIGHT
BEGIN:STANDARD
TZOFFSETFROM:+0200
TZOFFSETTO:+0100
TZNAME:CET
DTSTART:20251026T010000
END:STANDARD
BEGIN:DAYLIGHT
TZOFFSETFROM:+0100
TZOFFSETTO:+0200
TZNAME:CEST
DTSTART:20260329T010000
END:DAYLIGHT
BEGIN:STANDARD
TZOFFSETFROM:+0200
TZOFFSETTO:+0100
TZNAME:CET
DTSTART:20261025T010000
END:STANDARD
BEGIN:DAYLIGHT
TZOFFSETFROM:+0100
TZOFFSETTO:+0200
TZNAME:CEST
DTSTART:20270328T010000
END:DAYLIGHT
BEGIN:STANDARD
TZOFFSETFROM:+0200
TZOFFSETTO:+0100
TZNAME:CET
DTSTART:20271031T010000
END:STANDARD
END:VTIMEZONE
BEGIN:VEVENT
DTSTART;TZID=Europe/Prague:20260221T190000
DTEND;TZID=Europe/Prague:20260221T220000
DTSTAMP:20260419T185057
CREATED:20251209T192911Z
LAST-MODIFIED:20251209T192912Z
UID:7711-1771700400-1771711200@kulturniradce.cz
SUMMARY:Hudba Ennia Morriconeho při svíčkách
DESCRIPTION:Hudba Ennia Morriconeho při svíčkách se uskuteční dne 2026-02-21 v 19:00 v Pardubice\, Sukova síň Domu hudby. \n🎟️ Koupit vstupenku \n\nKoncert filmové hudby Ennia Morriconeho při svíčkách v Pardubicích! \nTěšte se na neopakovatelnou atmosféru koncertní síně naplněné očekáváním\, kde vás zvuky smyčcových nástrojů provedou emocemi Morriconeho mistrovských děl. V tomto podání kvartetu zažijete napětí\, melancholii\, ale i radost\, jak je zachytil Morricone ve svých nejslavnějších filmových skladbách z legendárních snímků jako Tenkrát na Západě\, Hodný\, zlý a ošklivý\, Osm hrozných\, Neúplatní\, Profesionál a mnoho dalších.. \nTento koncert nabídne víc než jen hudbu. Sál ozáří stovky svíček\, které vytvoří magickou atmosféru a dokonale doplní Morriconeho nadčasové skladby. Spojení hudby a světla zajistí nezapomenutelný večer plný emocí. \nAkce je přístupná od 12 let. Každý účastník musí předložit platnou vstupenku  zakoupenou výhradně v síti smsticket. \n\nTento tip na kulturní akci v Pardubice najdete v přehledu na KulturníRádce.cz spolu s dalšími koncerty\, festivaly a divadelními představeními.
URL:https://kulturniradce.cz/event/hudba-ennia-morriconeho-pri-svickach-8/
LOCATION:Sukova síň Domu hudby\, Pardubice\, Sukova síň Domu hudby\, Pardubice\, Česká republika
CATEGORIES:Koncert
ATTACH;FMTTYPE=image/jpeg:https://kulturniradce.cz/wp-content/uploads/2025/12/320-926272eb647d419991180b86eb8668b8.jpg
END:VEVENT
END:VCALENDAR