BEGIN:VCALENDAR
VERSION:2.0
PRODID:-//www.kulturniradce.cz - ECPv6.15.20//NONSGML v1.0//EN
CALSCALE:GREGORIAN
METHOD:PUBLISH
X-WR-CALNAME:www.kulturniradce.cz
X-ORIGINAL-URL:https://kulturniradce.cz
X-WR-CALDESC:Akce na www.kulturniradce.cz
REFRESH-INTERVAL;VALUE=DURATION:PT1H
X-Robots-Tag:noindex
X-PUBLISHED-TTL:PT1H
BEGIN:VTIMEZONE
TZID:Europe/Prague
BEGIN:DAYLIGHT
TZOFFSETFROM:+0100
TZOFFSETTO:+0200
TZNAME:CEST
DTSTART:20250330T010000
END:DAYLIGHT
BEGIN:STANDARD
TZOFFSETFROM:+0200
TZOFFSETTO:+0100
TZNAME:CET
DTSTART:20251026T010000
END:STANDARD
BEGIN:DAYLIGHT
TZOFFSETFROM:+0100
TZOFFSETTO:+0200
TZNAME:CEST
DTSTART:20260329T010000
END:DAYLIGHT
BEGIN:STANDARD
TZOFFSETFROM:+0200
TZOFFSETTO:+0100
TZNAME:CET
DTSTART:20261025T010000
END:STANDARD
BEGIN:DAYLIGHT
TZOFFSETFROM:+0100
TZOFFSETTO:+0200
TZNAME:CEST
DTSTART:20270328T010000
END:DAYLIGHT
BEGIN:STANDARD
TZOFFSETFROM:+0200
TZOFFSETTO:+0100
TZNAME:CET
DTSTART:20271031T010000
END:STANDARD
END:VTIMEZONE
BEGIN:VEVENT
DTSTART;TZID=Europe/Prague:20260225T190000
DTEND;TZID=Europe/Prague:20260225T220000
DTSTAMP:20260419T172230
CREATED:20251129T065624Z
LAST-MODIFIED:20251129T065624Z
UID:6730-1772046000-1772056800@kulturniradce.cz
SUMMARY:Filmová hudba Hanse Zimmera při svíčkách
DESCRIPTION:Filmová hudba Hanse Zimmera při svíčkách se uskuteční dne 2026-02-25 v 19:00 v Havlíčkův Brod\, Městské divadlo a kino Ostrov. \n🎟️ Koupit vstupenku \n\nKoncert filmové hudby Hanse Zimmera při svíčkách! \nNenechte si ujít nezapomenutelný večer plný nejkrásnější filmové hudby\, během kterého zazní melodie jednoho z nejvýznamnějších skladatelů filmové hudby na světě\, Hanse Zimmera\, v podání mezinárodně uznávaného pianisty Alexandra Starého. Záře stovek svíček vytvoří nezapomenutelnou atmosféru koncertu. \nHans Zimmer je známý svou emocionální a dojemnou filmovou hudbou\, která dokonale podtrhuje děj na plátně. Během své téměř čtyřicetileté kariéry vytvořil ikonické soundtracky k mnoha slavným filmům\, jako jsou Gladiátor\, Počátek\, Interstellar\, Piráti z Karibiku\, Lví král a mnoho dalších. Jeho kompozice si získaly srdce milionů fanoušků po celém světě a jeho koncerty vyprodávají nejprestižnější koncertní sály. \nTento výjimečný koncert nabízí mnohem více než jen hudbu. Stovky mihotajících se svíček rozzáří celý prostor a vytvoří tajemnou a magickou atmosféru. Každá z nich přispěje k vytvoření nezapomenutelného hudebního zážitku. \nV rámci Evropské tour alternují také: František Panáček a Lucie Kubátová.  \nAkce je přístupná od 12 let. Každý účastník musí předložit platnou vstupenku  zakoupenou výhradně v síti smsticket. \n\nTento tip na kulturní akci v Havlíčkův Brod najdete v přehledu na KulturníRádce.cz spolu s dalšími koncerty\, festivaly a divadelními představeními.
URL:https://kulturniradce.cz/event/filmova-hudba-hanse-zimmera-pri-svickach-9/
LOCATION:Městské divadlo a kino Ostrov\, Havlíčkův Brod\, Městské divadlo a kino Ostrov\, Havlíčkův Brod\, Česká republika
CATEGORIES:Koncert
ATTACH;FMTTYPE=image/jpeg:https://kulturniradce.cz/wp-content/uploads/2025/11/320-90e373e34dad4ad5870148d0162aabd9.jpg
END:VEVENT
BEGIN:VEVENT
DTSTART;TZID=Europe/Prague:20260225T200000
DTEND;TZID=Europe/Prague:20260225T230000
DTSTAMP:20260419T172230
CREATED:20251002T084143Z
LAST-MODIFIED:20251002T084143Z
UID:3867-1772049600-1772060400@kulturniradce.cz
SUMMARY:Souboj Klavírů v Neratovicích
DESCRIPTION:Souboj Klavírů v Neratovicích se uskuteční dne 2026-02-25 v 20:00 v Neratovice\, Společenský dům. \n🎟️ Koupit vstupenku \n\nZveme vás na jedinečný koncert dvou výjimečných klavíristů a hudebních skladatelů – Ondřeje Brzobohatého a Ondřeje Brouska! Tito celoživotní přátelé spojí své hudební mistrovství na pódiu ve Společenském domě v Neratovicích! Přijďte si užít večer plný virtuózní klavírní hry a nezapomenutelných melodií! \nJak by zněla „Osudová“\, kdyby byl Beethoven optimista? Proč pláčeme při banálním filmovém dialogu? Co je to „nevhodná“ hudba? Že se u klasické hudby nedá pořádně zasmát? Může mít „Souboj klavírů“ vítěze? \nNa tyto otázky vám stylově odpoví duo Brousek – Brzobohatý\, které připravilo nezapomenutelný večer plný hudebních vtipů s dvěma klavíry. \n\nTento tip na kulturní akci v Neratovice najdete v přehledu na KulturníRádce.cz spolu s dalšími koncerty\, festivaly a divadelními představeními.
URL:https://kulturniradce.cz/event/souboj-klaviru-v-neratovicich/
LOCATION:Společenský dům\, Neratovice\, Společenský dům\, Neratovice\, Česká republika
CATEGORIES:Koncert
ATTACH;FMTTYPE=image/jpeg:https://kulturniradce.cz/wp-content/uploads/2025/10/320-28efb445b0a248aabc14b9153eaf3091.jpg
END:VEVENT
BEGIN:VEVENT
DTSTART;TZID=Europe/Prague:20260225T200000
DTEND;TZID=Europe/Prague:20260225T230000
DTSTAMP:20260419T172230
CREATED:20260103T095711Z
LAST-MODIFIED:20260103T095712Z
UID:8838-1772049600-1772060400@kulturniradce.cz
SUMMARY:Souboj Klavírů v Neratovicích
DESCRIPTION:Souboj Klavírů v Neratovicích se uskuteční dne 2026-02-25 v 20:00 v Neratovice\, Společenský dům. \n🎟️ Koupit vstupenku \n\nZveme vás na jedinečný koncert dvou výjimečných klavíristů a hudebních skladatelů – Ondřeje Brzobohatého a Ondřeje Brouska! Tito celoživotní přátelé spojí své hudební mistrovství na pódiu ve Společenském domě v Neratovicích! Přijďte si užít večer plný virtuózní klavírní hry a nezapomenutelných melodií! \nJak by zněla „Osudová“\, kdyby byl Beethoven optimista? Proč pláčeme při banálním filmovém dialogu? Co je to „nevhodná“ hudba? Že se u klasické hudby nedá pořádně zasmát? Může mít „Souboj klavírů“ vítěze? \nNa tyto otázky vám stylově odpoví duo Brousek – Brzobohatý\, které připravilo nezapomenutelný večer plný hudebních vtipů s dvěma klavíry. \n\nTento tip na kulturní akci v Neratovice najdete v přehledu na KulturníRádce.cz spolu s dalšími koncerty\, festivaly a divadelními představeními.
URL:https://kulturniradce.cz/event/souboj-klaviru-v-neratovicich-2/
LOCATION:Společenský dům\, Neratovice\, Společenský dům\, Neratovice\, Česká republika
CATEGORIES:Koncert
ATTACH;FMTTYPE=image/jpeg:https://kulturniradce.cz/wp-content/uploads/2026/01/320-d9cf4bf7c14c4cbfacf3482a880a0ee0.jpg
END:VEVENT
END:VCALENDAR