BEGIN:VCALENDAR
VERSION:2.0
PRODID:-//www.kulturniradce.cz - ECPv6.15.20//NONSGML v1.0//EN
CALSCALE:GREGORIAN
METHOD:PUBLISH
X-ORIGINAL-URL:https://kulturniradce.cz
X-WR-CALDESC:Akce na www.kulturniradce.cz
REFRESH-INTERVAL;VALUE=DURATION:PT1H
X-Robots-Tag:noindex
X-PUBLISHED-TTL:PT1H
BEGIN:VTIMEZONE
TZID:Europe/Prague
BEGIN:DAYLIGHT
TZOFFSETFROM:+0100
TZOFFSETTO:+0200
TZNAME:CEST
DTSTART:20250330T010000
END:DAYLIGHT
BEGIN:STANDARD
TZOFFSETFROM:+0200
TZOFFSETTO:+0100
TZNAME:CET
DTSTART:20251026T010000
END:STANDARD
BEGIN:DAYLIGHT
TZOFFSETFROM:+0100
TZOFFSETTO:+0200
TZNAME:CEST
DTSTART:20260329T010000
END:DAYLIGHT
BEGIN:STANDARD
TZOFFSETFROM:+0200
TZOFFSETTO:+0100
TZNAME:CET
DTSTART:20261025T010000
END:STANDARD
BEGIN:DAYLIGHT
TZOFFSETFROM:+0100
TZOFFSETTO:+0200
TZNAME:CEST
DTSTART:20270328T010000
END:DAYLIGHT
BEGIN:STANDARD
TZOFFSETFROM:+0200
TZOFFSETTO:+0100
TZNAME:CET
DTSTART:20271031T010000
END:STANDARD
END:VTIMEZONE
BEGIN:VEVENT
DTSTART;TZID=Europe/Prague:20260302T190000
DTEND;TZID=Europe/Prague:20260302T220000
DTSTAMP:20260419T172351
CREATED:20251209T185340Z
LAST-MODIFIED:20251209T185341Z
UID:7360-1772478000-1772488800@kulturniradce.cz
SUMMARY:Hudba Bridgerton při svíčkách
DESCRIPTION:Hudba Bridgerton při svíčkách se uskuteční dne 2026-03-02 v 19:00 v Kadaň\, KZ Orfeum. \n🎟️ Koupit vstupenku \n\nNenechte si ujít večer plný romantiky a elegance\, kde zazní ty nejznámější melodie a písně z oblíbeného seriálu Bridgerton. Světlo stovky svíček vytvoří okouzlující atmosféru koncertu. \nProgram v jedinečném provedení smyčcového kvarteta představí výběr hudebních skladeb z tohoto populárního seriálu\, inspirovaných klasickými díly i moderními popovými melodiemi\, které si získaly srdce diváků po celém světě. \nTento koncert nabídne víc než jen hudbu; stovky svíček rozzáří prostor a vytvoří atmosféru plnou noblesy\, romantiky a neodolatelného kouzla historické doby. \nAkce je přístupná od 12 let. Každý účastník musí předložit platnou vstupenku  zakoupenou výhradně v síti SMS ticket. \n\nTento tip na kulturní akci v Kadaň najdete v přehledu na KulturníRádce.cz spolu s dalšími koncerty\, festivaly a divadelními představeními.
URL:https://kulturniradce.cz/event/hudba-bridgerton-pri-svickach-19/
LOCATION:KZ Orfeum\, Kadaň\, KZ Orfeum\, Kadaň\, Česká republika
CATEGORIES:Koncert
ATTACH;FMTTYPE=image/jpeg:https://kulturniradce.cz/wp-content/uploads/2025/12/320-f3c4a6c87d8f40d289d568ec4d6beb72.jpg
END:VEVENT
BEGIN:VEVENT
DTSTART;TZID=Europe/Prague:20260302T190000
DTEND;TZID=Europe/Prague:20260302T220000
DTSTAMP:20260419T172351
CREATED:20260219T174801Z
LAST-MODIFIED:20260219T174802Z
UID:11334-1772478000-1772488800@kulturniradce.cz
SUMMARY:Filmová hudba Hanse Zimmera při svíčkách
DESCRIPTION:Filmová hudba Hanse Zimmera při svíčkách se uskuteční dne 2026-03-02 v 19:00 v Frýdek-Místek\, Národní dům. \n🎟️ Koupit vstupenku \n\nKoncert filmové hudby Hanse Zimmera při svíčkách! \nNenechte si ujít nezapomenutelný večer plný nejkrásnější filmové hudby\, během kterého zazní melodie jednoho z nejvýznamnějších skladatelů filmové hudby na světě\, Hanse Zimmera\, v podání mezinárodně uznávané pianistky Lucie Kubátové. Záře stovek svíček vytvoří nezapomenutelnou atmosféru koncertu. \nHans Zimmer je známý svou emocionální a dojemnou filmovou hudbou\, která dokonale podtrhuje děj na plátně. Během své téměř čtyřicetileté kariéry vytvořil ikonické soundtracky k mnoha slavným filmům\, jako jsou Gladiátor\, Počátek\, Interstellar\, Piráti z Karibiku\, Lví král a mnoho dalších. Jeho kompozice si získaly srdce milionů fanoušků po celém světě a jeho koncerty vyprodávají nejprestižnější koncertní sály. \nTento výjimečný koncert nabízí mnohem více než jen hudbu. Stovky mihotajících se svíček rozzáří celý prostor a vytvoří tajemnou a magickou atmosféru. Každá z nich přispěje k vytvoření nezapomenutelného hudebního zážitku. \nV rámci Evropské tour alternují také: František Panáček a Alexandr Starý.  \nAkce je přístupná od 12 let. Každý účastník musí předložit platnou vstupenku  zakoupenou výhradně v síti smsticket. \n\nTento tip na kulturní akci v Frýdek-Místek najdete v přehledu na KulturníRádce.cz spolu s dalšími koncerty\, festivaly a divadelními představeními.
URL:https://kulturniradce.cz/event/filmova-hudba-hanse-zimmera-pri-svickach-12/
LOCATION:Národní dům\, Frýdek-Místek\, Národní dům\, Frýdek-Místek\, Česká republika
CATEGORIES:Koncert
ATTACH;FMTTYPE=image/jpeg:https://kulturniradce.cz/wp-content/uploads/2026/02/320-5ed55ca9af744fc6a8cb126eb4e95469.jpg
END:VEVENT
BEGIN:VEVENT
DTSTART;TZID=Europe/Prague:20260302T190000
DTEND;TZID=Europe/Prague:20260302T220000
DTSTAMP:20260419T172351
CREATED:20260227T155309Z
LAST-MODIFIED:20260227T155310Z
UID:11753-1772478000-1772488800@kulturniradce.cz
SUMMARY:1. koncert „Mozart - rané sonáty”
DESCRIPTION:1. koncert „Mozart – rané sonáty” se uskuteční dne 2026-03-02 v 19:00 v Ostrava\, City Campus – koncertní sál Ostravské univerzity. \n🎟️ Koupit vstupenku \n\n🎶 1. koncert – 2. března 2026 – 19:00 hod. \nMozartovy rané sonáty pro housle a klavír  \nSonáty KV 301\, 302\, 303\, 305\, 296 \nMarie Magdalena Fuxová – housle  \nLukáš Klánský – klavír \n  \nPodívejte se na celkové předplatné 4 koncertů\, které vyjde levněji. \nNa čtyřech koncertech v nové budově Fakulty umění Ostravské univerzity – City Campus\, která disponuje špičkovým sálem a skvělým klavírem\, zazní šestnáct houslových sonát W.A. Mozarta. Tímto projektem připomínáme 270. výročí narození skladatele v roce 2026. Sonáty provede laureátka mnoha mezinárodních soutěží\, houslistka Marie Magdalena Fuxová\, a skvělý sólista mladé generace\, klavírista Lukáš Klánský. \n  \n  \n\nTento tip na kulturní akci v Ostrava najdete v přehledu na KulturníRádce.cz spolu s dalšími koncerty\, festivaly a divadelními představeními.
URL:https://kulturniradce.cz/event/1-koncert-mozart-rane-sonaty/
LOCATION:City Campus – koncertní sál Ostravské univerzity\, Ostrava\, City Campus - koncertní sál Ostravské univerzity\, Ostrava\, Česká republika
CATEGORIES:Koncert
ATTACH;FMTTYPE=image/jpeg:https://kulturniradce.cz/wp-content/uploads/2026/02/320-21d0d535801a4e43b26c22fbcb57be7d.jpg
END:VEVENT
END:VCALENDAR